| Back to Multiple platform build/check report for BioC 3.11 | 
 | 
This page was generated on 2020-10-17 11:57:05 -0400 (Sat, 17 Oct 2020).
| TO THE DEVELOPERS/MAINTAINERS OF THE microbiomeDASim PACKAGE: Please make sure to use the following settings in order to reproduce any error or warning you see on this page. | 
| Package 1077/1905 | Hostname | OS / Arch | INSTALL | BUILD | CHECK | BUILD BIN | ||||||
| microbiomeDASim 1.2.0 Justin Williams 
 | malbec2 | Linux (Ubuntu 18.04.4 LTS) / x86_64 | OK | OK | OK |  | ||||||
| tokay2 | Windows Server 2012 R2 Standard / x64 | [ OK ] | OK | OK | OK |  | ||||||
| machv2 | macOS 10.14.6 Mojave / x86_64 | OK | OK | OK | OK |  | 
| Package: microbiomeDASim | 
| Version: 1.2.0 | 
| Command: C:\cygwin\bin\curl.exe -O https://malbec2.bioconductor.org/BBS/3.11/bioc/src/contrib/microbiomeDASim_1.2.0.tar.gz && rm -rf microbiomeDASim.buildbin-libdir && mkdir microbiomeDASim.buildbin-libdir && C:\Users\biocbuild\bbs-3.11-bioc\R\bin\R.exe CMD INSTALL --merge-multiarch --build --library=microbiomeDASim.buildbin-libdir microbiomeDASim_1.2.0.tar.gz && C:\Users\biocbuild\bbs-3.11-bioc\R\bin\R.exe CMD INSTALL microbiomeDASim_1.2.0.zip && rm microbiomeDASim_1.2.0.tar.gz microbiomeDASim_1.2.0.zip | 
| StartedAt: 2020-10-16 17:40:30 -0400 (Fri, 16 Oct 2020) | 
| EndedAt: 2020-10-16 17:41:32 -0400 (Fri, 16 Oct 2020) | 
| EllapsedTime: 61.5 seconds | 
| RetCode: 0 | 
| Status: OK | 
##############################################################################
##############################################################################
###
### Running command:
###
###   C:\cygwin\bin\curl.exe -O https://malbec2.bioconductor.org/BBS/3.11/bioc/src/contrib/microbiomeDASim_1.2.0.tar.gz && rm -rf microbiomeDASim.buildbin-libdir && mkdir microbiomeDASim.buildbin-libdir && C:\Users\biocbuild\bbs-3.11-bioc\R\bin\R.exe CMD INSTALL --merge-multiarch --build --library=microbiomeDASim.buildbin-libdir microbiomeDASim_1.2.0.tar.gz && C:\Users\biocbuild\bbs-3.11-bioc\R\bin\R.exe CMD INSTALL microbiomeDASim_1.2.0.zip && rm microbiomeDASim_1.2.0.tar.gz microbiomeDASim_1.2.0.zip
###
##############################################################################
##############################################################################
  % Total    % Received % Xferd  Average Speed   Time    Time     Time  Current
                                 Dload  Upload   Total   Spent    Left  Speed
  0     0    0     0    0     0      0      0 --:--:-- --:--:-- --:--:--     0
  0     0    0     0    0     0      0      0 --:--:-- --:--:-- --:--:--     0
100 1289k  100 1289k    0     0  10.0M      0 --:--:-- --:--:-- --:--:-- 10.5M
install for i386
* installing *source* package 'microbiomeDASim' ...
** using staged installation
** R
** inst
** byte-compile and prepare package for lazy loading
** help
*** installing help indices
  converting help for package 'microbiomeDASim'
    finding HTML links ... done
    IP_form_check                           html  
    final_output_gen                        html  
    form_beta_check                         html  
    gen_microbiome_norm_feature_check       html  
    gen_norm_microbiome                     html  
    gen_norm_microbiome_obs                 html  
    ggplot_spaghetti                        html  
    mean_trend                              html  
    mean_trend_beta_vec                     html  
    mean_trend_design_mat                   html  
    mvrnorm_corr_gen                        html  
    mvrnorm_sim                             html  
    mvrnorm_sim_obs                         html  
    sigma_corr_function                     html  
    simulate2MRexperiment                   html  
    finding level-2 HTML links ... done
    simulate2phyloseq                       html  
    timepoint_process                       html  
    trunc_bugs                              html  
** building package indices
** installing vignettes
** testing if installed package can be loaded from temporary location
** testing if installed package can be loaded from final location
** testing if installed package keeps a record of temporary installation path
install for x64
* installing *source* package 'microbiomeDASim' ...
** testing if installed package can be loaded
* MD5 sums
packaged installation of 'microbiomeDASim' as microbiomeDASim_1.2.0.zip
* DONE (microbiomeDASim)
* installing to library 'C:/Users/biocbuild/bbs-3.11-bioc/R/library'
package 'microbiomeDASim' successfully unpacked and MD5 sums checked