Back to Multiple platform build/check report for BioC 3.11
ABCDEFGHIJKL[M]NOPQRSTUVWXYZ

BUILD BIN report for methyvim on tokay2

This page was generated on 2020-06-07 15:21:14 -0400 (Sun, 07 Jun 2020).

TO THE DEVELOPERS/MAINTAINERS OF THE methyvim PACKAGE: Please make sure to use the following settings in order to reproduce any error or warning you see on this page.
Package 1067/1905HostnameOS / ArchINSTALLBUILDCHECKBUILD BIN
methyvim 1.10.0
Nima Hejazi
Snapshot Date: 2020-06-06 16:50:24 -0400 (Sat, 06 Jun 2020)
URL: https://git.bioconductor.org/packages/methyvim
Branch: RELEASE_3_11
Last Commit: 9bcf5ef
Last Changed Date: 2020-04-27 15:11:00 -0400 (Mon, 27 Apr 2020)
malbec2 Linux (Ubuntu 18.04.4 LTS) / x86_64  OK  OK  OK UNNEEDED, same version exists in internal repository
tokay2 Windows Server 2012 R2 Standard / x64  OK  OK  WARNINGS [ OK ]UNNEEDED, same version exists in internal repository
machv2 macOS 10.14.6 Mojave / x86_64  OK  OK  OK  OK UNNEEDED, same version exists in internal repository

Summary

Package: methyvim
Version: 1.10.0
Command: rm -rf methyvim.buildbin-libdir && mkdir methyvim.buildbin-libdir && C:\Users\biocbuild\bbs-3.11-bioc\R\bin\R.exe CMD INSTALL --merge-multiarch --build --library=methyvim.buildbin-libdir methyvim_1.10.0.tar.gz
StartedAt: 2020-06-07 13:42:05 -0400 (Sun, 07 Jun 2020)
EndedAt: 2020-06-07 13:43:02 -0400 (Sun, 07 Jun 2020)
EllapsedTime: 57.0 seconds
RetCode: 0
Status:  OK  
PackageFile: methyvim_1.10.0.zip
PackageFileSize: 597.4 KiB

Command output

##############################################################################
##############################################################################
###
### Running command:
###
###   rm -rf methyvim.buildbin-libdir && mkdir methyvim.buildbin-libdir && C:\Users\biocbuild\bbs-3.11-bioc\R\bin\R.exe CMD INSTALL --merge-multiarch --build --library=methyvim.buildbin-libdir methyvim_1.10.0.tar.gz
###
##############################################################################
##############################################################################



install for i386

* installing *source* package 'methyvim' ...
** using staged installation
** R
** inst
** byte-compile and prepare package for lazy loading
** help
*** installing help indices
  converting help for package 'methyvim'
    finding HTML links ... done
    cluster_sites                           html  
    fdr_msa                                 html  
    force_positivity                        html  
    limma_screen                            html  
    methyheat                               html  
    methytmle-class                         html  
    methyvim                                html  
Rd warning: C:/Users/biocbuild/bbs-3.11-bioc/tmpdir/RtmpE1dtlg/R.INSTALL2f987ec97f21/methyvim/man/methyvim.Rd:31: file link 'GenomicRatioSet' in package 'minfi' does not exist and so has been treated as a topic
Rd warning: C:/Users/biocbuild/bbs-3.11-bioc/tmpdir/RtmpE1dtlg/R.INSTALL2f987ec97f21/methyvim/man/methyvim.Rd:53: file link 'getBeta' in package 'minfi' does not exist and so has been treated as a topic
Rd warning: C:/Users/biocbuild/bbs-3.11-bioc/tmpdir/RtmpE1dtlg/R.INSTALL2f987ec97f21/methyvim/man/methyvim.Rd:54: file link 'getM' in package 'minfi' does not exist and so has been treated as a topic
    methyvim_tmle                           html  
Rd warning: C:/Users/biocbuild/bbs-3.11-bioc/tmpdir/RtmpE1dtlg/R.INSTALL2f987ec97f21/methyvim/man/methyvim_tmle.Rd:34: file link 'getBeta' in package 'minfi' does not exist and so has been treated as a topic
Rd warning: C:/Users/biocbuild/bbs-3.11-bioc/tmpdir/RtmpE1dtlg/R.INSTALL2f987ec97f21/methyvim/man/methyvim_tmle.Rd:35: file link 'getM' in package 'minfi' does not exist and so has been treated as a topic
    methyvolc                               html  
    plot.methytmle                          html  
    set_parallel                            html  
    wrap_in_try                             html  
** building package indices
** installing vignettes
** testing if installed package can be loaded from temporary location
** testing if installed package can be loaded from final location
** testing if installed package keeps a record of temporary installation path

install for x64

* installing *source* package 'methyvim' ...
** testing if installed package can be loaded
* MD5 sums
packaged installation of 'methyvim' as methyvim_1.10.0.zip
* DONE (methyvim)