| Back to Multiple platform build/check report for BioC 3.11 | 
 | 
This page was generated on 2020-10-17 11:57:04 -0400 (Sat, 17 Oct 2020).
| TO THE DEVELOPERS/MAINTAINERS OF THE methylGSA PACKAGE: Please make sure to use the following settings in order to reproduce any error or warning you see on this page. | 
| Package 1058/1905 | Hostname | OS / Arch | INSTALL | BUILD | CHECK | BUILD BIN | ||||||
| methylGSA 1.6.1 Xu Ren 
 | malbec2 | Linux (Ubuntu 18.04.4 LTS) / x86_64 | OK | OK | OK | |||||||
| tokay2 | Windows Server 2012 R2 Standard / x64 | OK | OK | OK | [ OK ] | |||||||
| machv2 | macOS 10.14.6 Mojave / x86_64 | OK | OK | OK | OK | 
| Package: methylGSA | 
| Version: 1.6.1 | 
| Command: rm -rf methylGSA.buildbin-libdir && mkdir methylGSA.buildbin-libdir && C:\Users\biocbuild\bbs-3.11-bioc\R\bin\R.exe CMD INSTALL --merge-multiarch --build --library=methylGSA.buildbin-libdir methylGSA_1.6.1.tar.gz | 
| StartedAt: 2020-10-17 11:00:21 -0400 (Sat, 17 Oct 2020) | 
| EndedAt: 2020-10-17 11:01:42 -0400 (Sat, 17 Oct 2020) | 
| EllapsedTime: 81.3 seconds | 
| RetCode: 0 | 
| Status: OK | 
| PackageFile: methylGSA_1.6.1.zip | 
| PackageFileSize: 3.176 MiB | 
##############################################################################
##############################################################################
###
### Running command:
###
###   rm -rf methylGSA.buildbin-libdir && mkdir methylGSA.buildbin-libdir && C:\Users\biocbuild\bbs-3.11-bioc\R\bin\R.exe CMD INSTALL --merge-multiarch --build --library=methylGSA.buildbin-libdir methylGSA_1.6.1.tar.gz
###
##############################################################################
##############################################################################
install for i386
* installing *source* package 'methylGSA' ...
** using staged installation
** R
** data
** inst
** byte-compile and prepare package for lazy loading
** help
*** installing help indices
  converting help for package 'methylGSA'
    finding HTML links ... done
    CpG2Gene                                html  
    GS.list                                 html  
    barplot                                 html  
    cpg.pval                                html  
    getAnnot                                html  
    getDescription                          html  
    getGS                                   html  
    methylRRA                               html  
    methylglm                               html  
    finding level-2 HTML links ... done
    methylgometh                            html  
    prepareAnnot                            html  
    runExample                              html  
** building package indices
** installing vignettes
** testing if installed package can be loaded from temporary location
** testing if installed package can be loaded from final location
** testing if installed package keeps a record of temporary installation path
install for x64
* installing *source* package 'methylGSA' ...
** testing if installed package can be loaded
* MD5 sums
packaged installation of 'methylGSA' as methylGSA_1.6.1.zip
* DONE (methylGSA)