| Back to Multiple platform build/check report for BioC 3.11 |
|
This page was generated on 2020-10-17 11:57:04 -0400 (Sat, 17 Oct 2020).
| TO THE DEVELOPERS/MAINTAINERS OF THE methylCC PACKAGE: Please make sure to use the following settings in order to reproduce any error or warning you see on this page. |
| Package 1057/1905 | Hostname | OS / Arch | INSTALL | BUILD | CHECK | BUILD BIN | ||||||
| methylCC 1.2.0 Stephanie C. Hicks
| malbec2 | Linux (Ubuntu 18.04.4 LTS) / x86_64 | OK | OK | OK | |||||||
| tokay2 | Windows Server 2012 R2 Standard / x64 | OK | OK | ERROR | [ OK ] | |||||||
| machv2 | macOS 10.14.6 Mojave / x86_64 | OK | OK | OK | OK |
| Package: methylCC |
| Version: 1.2.0 |
| Command: rm -rf methylCC.buildbin-libdir && mkdir methylCC.buildbin-libdir && C:\Users\biocbuild\bbs-3.11-bioc\R\bin\R.exe CMD INSTALL --merge-multiarch --build --library=methylCC.buildbin-libdir methylCC_1.2.0.tar.gz |
| StartedAt: 2020-10-17 11:00:17 -0400 (Sat, 17 Oct 2020) |
| EndedAt: 2020-10-17 11:01:38 -0400 (Sat, 17 Oct 2020) |
| EllapsedTime: 81.5 seconds |
| RetCode: 0 |
| Status: OK |
| PackageFile: methylCC_1.2.0.zip |
| PackageFileSize: 4.717 MiB |
##############################################################################
##############################################################################
###
### Running command:
###
### rm -rf methylCC.buildbin-libdir && mkdir methylCC.buildbin-libdir && C:\Users\biocbuild\bbs-3.11-bioc\R\bin\R.exe CMD INSTALL --merge-multiarch --build --library=methylCC.buildbin-libdir methylCC_1.2.0.tar.gz
###
##############################################################################
##############################################################################
install for i386
* installing *source* package 'methylCC' ...
** using staged installation
** R
** data
** inst
** byte-compile and prepare package for lazy loading
** help
*** installing help indices
converting help for package 'methylCC'
finding HTML links ... done
FlowSorted.Blood.450k.sub html
cell_counts html
dot-WFun html
dot-extract_raw_data html
dot-find_dmrs html
dot-initializeMLEs html
dot-initialize_theta html
dot-methylcc_engine html
dot-methylcc_estep html
dot-methylcc_mstep html
dot-pick_target_positions html
dot-preprocess_estimatecc html
dot-splitit html
estimatecc-class html
estimatecc html
offMethRegions html
onMethRegions html
** building package indices
** installing vignettes
** testing if installed package can be loaded from temporary location
** testing if installed package can be loaded from final location
** testing if installed package keeps a record of temporary installation path
install for x64
* installing *source* package 'methylCC' ...
** testing if installed package can be loaded
* MD5 sums
packaged installation of 'methylCC' as methylCC_1.2.0.zip
* DONE (methylCC)