| Back to Multiple platform build/check report for BioC 3.11 |
|
This page was generated on 2020-10-17 11:58:56 -0400 (Sat, 17 Oct 2020).
| TO THE DEVELOPERS/MAINTAINERS OF THE methVisual PACKAGE: Please make sure to use the following settings in order to reproduce any error or warning you see on this page. |
| Package 1054/1905 | Hostname | OS / Arch | INSTALL | BUILD | CHECK | BUILD BIN | ||||||
| methVisual 1.40.0 Arie Zackay
| malbec2 | Linux (Ubuntu 18.04.4 LTS) / x86_64 | OK | OK | ERROR | |||||||
| tokay2 | Windows Server 2012 R2 Standard / x64 | OK | OK | ERROR | OK | |||||||
| machv2 | macOS 10.14.6 Mojave / x86_64 | OK | OK | ERROR | [ OK ] |
| Package: methVisual |
| Version: 1.40.0 |
| Command: rm -rf methVisual.buildbin-libdir && mkdir methVisual.buildbin-libdir && /Users/biocbuild/BBS/utils/build-universal.sh methVisual_1.40.0.tar.gz /Library/Frameworks/R.framework/Versions/Current/Resources/bin/R methVisual.buildbin-libdir |
| StartedAt: 2020-10-17 07:27:43 -0400 (Sat, 17 Oct 2020) |
| EndedAt: 2020-10-17 07:28:02 -0400 (Sat, 17 Oct 2020) |
| EllapsedTime: 18.8 seconds |
| RetCode: 0 |
| Status: OK |
| PackageFile: methVisual_1.40.0.tgz |
| PackageFileSize: 303.6 KiB |
############################################################################## ############################################################################## ### ### Running command: ### ### rm -rf methVisual.buildbin-libdir && mkdir methVisual.buildbin-libdir && /Users/biocbuild/BBS/utils/build-universal.sh methVisual_1.40.0.tar.gz /Library/Frameworks/R.framework/Versions/Current/Resources/bin/R methVisual.buildbin-libdir ### ############################################################################## ############################################################################## >>>>>>> >>>>>>> INSTALLATION WITH 'R CMD INSTALL --preclean --no-multiarch --library=methVisual.buildbin-libdir methVisual_1.40.0.tar.gz' >>>>>>> * installing *source* package ‘methVisual’ ... ** using staged installation ** R ** data ** inst ** byte-compile and prepare package for lazy loading No methods found in package ‘IRanges’ for request: ‘score’ when loading ‘methVisual’ Note: possible error in 'windows(n, lengthData, ': unused argument (rescale = "fixed") ** help *** installing help indices ** building package indices ** installing vignettes ** testing if installed package can be loaded from temporary location No methods found in package ‘IRanges’ for request: ‘score’ when loading ‘methVisual’ ** testing if installed package can be loaded from final location No methods found in package ‘IRanges’ for request: ‘score’ when loading ‘methVisual’ ** testing if installed package keeps a record of temporary installation path * DONE (methVisual)