| Back to Multiple platform build/check report for BioC 3.11 |
|
This page was generated on 2020-10-17 11:58:54 -0400 (Sat, 17 Oct 2020).
| TO THE DEVELOPERS/MAINTAINERS OF THE metagenomeSeq PACKAGE: Please make sure to use the following settings in order to reproduce any error or warning you see on this page. |
| Package 1038/1905 | Hostname | OS / Arch | INSTALL | BUILD | CHECK | BUILD BIN | ||||||
| metagenomeSeq 1.30.0 Joseph N. Paulson
| malbec2 | Linux (Ubuntu 18.04.4 LTS) / x86_64 | OK | OK | OK | |||||||
| tokay2 | Windows Server 2012 R2 Standard / x64 | OK | OK | OK | OK | |||||||
| machv2 | macOS 10.14.6 Mojave / x86_64 | OK | OK | [ OK ] | OK |
| Package: metagenomeSeq |
| Version: 1.30.0 |
| Command: /Library/Frameworks/R.framework/Versions/Current/Resources/bin/R CMD check --install=check:metagenomeSeq.install-out.txt --library=/Library/Frameworks/R.framework/Versions/Current/Resources/library --no-vignettes --timings metagenomeSeq_1.30.0.tar.gz |
| StartedAt: 2020-10-17 02:48:42 -0400 (Sat, 17 Oct 2020) |
| EndedAt: 2020-10-17 02:54:39 -0400 (Sat, 17 Oct 2020) |
| EllapsedTime: 356.7 seconds |
| RetCode: 0 |
| Status: OK |
| CheckDir: metagenomeSeq.Rcheck |
| Warnings: 0 |
##############################################################################
##############################################################################
###
### Running command:
###
### /Library/Frameworks/R.framework/Versions/Current/Resources/bin/R CMD check --install=check:metagenomeSeq.install-out.txt --library=/Library/Frameworks/R.framework/Versions/Current/Resources/library --no-vignettes --timings metagenomeSeq_1.30.0.tar.gz
###
##############################################################################
##############################################################################
* using log directory ‘/Users/biocbuild/bbs-3.11-bioc/meat/metagenomeSeq.Rcheck’
* using R version 4.0.3 (2020-10-10)
* using platform: x86_64-apple-darwin17.0 (64-bit)
* using session charset: UTF-8
* using option ‘--no-vignettes’
* checking for file ‘metagenomeSeq/DESCRIPTION’ ... OK
* this is package ‘metagenomeSeq’ version ‘1.30.0’
* checking package namespace information ... OK
* checking package dependencies ... OK
* checking if this is a source package ... OK
* checking if there is a namespace ... OK
* checking for hidden files and directories ... OK
* checking for portable file names ... OK
* checking for sufficient/correct file permissions ... OK
* checking whether package ‘metagenomeSeq’ can be installed ... OK
* checking installed package size ... OK
* checking package directory ... OK
* checking ‘build’ directory ... OK
* checking DESCRIPTION meta-information ... OK
* checking top-level files ... OK
* checking for left-over files ... OK
* checking index information ... OK
* checking package subdirectories ... OK
* checking R files for non-ASCII characters ... OK
* checking R files for syntax errors ... OK
* checking whether the package can be loaded ... OK
* checking whether the package can be loaded with stated dependencies ... OK
* checking whether the package can be unloaded cleanly ... OK
* checking whether the namespace can be loaded with stated dependencies ... OK
* checking whether the namespace can be unloaded cleanly ... OK
* checking dependencies in R code ... OK
* checking S3 generic/method consistency ... OK
* checking replacement functions ... OK
* checking foreign function calls ... OK
* checking R code for possible problems ... OK
* checking Rd files ... OK
* checking Rd metadata ... OK
* checking Rd cross-references ... OK
* checking for missing documentation entries ... OK
* checking for code/documentation mismatches ... OK
* checking Rd \usage sections ... OK
* checking Rd contents ... OK
* checking for unstated dependencies in examples ... OK
* checking contents of ‘data’ directory ... OK
* checking data for non-ASCII characters ... OK
* checking data for ASCII and uncompressed saves ... OK
* checking sizes of PDF files under ‘inst/doc’ ... OK
* checking files in ‘vignettes’ ... OK
* checking examples ... OK
Examples with CPU (user + system) or elapsed time > 5s
user system elapsed
wrenchNorm 22.895 1.433 24.347
exportMat 2.122 4.148 6.436
extractMR 3.005 1.929 5.053
MRfulltable 1.594 0.069 8.700
* checking for unstated dependencies in ‘tests’ ... OK
* checking tests ...
Running ‘testthat.R’
OK
* checking for unstated dependencies in vignettes ... OK
* checking package vignettes in ‘inst/doc’ ... OK
* checking running R code from vignettes ... SKIPPED
* checking re-building of vignette outputs ... SKIPPED
* checking PDF version of manual ... OK
* DONE
Status: OK
metagenomeSeq.Rcheck/00install.out
############################################################################## ############################################################################## ### ### Running command: ### ### /Library/Frameworks/R.framework/Versions/Current/Resources/bin/R CMD INSTALL metagenomeSeq ### ############################################################################## ############################################################################## * installing to library ‘/Library/Frameworks/R.framework/Versions/4.0/Resources/library’ * installing *source* package ‘metagenomeSeq’ ... ** using staged installation ** R ** data ** inst ** byte-compile and prepare package for lazy loading in method for ‘MRihw’ with signature ‘"fitFeatureModelResults"’: no definition for class “fitFeatureModelResults” in method for ‘MRihw’ with signature ‘"fitZigResults"’: no definition for class “fitZigResults” ** help *** installing help indices ** building package indices ** installing vignettes ** testing if installed package can be loaded from temporary location ** testing if installed package can be loaded from final location ** testing if installed package keeps a record of temporary installation path * DONE (metagenomeSeq)
metagenomeSeq.Rcheck/tests/testthat.Rout
R version 4.0.3 (2020-10-10) -- "Bunny-Wunnies Freak Out"
Copyright (C) 2020 The R Foundation for Statistical Computing
Platform: x86_64-apple-darwin17.0 (64-bit)
R is free software and comes with ABSOLUTELY NO WARRANTY.
You are welcome to redistribute it under certain conditions.
Type 'license()' or 'licence()' for distribution details.
R is a collaborative project with many contributors.
Type 'contributors()' for more information and
'citation()' on how to cite R or R packages in publications.
Type 'demo()' for some demos, 'help()' for on-line help, or
'help.start()' for an HTML browser interface to help.
Type 'q()' to quit R.
> library("testthat")
> packageVersion("metagenomeSeq")
[1] '1.30.0'
> # As suggested for opt-out option on testing by users,
> # recommended by CRAN: http://adv-r.had.co.nz/Testing.html
> # Previously, best practice was to put all test files in inst/tests
> # and ensure that R CMD check ran them by putting the following code in tests/test-all.R:
> # >library(testthat)
> # >library(yourpackage)
> # >test_package("yourpackage")
> # Now, recommended practice is to put your tests in tests/testthat,
> # and ensure R CMD check runs them by putting the following code in tests/test-all.R:
> # >library(testthat)
> # >test_check("yourpackage")
> # The advantage of this new structure is that the user has control over whether or not tests are installed using the –install-tests parameter to
> # R CMD install, or INSTALL_opts = c(“–install-tests”) argument to install.packages(). I’m not sure why you wouldn’t want to install the tests,
> # but now you have the flexibility as requested by CRAN maintainers.
> test_check("metagenomeSeq")
Loading required package: metagenomeSeq
Loading required package: Biobase
Loading required package: BiocGenerics
Loading required package: parallel
Attaching package: 'BiocGenerics'
The following objects are masked from 'package:parallel':
clusterApply, clusterApplyLB, clusterCall, clusterEvalQ,
clusterExport, clusterMap, parApply, parCapply, parLapply,
parLapplyLB, parRapply, parSapply, parSapplyLB
The following objects are masked from 'package:stats':
IQR, mad, sd, var, xtabs
The following objects are masked from 'package:base':
Filter, Find, Map, Position, Reduce, anyDuplicated, append,
as.data.frame, basename, cbind, colnames, dirname, do.call,
duplicated, eval, evalq, get, grep, grepl, intersect, is.unsorted,
lapply, mapply, match, mget, order, paste, pmax, pmax.int, pmin,
pmin.int, rank, rbind, rownames, sapply, setdiff, sort, table,
tapply, union, unique, unsplit, which, which.max, which.min
Welcome to Bioconductor
Vignettes contain introductory material; view with
'browseVignettes()'. To cite Bioconductor, see
'citation("Biobase")', and for packages 'citation("pkgname")'.
Loading required package: limma
Attaching package: 'limma'
The following object is masked from 'package:BiocGenerics':
plotMA
Loading required package: glmnet
Loading required package: Matrix
Loaded glmnet 4.0-2
Loading required package: RColorBrewer
══ testthat results ═══════════════════════════════════════════════════════════
[ OK: 15 | SKIPPED: 0 | WARNINGS: 6 | FAILED: 0 ]
>
> proc.time()
user system elapsed
140.731 7.700 148.516
metagenomeSeq.Rcheck/metagenomeSeq-Ex.timings
| name | user | system | elapsed | |
| MRcoefs | 2.065 | 0.132 | 2.223 | |
| MRcounts | 0.702 | 0.015 | 0.718 | |
| MRexperiment-class | 0 | 0 | 0 | |
| MRfulltable | 1.594 | 0.069 | 8.700 | |
| MRtable | 1.748 | 0.027 | 1.776 | |
| aggregateBySample | 0.220 | 0.012 | 0.232 | |
| aggregateByTaxonomy | 0.203 | 0.009 | 0.213 | |
| biom2MRexperiment | 0.494 | 0.014 | 0.509 | |
| calcNormFactors | 0.840 | 0.140 | 0.982 | |
| correctIndices | 0.214 | 0.012 | 0.226 | |
| correlationTest | 0.417 | 0.025 | 0.443 | |
| cumNorm | 0.702 | 0.103 | 0.805 | |
| cumNormMat | 0.663 | 0.110 | 0.775 | |
| cumNormStat | 0.661 | 0.060 | 0.723 | |
| cumNormStatFast | 0.500 | 0.029 | 0.529 | |
| expSummary | 0.194 | 0.010 | 0.203 | |
| exportMat | 2.122 | 4.148 | 6.436 | |
| exportStats | 0.738 | 0.022 | 0.762 | |
| extractMR | 3.005 | 1.929 | 5.053 | |
| filterData | 0.303 | 0.014 | 0.318 | |
| fitDO | 0.825 | 0.021 | 4.940 | |
| fitFeatureModel | 1.711 | 0.040 | 1.751 | |
| fitLogNormal | 2.381 | 0.163 | 2.546 | |
| fitMultipleTimeSeries | 2.541 | 0.200 | 2.745 | |
| fitPA | 0.651 | 0.026 | 4.323 | |
| fitSSTimeSeries | 0.667 | 0.042 | 0.710 | |
| fitTimeSeries | 0.648 | 0.090 | 0.738 | |
| fitZig | 2.614 | 0.167 | 2.783 | |
| libSize-set | 0.568 | 0.038 | 0.606 | |
| libSize | 0.483 | 0.021 | 0.504 | |
| loadBiom | 0.069 | 0.001 | 0.069 | |
| loadMeta | 0.027 | 0.001 | 0.029 | |
| loadMetaQ | 0 | 0 | 0 | |
| loadPhenoData | 0.016 | 0.001 | 0.016 | |
| makeLabels | 0 | 0 | 0 | |
| mergeMRexperiments | 2.020 | 0.182 | 2.204 | |
| newMRexperiment | 0.054 | 0.000 | 0.054 | |
| normFactors-set | 0.582 | 0.027 | 0.611 | |
| normFactors | 0.537 | 0.007 | 0.545 | |
| plotBubble | 0.467 | 0.017 | 4.138 | |
| plotClassTimeSeries | 1.367 | 0.169 | 1.537 | |
| plotCorr | 0.733 | 0.030 | 0.763 | |
| plotFeature | 0.230 | 0.013 | 0.245 | |
| plotGenus | 0.257 | 0.017 | 0.274 | |
| plotMRheatmap | 3.712 | 0.101 | 3.821 | |
| plotOTU | 0.230 | 0.011 | 0.242 | |
| plotOrd | 0.394 | 0.023 | 0.418 | |
| plotRare | 0.225 | 0.011 | 0.236 | |
| plotTimeSeries | 1.401 | 0.221 | 1.623 | |
| posteriorProbs | 2.290 | 0.214 | 2.506 | |
| returnAppropriateObj | 0.543 | 0.019 | 0.563 | |
| ssFit | 0 | 0 | 0 | |
| ssIntervalCandidate | 0.000 | 0.001 | 0.000 | |
| ssPerm | 0.000 | 0.001 | 0.000 | |
| ssPermAnalysis | 0 | 0 | 0 | |
| trapz | 0.001 | 0.001 | 0.001 | |
| ts2MRexperiment | 2.197 | 0.287 | 2.486 | |
| uniqueFeatures | 0.225 | 0.012 | 0.236 | |
| wrenchNorm | 22.895 | 1.433 | 24.347 | |
| zigControl | 0.001 | 0.001 | 0.000 | |