| Back to Multiple platform build/check report for BioC 3.11 |
|
This page was generated on 2020-10-17 11:57:03 -0400 (Sat, 17 Oct 2020).
| TO THE DEVELOPERS/MAINTAINERS OF THE metagene2 PACKAGE: Please make sure to use the following settings in order to reproduce any error or warning you see on this page. |
| Package 1036/1905 | Hostname | OS / Arch | INSTALL | BUILD | CHECK | BUILD BIN | ||||||
| metagene2 1.4.0 Eric Fournier
| malbec2 | Linux (Ubuntu 18.04.4 LTS) / x86_64 | OK | OK | OK | |||||||
| tokay2 | Windows Server 2012 R2 Standard / x64 | OK | OK | OK | [ OK ] | |||||||
| machv2 | macOS 10.14.6 Mojave / x86_64 | OK | OK | OK | OK |
| Package: metagene2 |
| Version: 1.4.0 |
| Command: rm -rf metagene2.buildbin-libdir && mkdir metagene2.buildbin-libdir && C:\Users\biocbuild\bbs-3.11-bioc\R\bin\R.exe CMD INSTALL --merge-multiarch --build --library=metagene2.buildbin-libdir metagene2_1.4.0.tar.gz |
| StartedAt: 2020-10-17 10:58:53 -0400 (Sat, 17 Oct 2020) |
| EndedAt: 2020-10-17 11:00:17 -0400 (Sat, 17 Oct 2020) |
| EllapsedTime: 83.3 seconds |
| RetCode: 0 |
| Status: OK |
| PackageFile: metagene2_1.4.0.zip |
| PackageFileSize: 1.994 MiB |
##############################################################################
##############################################################################
###
### Running command:
###
### rm -rf metagene2.buildbin-libdir && mkdir metagene2.buildbin-libdir && C:\Users\biocbuild\bbs-3.11-bioc\R\bin\R.exe CMD INSTALL --merge-multiarch --build --library=metagene2.buildbin-libdir metagene2_1.4.0.tar.gz
###
##############################################################################
##############################################################################
install for i386
* installing *source* package 'metagene2' ...
** using staged installation
** R
** inst
** byte-compile and prepare package for lazy loading
** help
*** installing help indices
converting help for package 'metagene2'
finding HTML links ... done
Bam_Handler html
as_is_region_order html
coverage_order html
get_demo_bam_files html
get_demo_design html
get_demo_metagene html
get_demo_region_filenames html
get_demo_regions html
get_demo_rna_bam_files html
get_demo_rna_regions html
metagene2 html
metagene2_heatmap html
plot_metagene html
** building package indices
** installing vignettes
** testing if installed package can be loaded from temporary location
** testing if installed package can be loaded from final location
** testing if installed package keeps a record of temporary installation path
install for x64
* installing *source* package 'metagene2' ...
** testing if installed package can be loaded
* MD5 sums
packaged installation of 'metagene2' as metagene2_1.4.0.zip
* DONE (metagene2)