| Back to Multiple platform build/check report for BioC 3.11 |
|
This page was generated on 2020-10-17 11:57:01 -0400 (Sat, 17 Oct 2020).
| TO THE DEVELOPERS/MAINTAINERS OF THE mcaGUI PACKAGE: Please make sure to use the following settings in order to reproduce any error or warning you see on this page. |
| Package 1007/1905 | Hostname | OS / Arch | INSTALL | BUILD | CHECK | BUILD BIN | ||||||
| mcaGUI 1.36.0 Wade K. Copeland
| malbec2 | Linux (Ubuntu 18.04.4 LTS) / x86_64 | ERROR | OK | ERROR | |||||||
| tokay2 | Windows Server 2012 R2 Standard / x64 | [ ERROR ] | OK | ERROR | ERROR | |||||||
| machv2 | macOS 10.14.6 Mojave / x86_64 | ERROR | OK | ERROR | ERROR |
| Package: mcaGUI |
| Version: 1.36.0 |
| Command: C:\cygwin\bin\curl.exe -O https://malbec2.bioconductor.org/BBS/3.11/bioc/src/contrib/mcaGUI_1.36.0.tar.gz && rm -rf mcaGUI.buildbin-libdir && mkdir mcaGUI.buildbin-libdir && C:\Users\biocbuild\bbs-3.11-bioc\R\bin\R.exe CMD INSTALL --merge-multiarch --build --library=mcaGUI.buildbin-libdir mcaGUI_1.36.0.tar.gz && C:\Users\biocbuild\bbs-3.11-bioc\R\bin\R.exe CMD INSTALL mcaGUI_1.36.0.zip && rm mcaGUI_1.36.0.tar.gz mcaGUI_1.36.0.zip |
| StartedAt: 2020-10-16 19:44:25 -0400 (Fri, 16 Oct 2020) |
| EndedAt: 2020-10-16 19:44:27 -0400 (Fri, 16 Oct 2020) |
| EllapsedTime: 1.7 seconds |
| RetCode: 1 |
| Status: ERROR |
##############################################################################
##############################################################################
###
### Running command:
###
### C:\cygwin\bin\curl.exe -O https://malbec2.bioconductor.org/BBS/3.11/bioc/src/contrib/mcaGUI_1.36.0.tar.gz && rm -rf mcaGUI.buildbin-libdir && mkdir mcaGUI.buildbin-libdir && C:\Users\biocbuild\bbs-3.11-bioc\R\bin\R.exe CMD INSTALL --merge-multiarch --build --library=mcaGUI.buildbin-libdir mcaGUI_1.36.0.tar.gz && C:\Users\biocbuild\bbs-3.11-bioc\R\bin\R.exe CMD INSTALL mcaGUI_1.36.0.zip && rm mcaGUI_1.36.0.tar.gz mcaGUI_1.36.0.zip
###
##############################################################################
##############################################################################
% Total % Received % Xferd Average Speed Time Time Time Current
Dload Upload Total Spent Left Speed
0 0 0 0 0 0 0 0 --:--:-- --:--:-- --:--:-- 0
100 2215k 100 2215k 0 0 17.8M 0 --:--:-- --:--:-- --:--:-- 18.8M
install for i386
ERROR: dependencies 'gWidgets', 'gWidgetsRGtk2' are not available for package 'mcaGUI'
* removing 'C:/Users/biocbuild/bbs-3.11-bioc/meat/mcaGUI.buildbin-libdir/mcaGUI'