Back to Multiple platform build/check report for BioC 3.11 |
|
This page was generated on 2020-10-17 11:58:51 -0400 (Sat, 17 Oct 2020).
TO THE DEVELOPERS/MAINTAINERS OF THE matter PACKAGE: Please make sure to use the following settings in order to reproduce any error or warning you see on this page. |
Package 998/1905 | Hostname | OS / Arch | INSTALL | BUILD | CHECK | BUILD BIN | ||||||
matter 1.14.0 Kylie A. Bemis
| malbec2 | Linux (Ubuntu 18.04.4 LTS) / x86_64 | OK | OK | OK | |||||||
tokay2 | Windows Server 2012 R2 Standard / x64 | OK | OK | OK | OK | |||||||
machv2 | macOS 10.14.6 Mojave / x86_64 | OK | OK | OK | [ OK ] |
Package: matter |
Version: 1.14.0 |
Command: rm -rf matter.buildbin-libdir && mkdir matter.buildbin-libdir && /Users/biocbuild/BBS/utils/build-universal.sh matter_1.14.0.tar.gz /Library/Frameworks/R.framework/Versions/Current/Resources/bin/R matter.buildbin-libdir |
StartedAt: 2020-10-17 07:24:50 -0400 (Sat, 17 Oct 2020) |
EndedAt: 2020-10-17 07:25:43 -0400 (Sat, 17 Oct 2020) |
EllapsedTime: 53.5 seconds |
RetCode: 0 |
Status: OK |
PackageFile: matter_1.14.0.tgz |
PackageFileSize: 3.359 MiB |
############################################################################## ############################################################################## ### ### Running command: ### ### rm -rf matter.buildbin-libdir && mkdir matter.buildbin-libdir && /Users/biocbuild/BBS/utils/build-universal.sh matter_1.14.0.tar.gz /Library/Frameworks/R.framework/Versions/Current/Resources/bin/R matter.buildbin-libdir ### ############################################################################## ############################################################################## >>>>>>> >>>>>>> INSTALLATION WITH 'R CMD INSTALL --preclean --no-multiarch --library=matter.buildbin-libdir matter_1.14.0.tar.gz' >>>>>>> * installing *source* package ‘matter’ ... ** using staged installation ** libs clang++ -mmacosx-version-min=10.13 -std=gnu++11 -I"/Library/Frameworks/R.framework/Resources/include" -DNDEBUG -I/usr/local/include -fPIC -Wall -g -O2 -c altrep.cpp -o altrep.o clang++ -mmacosx-version-min=10.13 -std=gnu++11 -I"/Library/Frameworks/R.framework/Resources/include" -DNDEBUG -I/usr/local/include -fPIC -Wall -g -O2 -c bsearch.cpp -o bsearch.o clang++ -mmacosx-version-min=10.13 -std=gnu++11 -I"/Library/Frameworks/R.framework/Resources/include" -DNDEBUG -I/usr/local/include -fPIC -Wall -g -O2 -c init.cpp -o init.o clang++ -mmacosx-version-min=10.13 -std=gnu++11 -I"/Library/Frameworks/R.framework/Resources/include" -DNDEBUG -I/usr/local/include -fPIC -Wall -g -O2 -c matter.cpp -o matter.o clang++ -mmacosx-version-min=10.13 -std=gnu++11 -I"/Library/Frameworks/R.framework/Resources/include" -DNDEBUG -I/usr/local/include -fPIC -Wall -g -O2 -c utils.cpp -o utils.o clang++ -mmacosx-version-min=10.13 -std=gnu++11 -I"/Library/Frameworks/R.framework/Resources/include" -DNDEBUG -I/usr/local/include -fPIC -Wall -g -O2 -c vectools.cpp -o vectools.o clang++ -mmacosx-version-min=10.13 -std=gnu++11 -dynamiclib -Wl,-headerpad_max_install_names -undefined dynamic_lookup -single_module -multiply_defined suppress -L/Library/Frameworks/R.framework/Resources/lib -L/usr/local/lib -o matter.so altrep.o bsearch.o init.o matter.o utils.o vectools.o -F/Library/Frameworks/R.framework/.. -framework R -Wl,-framework -Wl,CoreFoundation installing to /Users/biocbuild/bbs-3.11-bioc/meat/matter.buildbin-libdir/00LOCK-matter/00new/matter/libs ** R ** data ** inst ** byte-compile and prepare package for lazy loading Creating a new generic function for ‘apply’ in package ‘matter’ Creating a new generic function for ‘scale’ in package ‘matter’ Creating a new generic function for ‘biglm’ in package ‘matter’ ** help *** installing help indices ** building package indices ** installing vignettes ** testing if installed package can be loaded from temporary location ** checking absolute paths in shared objects and dynamic libraries ** testing if installed package can be loaded from final location ** testing if installed package keeps a record of temporary installation path * DONE (matter) >>>>>>> >>>>>>> FIXING LINKS FOR matter.buildbin-libdir/matter/libs/matter.so >>>>>>> install_name_tool -change "/usr/local/lib/libgcc_s.1.dylib" "/Library/Frameworks/R.framework/Versions/4.0/Resources/lib/libgcc_s.1.dylib" "matter.buildbin-libdir/matter/libs/matter.so" install_name_tool -change "/usr/local/lib/libgfortran.5.dylib" "/Library/Frameworks/R.framework/Versions/4.0/Resources/lib/libgfortran.5.dylib" "matter.buildbin-libdir/matter/libs/matter.so" install_name_tool -change "/usr/local/lib/libquadmath.0.dylib" "/Library/Frameworks/R.framework/Versions/4.0/Resources/lib/libquadmath.0.dylib" "matter.buildbin-libdir/matter/libs/matter.so"