| Back to Multiple platform build/check report for BioC 3.11 |
|
This page was generated on 2020-10-17 11:57:00 -0400 (Sat, 17 Oct 2020).
| TO THE DEVELOPERS/MAINTAINERS OF THE matchBox PACKAGE: Please make sure to use the following settings in order to reproduce any error or warning you see on this page. |
| Package 995/1905 | Hostname | OS / Arch | INSTALL | BUILD | CHECK | BUILD BIN | ||||||
| matchBox 1.30.0 Luigi Marchionni
| malbec2 | Linux (Ubuntu 18.04.4 LTS) / x86_64 | OK | OK | OK | |||||||
| tokay2 | Windows Server 2012 R2 Standard / x64 | OK | OK | WARNINGS | [ OK ] | |||||||
| machv2 | macOS 10.14.6 Mojave / x86_64 | OK | OK | OK | OK |
| Package: matchBox |
| Version: 1.30.0 |
| Command: rm -rf matchBox.buildbin-libdir && mkdir matchBox.buildbin-libdir && C:\Users\biocbuild\bbs-3.11-bioc\R\bin\R.exe CMD INSTALL --merge-multiarch --build --library=matchBox.buildbin-libdir matchBox_1.30.0.tar.gz |
| StartedAt: 2020-10-17 10:56:17 -0400 (Sat, 17 Oct 2020) |
| EndedAt: 2020-10-17 10:57:00 -0400 (Sat, 17 Oct 2020) |
| EllapsedTime: 43.1 seconds |
| RetCode: 0 |
| Status: OK |
| PackageFile: matchBox_1.30.0.zip |
| PackageFileSize: 684.4 KiB |
##############################################################################
##############################################################################
###
### Running command:
###
### rm -rf matchBox.buildbin-libdir && mkdir matchBox.buildbin-libdir && C:\Users\biocbuild\bbs-3.11-bioc\R\bin\R.exe CMD INSTALL --merge-multiarch --build --library=matchBox.buildbin-libdir matchBox_1.30.0.tar.gz
###
##############################################################################
##############################################################################
install for i386
* installing *source* package 'matchBox' ...
** using staged installation
** R
** data
** inst
** byte-compile and prepare package for lazy loading
** help
*** installing help indices
converting help for package 'matchBox'
finding HTML links ... done
calcHypPI html
Rd warning: C:/Users/biocbuild/bbs-3.11-bioc/tmpdir/RtmpqUvPwq/R.INSTALL316010471dc1/matchBox/man/calcHypPI.Rd:96: file link 'qhyper' in package 'stats' does not exist and so has been treated as a topic
computeCat html
filterRedundant html
matchBox-package html
matchBoxExpression html
mergeData html
plotCat html
Rd warning: C:/Users/biocbuild/bbs-3.11-bioc/tmpdir/RtmpqUvPwq/R.INSTALL316010471dc1/matchBox/man/plotCat.Rd:125: file link 'rainbow' in package 'grDevices' does not exist and so has been treated as a topic
** building package indices
** installing vignettes
** testing if installed package can be loaded from temporary location
** testing if installed package can be loaded from final location
** testing if installed package keeps a record of temporary installation path
install for x64
* installing *source* package 'matchBox' ...
** testing if installed package can be loaded
* MD5 sums
packaged installation of 'matchBox' as matchBox_1.30.0.zip
* DONE (matchBox)