| Back to Multiple platform build/check report for BioC 3.11 |
|
This page was generated on 2020-10-17 11:57:00 -0400 (Sat, 17 Oct 2020).
| TO THE DEVELOPERS/MAINTAINERS OF THE maskBAD PACKAGE: Please make sure to use the following settings in order to reproduce any error or warning you see on this page. |
| Package 990/1905 | Hostname | OS / Arch | INSTALL | BUILD | CHECK | BUILD BIN | ||||||
| maskBAD 1.32.0 Michael Dannemann
| malbec2 | Linux (Ubuntu 18.04.4 LTS) / x86_64 | OK | OK | OK | |||||||
| tokay2 | Windows Server 2012 R2 Standard / x64 | OK | OK | OK | [ OK ] | |||||||
| machv2 | macOS 10.14.6 Mojave / x86_64 | OK | OK | OK | OK |
| Package: maskBAD |
| Version: 1.32.0 |
| Command: rm -rf maskBAD.buildbin-libdir && mkdir maskBAD.buildbin-libdir && C:\Users\biocbuild\bbs-3.11-bioc\R\bin\R.exe CMD INSTALL --merge-multiarch --build --library=maskBAD.buildbin-libdir maskBAD_1.32.0.tar.gz |
| StartedAt: 2020-10-17 10:55:57 -0400 (Sat, 17 Oct 2020) |
| EndedAt: 2020-10-17 10:56:36 -0400 (Sat, 17 Oct 2020) |
| EllapsedTime: 39.8 seconds |
| RetCode: 0 |
| Status: OK |
| PackageFile: maskBAD_1.32.0.zip |
| PackageFileSize: 1.459 MiB |
##############################################################################
##############################################################################
###
### Running command:
###
### rm -rf maskBAD.buildbin-libdir && mkdir maskBAD.buildbin-libdir && C:\Users\biocbuild\bbs-3.11-bioc\R\bin\R.exe CMD INSTALL --merge-multiarch --build --library=maskBAD.buildbin-libdir maskBAD_1.32.0.tar.gz
###
##############################################################################
##############################################################################
install for i386
* installing *source* package 'maskBAD' ...
** using staged installation
** R
** data
** inst
** byte-compile and prepare package for lazy loading
** help
*** installing help indices
converting help for package 'maskBAD'
finding HTML links ... done
exmask html
mask html
finding level-2 HTML links ... done
newAffyBatch html
newCdf html
overlapExprExtMasks html
plotProbe html
prepareMaskedAffybatch html
sequenceMask html
** building package indices
** installing vignettes
** testing if installed package can be loaded from temporary location
** testing if installed package can be loaded from final location
** testing if installed package keeps a record of temporary installation path
install for x64
* installing *source* package 'maskBAD' ...
** testing if installed package can be loaded
* MD5 sums
packaged installation of 'maskBAD' as maskBAD_1.32.0.zip
* DONE (maskBAD)