| Back to Multiple platform build/check report for BioC 3.11 | 
 | 
This page was generated on 2020-10-17 11:57:00 -0400 (Sat, 17 Oct 2020).
| TO THE DEVELOPERS/MAINTAINERS OF THE mAPKL PACKAGE: Please make sure to use the following settings in order to reproduce any error or warning you see on this page. | 
| Package 983/1905 | Hostname | OS / Arch | INSTALL | BUILD | CHECK | BUILD BIN | ||||||
| mAPKL 1.18.0 Argiris Sakellariou 
 | malbec2 | Linux (Ubuntu 18.04.4 LTS) / x86_64 | OK | OK | OK |  | ||||||
| tokay2 | Windows Server 2012 R2 Standard / x64 | OK | OK | OK | [ OK ] |  | ||||||
| machv2 | macOS 10.14.6 Mojave / x86_64 | OK | OK | WARNINGS | OK |  | 
| Package: mAPKL | 
| Version: 1.18.0 | 
| Command: rm -rf mAPKL.buildbin-libdir && mkdir mAPKL.buildbin-libdir && C:\Users\biocbuild\bbs-3.11-bioc\R\bin\R.exe CMD INSTALL --merge-multiarch --build --library=mAPKL.buildbin-libdir mAPKL_1.18.0.tar.gz | 
| StartedAt: 2020-10-17 10:55:30 -0400 (Sat, 17 Oct 2020) | 
| EndedAt: 2020-10-17 10:56:13 -0400 (Sat, 17 Oct 2020) | 
| EllapsedTime: 43.7 seconds | 
| RetCode: 0 | 
| Status: OK | 
| PackageFile: mAPKL_1.18.0.zip | 
| PackageFileSize: 1.813 MiB | 
##############################################################################
##############################################################################
###
### Running command:
###
###   rm -rf mAPKL.buildbin-libdir && mkdir mAPKL.buildbin-libdir && C:\Users\biocbuild\bbs-3.11-bioc\R\bin\R.exe CMD INSTALL --merge-multiarch --build --library=mAPKL.buildbin-libdir mAPKL_1.18.0.tar.gz
###
##############################################################################
##############################################################################
install for i386
* installing *source* package 'mAPKL' ...
** using staged installation
** R
** inst
** byte-compile and prepare package for lazy loading
** help
*** installing help indices
  converting help for package 'mAPKL'
    finding HTML links ... done
    Annot-class                             html  
    Classify-class                          html  
    DataLD-class                            html  
    NetAttr-class                           html  
    annotate                                html  
    classification                          html  
    loadFiles                               html  
    mAPKL-package                           html  
    mAPKL                                   html  
    mAPKLRes-class                          html  
    metrics                                 html  
    netwAttr                                html  
    preprocess                              html  
    probes2pathways                         html  
    report                                  html  
    sampling                                html  
*** copying figures
** building package indices
** installing vignettes
** testing if installed package can be loaded from temporary location
** testing if installed package can be loaded from final location
** testing if installed package keeps a record of temporary installation path
install for x64
* installing *source* package 'mAPKL' ...
** testing if installed package can be loaded
* MD5 sums
packaged installation of 'mAPKL' as mAPKL_1.18.0.zip
* DONE (mAPKL)