| Back to Multiple platform build/check report for BioC 3.11 |
|
This page was generated on 2020-10-17 11:56:58 -0400 (Sat, 17 Oct 2020).
| TO THE DEVELOPERS/MAINTAINERS OF THE logicFS PACKAGE: Please make sure to use the following settings in order to reproduce any error or warning you see on this page. |
| Package 949/1905 | Hostname | OS / Arch | INSTALL | BUILD | CHECK | BUILD BIN | ||||||
| logicFS 2.8.0 Holger Schwender
| malbec2 | Linux (Ubuntu 18.04.4 LTS) / x86_64 | OK | OK | OK | |||||||
| tokay2 | Windows Server 2012 R2 Standard / x64 | OK | OK | OK | [ OK ] | |||||||
| machv2 | macOS 10.14.6 Mojave / x86_64 | OK | OK | OK | OK |
| Package: logicFS |
| Version: 2.8.0 |
| Command: rm -rf logicFS.buildbin-libdir && mkdir logicFS.buildbin-libdir && C:\Users\biocbuild\bbs-3.11-bioc\R\bin\R.exe CMD INSTALL --merge-multiarch --build --library=logicFS.buildbin-libdir logicFS_2.8.0.tar.gz |
| StartedAt: 2020-10-17 10:53:27 -0400 (Sat, 17 Oct 2020) |
| EndedAt: 2020-10-17 10:54:11 -0400 (Sat, 17 Oct 2020) |
| EllapsedTime: 43.6 seconds |
| RetCode: 0 |
| Status: OK |
| PackageFile: logicFS_2.8.0.zip |
| PackageFileSize: 599.1 KiB |
##############################################################################
##############################################################################
###
### Running command:
###
### rm -rf logicFS.buildbin-libdir && mkdir logicFS.buildbin-libdir && C:\Users\biocbuild\bbs-3.11-bioc\R\bin\R.exe CMD INSTALL --merge-multiarch --build --library=logicFS.buildbin-libdir logicFS_2.8.0.tar.gz
###
##############################################################################
##############################################################################
install for i386
* installing *source* package 'logicFS' ...
** using staged installation
** R
** data
** inst
** byte-compile and prepare package for lazy loading
** help
*** installing help indices
converting help for package 'logicFS'
finding HTML links ... done
data.logicfs html
getMatEval html
logic.bagging html
logic.oob html
logic.pimp html
finding level-2 HTML links ... done
logicFS-internal html
logicFS html
make.snp.dummy html
mlogreg html
plot.logicFS html
plot.predict.survivalFS html
predict.logicBagg html
predict.mlogreg html
print.logicFS html
survivalFS html
vim.approxPval html
vim.chisq html
vim.ebam html
vim.individual html
vim.logicFS html
vim.norm html
vim.permSet html
vim.set html
** building package indices
** installing vignettes
** testing if installed package can be loaded from temporary location
** testing if installed package can be loaded from final location
** testing if installed package keeps a record of temporary installation path
install for x64
* installing *source* package 'logicFS' ...
** testing if installed package can be loaded
* MD5 sums
packaged installation of 'logicFS' as logicFS_2.8.0.zip
* DONE (logicFS)