| Back to Multiple platform build/check report for BioC 3.11 |
|
This page was generated on 2020-10-17 11:56:55 -0400 (Sat, 17 Oct 2020).
| TO THE DEVELOPERS/MAINTAINERS OF THE joda PACKAGE: Please make sure to use the following settings in order to reproduce any error or warning you see on this page. |
| Package 913/1905 | Hostname | OS / Arch | INSTALL | BUILD | CHECK | BUILD BIN | ||||||
| joda 1.36.0 Ewa Szczurek
| malbec2 | Linux (Ubuntu 18.04.4 LTS) / x86_64 | OK | OK | ERROR | |||||||
| tokay2 | Windows Server 2012 R2 Standard / x64 | OK | OK | ERROR | [ OK ] | |||||||
| machv2 | macOS 10.14.6 Mojave / x86_64 | OK | OK | ERROR | OK |
| Package: joda |
| Version: 1.36.0 |
| Command: rm -rf joda.buildbin-libdir && mkdir joda.buildbin-libdir && C:\Users\biocbuild\bbs-3.11-bioc\R\bin\R.exe CMD INSTALL --merge-multiarch --build --library=joda.buildbin-libdir joda_1.36.0.tar.gz |
| StartedAt: 2020-10-17 10:51:06 -0400 (Sat, 17 Oct 2020) |
| EndedAt: 2020-10-17 10:51:53 -0400 (Sat, 17 Oct 2020) |
| EllapsedTime: 46.9 seconds |
| RetCode: 0 |
| Status: OK |
| PackageFile: joda_1.36.0.zip |
| PackageFileSize: 783.7 KiB |
##############################################################################
##############################################################################
###
### Running command:
###
### rm -rf joda.buildbin-libdir && mkdir joda.buildbin-libdir && C:\Users\biocbuild\bbs-3.11-bioc\R\bin\R.exe CMD INSTALL --merge-multiarch --build --library=joda.buildbin-libdir joda_1.36.0.tar.gz
###
##############################################################################
##############################################################################
install for i386
* installing *source* package 'joda' ...
** using staged installation
** R
** data
** inst
** byte-compile and prepare package for lazy loading
** help
*** installing help indices
converting help for package 'joda'
finding HTML links ... done
damage html
deregulation.p.values html
deregulation.scores html
differential.probs html
regulation.scores html
** building package indices
** installing vignettes
** testing if installed package can be loaded from temporary location
** testing if installed package can be loaded from final location
** testing if installed package keeps a record of temporary installation path
install for x64
* installing *source* package 'joda' ...
** testing if installed package can be loaded
* MD5 sums
packaged installation of 'joda' as joda_1.36.0.zip
* DONE (joda)