| Back to Multiple platform build/check report for BioC 3.11 |
|
This page was generated on 2020-10-17 11:56:54 -0400 (Sat, 17 Oct 2020).
| TO THE DEVELOPERS/MAINTAINERS OF THE ipdDb PACKAGE: Please make sure to use the following settings in order to reproduce any error or warning you see on this page. |
| Package 891/1905 | Hostname | OS / Arch | INSTALL | BUILD | CHECK | BUILD BIN | ||||||
| ipdDb 1.6.0 Steffen Klasberg
| malbec2 | Linux (Ubuntu 18.04.4 LTS) / x86_64 | OK | OK | OK | |||||||
| tokay2 | Windows Server 2012 R2 Standard / x64 | OK | OK | OK | [ OK ] | |||||||
| machv2 | macOS 10.14.6 Mojave / x86_64 | OK | OK | OK | OK |
| Package: ipdDb |
| Version: 1.6.0 |
| Command: rm -rf ipdDb.buildbin-libdir && mkdir ipdDb.buildbin-libdir && C:\Users\biocbuild\bbs-3.11-bioc\R\bin\R.exe CMD INSTALL --merge-multiarch --build --library=ipdDb.buildbin-libdir ipdDb_1.6.0.tar.gz |
| StartedAt: 2020-10-17 10:49:37 -0400 (Sat, 17 Oct 2020) |
| EndedAt: 2020-10-17 10:50:05 -0400 (Sat, 17 Oct 2020) |
| EllapsedTime: 28.4 seconds |
| RetCode: 0 |
| Status: OK |
| PackageFile: ipdDb_1.6.0.zip |
| PackageFileSize: 277.7 KiB |
##############################################################################
##############################################################################
###
### Running command:
###
### rm -rf ipdDb.buildbin-libdir && mkdir ipdDb.buildbin-libdir && C:\Users\biocbuild\bbs-3.11-bioc\R\bin\R.exe CMD INSTALL --merge-multiarch --build --library=ipdDb.buildbin-libdir ipdDb_1.6.0.tar.gz
###
##############################################################################
##############################################################################
install for i386
* installing *source* package 'ipdDb' ...
** using staged installation
** R
** inst
** byte-compile and prepare package for lazy loading
** help
*** installing help indices
converting help for package 'ipdDb'
finding HTML links ... done
IpdDb html
getAlleles-IpdDb-method html
getClosestComplete-IpdDb-method html
getLoci-IpdDb-method html
getReference-IpdDb-method html
getStructure-IpdDb-method html
ipdDbPackage html
loadHlaData html
loadKirData html
** building package indices
** installing vignettes
** testing if installed package can be loaded from temporary location
** testing if installed package can be loaded from final location
** testing if installed package keeps a record of temporary installation path
install for x64
* installing *source* package 'ipdDb' ...
** testing if installed package can be loaded
* MD5 sums
packaged installation of 'ipdDb' as ipdDb_1.6.0.zip
* DONE (ipdDb)