| Back to Multiple platform build/check report for BioC 3.11 |
|
This page was generated on 2020-10-17 11:56:53 -0400 (Sat, 17 Oct 2020).
| TO THE DEVELOPERS/MAINTAINERS OF THE interactiveDisplay PACKAGE: Please make sure to use the following settings in order to reproduce any error or warning you see on this page. |
| Package 883/1905 | Hostname | OS / Arch | INSTALL | BUILD | CHECK | BUILD BIN | ||||||
| interactiveDisplay 1.26.0 Shawn Balcome
| malbec2 | Linux (Ubuntu 18.04.4 LTS) / x86_64 | OK | OK | WARNINGS | |||||||
| tokay2 | Windows Server 2012 R2 Standard / x64 | OK | OK | WARNINGS | [ OK ] | |||||||
| machv2 | macOS 10.14.6 Mojave / x86_64 | OK | OK | WARNINGS | OK |
| Package: interactiveDisplay |
| Version: 1.26.0 |
| Command: rm -rf interactiveDisplay.buildbin-libdir && mkdir interactiveDisplay.buildbin-libdir && C:\Users\biocbuild\bbs-3.11-bioc\R\bin\R.exe CMD INSTALL --merge-multiarch --build --library=interactiveDisplay.buildbin-libdir interactiveDisplay_1.26.0.tar.gz |
| StartedAt: 2020-10-17 10:49:05 -0400 (Sat, 17 Oct 2020) |
| EndedAt: 2020-10-17 10:49:44 -0400 (Sat, 17 Oct 2020) |
| EllapsedTime: 39.7 seconds |
| RetCode: 0 |
| Status: OK |
| PackageFile: interactiveDisplay_1.26.0.zip |
| PackageFileSize: 2.486 MiB |
##############################################################################
##############################################################################
###
### Running command:
###
### rm -rf interactiveDisplay.buildbin-libdir && mkdir interactiveDisplay.buildbin-libdir && C:\Users\biocbuild\bbs-3.11-bioc\R\bin\R.exe CMD INSTALL --merge-multiarch --build --library=interactiveDisplay.buildbin-libdir interactiveDisplay_1.26.0.tar.gz
###
##############################################################################
##############################################################################
install for i386
* installing *source* package 'interactiveDisplay' ...
** using staged installation
** R
** data
** inst
** byte-compile and prepare package for lazy loading
in method for 'display' with signature 'object="GRanges"': no definition for class "GRanges"
in method for 'display' with signature 'object="GRangesList"': no definition for class "GRangesList"
in method for 'display' with signature 'object="RangedSummarizedExperiment"': no definition for class "RangedSummarizedExperiment"
in method for 'display' with signature 'object="MRexperiment"': no definition for class "MRexperiment"
** help
*** installing help indices
converting help for package 'interactiveDisplay'
finding HTML links ... done
altgr html
bicgo html
expr html
gridsvgjs html
gridtweak html
interactiveDisplay-methods html
mmgr html
mmgrl html
se html
simplenet html
** building package indices
** installing vignettes
** testing if installed package can be loaded from temporary location
** testing if installed package can be loaded from final location
** testing if installed package keeps a record of temporary installation path
install for x64
* installing *source* package 'interactiveDisplay' ...
** testing if installed package can be loaded
* MD5 sums
packaged installation of 'interactiveDisplay' as interactiveDisplay_1.26.0.zip
* DONE (interactiveDisplay)