| Back to Multiple platform build/check report for BioC 3.11 |
|
This page was generated on 2020-10-17 11:58:44 -0400 (Sat, 17 Oct 2020).
| TO THE DEVELOPERS/MAINTAINERS OF THE impute PACKAGE: Please make sure to use the following settings in order to reproduce any error or warning you see on this page. |
| Package 874/1905 | Hostname | OS / Arch | INSTALL | BUILD | CHECK | BUILD BIN | ||||||
| impute 1.62.0 Balasubramanian Narasimhan
| malbec2 | Linux (Ubuntu 18.04.4 LTS) / x86_64 | OK | OK | OK | |||||||
| tokay2 | Windows Server 2012 R2 Standard / x64 | OK | OK | OK | OK | |||||||
| machv2 | macOS 10.14.6 Mojave / x86_64 | [ OK ] | OK | OK | OK |
| Package: impute |
| Version: 1.62.0 |
| Command: /Library/Frameworks/R.framework/Versions/Current/Resources/bin/R CMD INSTALL impute |
| StartedAt: 2020-10-16 16:02:07 -0400 (Fri, 16 Oct 2020) |
| EndedAt: 2020-10-16 16:02:30 -0400 (Fri, 16 Oct 2020) |
| EllapsedTime: 22.3 seconds |
| RetCode: 0 |
| Status: OK |
##############################################################################
##############################################################################
###
### Running command:
###
### /Library/Frameworks/R.framework/Versions/Current/Resources/bin/R CMD INSTALL impute
###
##############################################################################
##############################################################################
* installing to library ‘/Library/Frameworks/R.framework/Versions/4.0/Resources/library’
* installing *source* package ‘impute’ ...
** using staged installation
** libs
gfortran -mmacosx-version-min=10.13 -fno-optimize-sibling-calls -fPIC -Wall -g -O2 -c knnimpute.f -o knnimpute.o
f951: Warning: Nonconforming tab character in column 1 of line 89 [-Wtabs]
f951: Warning: Nonconforming tab character in column 1 of line 91 [-Wtabs]
f951: Warning: Nonconforming tab character in column 1 of line 92 [-Wtabs]
f951: Warning: Nonconforming tab character in column 1 of line 93 [-Wtabs]
f951: Warning: Nonconforming tab character in column 1 of line 94 [-Wtabs]
f951: Warning: Nonconforming tab character in column 1 of line 95 [-Wtabs]
f951: Warning: Nonconforming tab character in column 1 of line 96 [-Wtabs]
f951: Warning: Nonconforming tab character in column 1 of line 97 [-Wtabs]
f951: Warning: Nonconforming tab character in column 1 of line 98 [-Wtabs]
f951: Warning: Nonconforming tab character in column 3 of line 99 [-Wtabs]
f951: Warning: Nonconforming tab character in column 1 of line 100 [-Wtabs]
f951: Warning: Nonconforming tab character in column 1 of line 101 [-Wtabs]
f951: Warning: Nonconforming tab character in column 1 of line 102 [-Wtabs]
f951: Warning: Nonconforming tab character in column 1 of line 103 [-Wtabs]
f951: Warning: Nonconforming tab character in column 3 of line 104 [-Wtabs]
f951: Warning: Nonconforming tab character in column 1 of line 105 [-Wtabs]
f951: Warning: Nonconforming tab character in column 1 of line 106 [-Wtabs]
f951: Warning: Nonconforming tab character in column 1 of line 107 [-Wtabs]
f951: Warning: Nonconforming tab character in column 1 of line 108 [-Wtabs]
f951: Warning: Nonconforming tab character in column 1 of line 109 [-Wtabs]
f951: Warning: Nonconforming tab character in column 1 of line 110 [-Wtabs]
f951: Warning: Nonconforming tab character in column 1 of line 111 [-Wtabs]
f951: Warning: Nonconforming tab character in column 1 of line 112 [-Wtabs]
f951: Warning: Nonconforming tab character in column 3 of line 113 [-Wtabs]
f951: Warning: Nonconforming tab character in column 1 of line 114 [-Wtabs]
f951: Warning: Nonconforming tab character in column 1 of line 115 [-Wtabs]
f951: Warning: Nonconforming tab character in column 1 of line 116 [-Wtabs]
f951: Warning: Nonconforming tab character in column 1 of line 117 [-Wtabs]
f951: Warning: Nonconforming tab character in column 3 of line 118 [-Wtabs]
f951: Warning: Nonconforming tab character in column 3 of line 119 [-Wtabs]
f951: Warning: Nonconforming tab character in column 3 of line 120 [-Wtabs]
f951: Warning: Nonconforming tab character in column 1 of line 121 [-Wtabs]
f951: Warning: Nonconforming tab character in column 1 of line 122 [-Wtabs]
knnimpute.f:168:0:
ratio=dabs(dnew-dold)/dold
Warning: ‘dold’ may be used uninitialized in this function [-Wmaybe-uninitialized]
clang -mmacosx-version-min=10.13 -dynamiclib -Wl,-headerpad_max_install_names -undefined dynamic_lookup -single_module -multiply_defined suppress -L/Library/Frameworks/R.framework/Resources/lib -L/usr/local/lib -o impute.so knnimpute.o -L/usr/local/gfortran/lib/gcc/x86_64-apple-darwin18/8.2.0 -L/usr/local/gfortran/lib -lgfortran -lquadmath -lm -F/Library/Frameworks/R.framework/.. -framework R -Wl,-framework -Wl,CoreFoundation
installing to /Library/Frameworks/R.framework/Versions/4.0/Resources/library/00LOCK-impute/00new/impute/libs
** R
** data
** byte-compile and prepare package for lazy loading
** help
*** installing help indices
** building package indices
** testing if installed package can be loaded from temporary location
** checking absolute paths in shared objects and dynamic libraries
** testing if installed package can be loaded from final location
** testing if installed package keeps a record of temporary installation path
* DONE (impute)