| Back to Multiple platform build/check report for BioC 3.11 |
|
This page was generated on 2020-10-17 11:56:52 -0400 (Sat, 17 Oct 2020).
| TO THE DEVELOPERS/MAINTAINERS OF THE illuminaio PACKAGE: Please make sure to use the following settings in order to reproduce any error or warning you see on this page. |
| Package 864/1905 | Hostname | OS / Arch | INSTALL | BUILD | CHECK | BUILD BIN | ||||||
| illuminaio 0.30.0 Kasper Daniel Hansen
| malbec2 | Linux (Ubuntu 18.04.4 LTS) / x86_64 | OK | OK | OK | |||||||
| tokay2 | Windows Server 2012 R2 Standard / x64 | OK | OK | OK | [ OK ] | |||||||
| machv2 | macOS 10.14.6 Mojave / x86_64 | OK | OK | OK | OK |
| Package: illuminaio |
| Version: 0.30.0 |
| Command: rm -rf illuminaio.buildbin-libdir && mkdir illuminaio.buildbin-libdir && C:\Users\biocbuild\bbs-3.11-bioc\R\bin\R.exe CMD INSTALL --merge-multiarch --build --library=illuminaio.buildbin-libdir illuminaio_0.30.0.tar.gz |
| StartedAt: 2020-10-17 10:47:55 -0400 (Sat, 17 Oct 2020) |
| EndedAt: 2020-10-17 10:48:38 -0400 (Sat, 17 Oct 2020) |
| EllapsedTime: 42.9 seconds |
| RetCode: 0 |
| Status: OK |
| PackageFile: illuminaio_0.30.0.zip |
| PackageFileSize: 310.4 KiB |
##############################################################################
##############################################################################
###
### Running command:
###
### rm -rf illuminaio.buildbin-libdir && mkdir illuminaio.buildbin-libdir && C:\Users\biocbuild\bbs-3.11-bioc\R\bin\R.exe CMD INSTALL --merge-multiarch --build --library=illuminaio.buildbin-libdir illuminaio_0.30.0.tar.gz
###
##############################################################################
##############################################################################
install for i386
* installing *source* package 'illuminaio' ...
** using staged installation
** libs
"C:/rtools40/mingw32/bin/"gcc -I"C:/Users/BIOCBU~1/BBS-3~1.11-/R/include" -DNDEBUG -I"C:/extsoft/include" -O2 -Wall -std=gnu99 -mfpmath=sse -msse2 -mstackrealign -c 000.init.c -o 000.init.o
"C:/rtools40/mingw32/bin/"gcc -I"C:/Users/BIOCBU~1/BBS-3~1.11-/R/include" -DNDEBUG -I"C:/extsoft/include" -O2 -Wall -std=gnu99 -mfpmath=sse -msse2 -mstackrealign -c des.c -o des.o
"C:/rtools40/mingw32/bin/"gcc -I"C:/Users/BIOCBU~1/BBS-3~1.11-/R/include" -DNDEBUG -I"C:/extsoft/include" -O2 -Wall -std=gnu99 -mfpmath=sse -msse2 -mstackrealign -c local_des.c -o local_des.o
C:/rtools40/mingw32/bin/gcc -shared -s -static-libgcc -o illuminaio.dll tmp.def 000.init.o des.o local_des.o -LC:/extsoft/lib/i386 -LC:/extsoft/lib -LC:/Users/BIOCBU~1/BBS-3~1.11-/R/bin/i386 -lR
installing to C:/Users/biocbuild/bbs-3.11-bioc/meat/illuminaio.buildbin-libdir/00LOCK-illuminaio/00new/illuminaio/libs/i386
** R
** inst
** byte-compile and prepare package for lazy loading
** help
*** installing help indices
converting help for package 'illuminaio'
finding HTML links ... done
readBGX html
readBPM html
readIDAT html
** building package indices
** installing vignettes
** testing if installed package can be loaded from temporary location
** testing if installed package can be loaded from final location
** testing if installed package keeps a record of temporary installation path
install for x64
* installing *source* package 'illuminaio' ...
** libs
"C:/rtools40/mingw64/bin/"gcc -I"C:/Users/BIOCBU~1/BBS-3~1.11-/R/include" -DNDEBUG -I"C:/extsoft/include" -O2 -Wall -std=gnu99 -mfpmath=sse -msse2 -mstackrealign -c 000.init.c -o 000.init.o
"C:/rtools40/mingw64/bin/"gcc -I"C:/Users/BIOCBU~1/BBS-3~1.11-/R/include" -DNDEBUG -I"C:/extsoft/include" -O2 -Wall -std=gnu99 -mfpmath=sse -msse2 -mstackrealign -c des.c -o des.o
"C:/rtools40/mingw64/bin/"gcc -I"C:/Users/BIOCBU~1/BBS-3~1.11-/R/include" -DNDEBUG -I"C:/extsoft/include" -O2 -Wall -std=gnu99 -mfpmath=sse -msse2 -mstackrealign -c local_des.c -o local_des.o
C:/rtools40/mingw64/bin/gcc -shared -s -static-libgcc -o illuminaio.dll tmp.def 000.init.o des.o local_des.o -LC:/extsoft/lib/x64 -LC:/extsoft/lib -LC:/Users/BIOCBU~1/BBS-3~1.11-/R/bin/x64 -lR
installing to C:/Users/biocbuild/bbs-3.11-bioc/meat/illuminaio.buildbin-libdir/illuminaio/libs/x64
** testing if installed package can be loaded
* MD5 sums
packaged installation of 'illuminaio' as illuminaio_0.30.0.zip
* DONE (illuminaio)