| Back to Multiple platform build/check report for BioC 3.11 |
|
This page was generated on 2020-10-17 11:58:43 -0400 (Sat, 17 Oct 2020).
| TO THE DEVELOPERS/MAINTAINERS OF THE igvR PACKAGE: Please make sure to use the following settings in order to reproduce any error or warning you see on this page. |
| Package 862/1905 | Hostname | OS / Arch | INSTALL | BUILD | CHECK | BUILD BIN | ||||||
| igvR 1.8.2 Paul Shannon
| malbec2 | Linux (Ubuntu 18.04.4 LTS) / x86_64 | OK | OK | WARNINGS | |||||||
| tokay2 | Windows Server 2012 R2 Standard / x64 | OK | OK | WARNINGS | OK | |||||||
| machv2 | macOS 10.14.6 Mojave / x86_64 | OK | OK | WARNINGS | [ OK ] |
| Package: igvR |
| Version: 1.8.2 |
| Command: rm -rf igvR.buildbin-libdir && mkdir igvR.buildbin-libdir && /Users/biocbuild/BBS/utils/build-universal.sh igvR_1.8.2.tar.gz /Library/Frameworks/R.framework/Versions/Current/Resources/bin/R igvR.buildbin-libdir |
| StartedAt: 2020-10-17 07:17:59 -0400 (Sat, 17 Oct 2020) |
| EndedAt: 2020-10-17 07:19:12 -0400 (Sat, 17 Oct 2020) |
| EllapsedTime: 73.0 seconds |
| RetCode: 0 |
| Status: OK |
| PackageFile: igvR_1.8.2.tgz |
| PackageFileSize: 2.913 MiB |
##############################################################################
##############################################################################
###
### Running command:
###
### rm -rf igvR.buildbin-libdir && mkdir igvR.buildbin-libdir && /Users/biocbuild/BBS/utils/build-universal.sh igvR_1.8.2.tar.gz /Library/Frameworks/R.framework/Versions/Current/Resources/bin/R igvR.buildbin-libdir
###
##############################################################################
##############################################################################
>>>>>>>
>>>>>>> INSTALLATION WITH 'R CMD INSTALL --preclean --no-multiarch --library=igvR.buildbin-libdir igvR_1.8.2.tar.gz'
>>>>>>>
* installing *source* package ‘igvR’ ...
** using staged installation
** R
** inst
** byte-compile and prepare package for lazy loading
See system.file("LICENSE", package="MotifDb") for use restrictions.
** help
*** installing help indices
** building package indices
** installing vignettes
** testing if installed package can be loaded from temporary location
See system.file("LICENSE", package="MotifDb") for use restrictions.
** testing if installed package can be loaded from final location
See system.file("LICENSE", package="MotifDb") for use restrictions.
** testing if installed package keeps a record of temporary installation path
* DONE (igvR)