| Back to Multiple platform build/check report for BioC 3.11 |
|
This page was generated on 2020-10-17 11:56:51 -0400 (Sat, 17 Oct 2020).
| TO THE DEVELOPERS/MAINTAINERS OF THE idr2d PACKAGE: Please make sure to use the following settings in order to reproduce any error or warning you see on this page. |
| Package 859/1905 | Hostname | OS / Arch | INSTALL | BUILD | CHECK | BUILD BIN | ||||||
| idr2d 1.2.2 Konstantin Krismer
| malbec2 | Linux (Ubuntu 18.04.4 LTS) / x86_64 | OK | OK | OK | |||||||
| tokay2 | Windows Server 2012 R2 Standard / x64 | OK | OK | OK | [ OK ] | |||||||
| machv2 | macOS 10.14.6 Mojave / x86_64 | OK | OK | OK | OK |
| Package: idr2d |
| Version: 1.2.2 |
| Command: rm -rf idr2d.buildbin-libdir && mkdir idr2d.buildbin-libdir && C:\Users\biocbuild\bbs-3.11-bioc\R\bin\R.exe CMD INSTALL --merge-multiarch --build --library=idr2d.buildbin-libdir idr2d_1.2.2.tar.gz |
| StartedAt: 2020-10-17 10:47:39 -0400 (Sat, 17 Oct 2020) |
| EndedAt: 2020-10-17 10:48:26 -0400 (Sat, 17 Oct 2020) |
| EllapsedTime: 47.2 seconds |
| RetCode: 0 |
| Status: OK |
| PackageFile: idr2d_1.2.2.zip |
| PackageFileSize: 1.38 MiB |
##############################################################################
##############################################################################
###
### Running command:
###
### rm -rf idr2d.buildbin-libdir && mkdir idr2d.buildbin-libdir && C:\Users\biocbuild\bbs-3.11-bioc\R\bin\R.exe CMD INSTALL --merge-multiarch --build --library=idr2d.buildbin-libdir idr2d_1.2.2.tar.gz
###
##############################################################################
##############################################################################
install for i386
* installing *source* package 'idr2d' ...
** using staged installation
** R
** data
** inst
** byte-compile and prepare package for lazy loading
** help
*** installing help indices
converting help for package 'idr2d'
finding HTML links ... done
calculate_midpoint_distance1d html
calculate_midpoint_distance2d html
calculate_relative_overlap1d html
calculate_relative_overlap2d html
chiapet html
chipseq html
determine_anchor_overlap html
draw_hic_contact_map html
draw_idr_distribution_histogram html
draw_rank_idr_scatterplot html
draw_value_idr_scatterplot html
establish_bijection html
establish_bijection1d html
establish_bijection2d html
establish_overlap1d html
establish_overlap2d html
estimate_idr html
estimate_idr1d html
estimate_idr2d html
estimate_idr2d_hic html
hic html
parse_hic_pro_matrix html
parse_juicer_matrix html
preprocess html
remove_nonstandard_chromosomes1d html
remove_nonstandard_chromosomes2d html
** building package indices
** installing vignettes
** testing if installed package can be loaded from temporary location
** testing if installed package can be loaded from final location
** testing if installed package keeps a record of temporary installation path
install for x64
* installing *source* package 'idr2d' ...
** testing if installed package can be loaded
* MD5 sums
packaged installation of 'idr2d' as idr2d_1.2.2.zip
* DONE (idr2d)