| Back to Multiple platform build/check report for BioC 3.11 |
|
This page was generated on 2020-10-17 11:56:51 -0400 (Sat, 17 Oct 2020).
| TO THE DEVELOPERS/MAINTAINERS OF THE iGC PACKAGE: Please make sure to use the following settings in order to reproduce any error or warning you see on this page. |
| Package 860/1905 | Hostname | OS / Arch | INSTALL | BUILD | CHECK | BUILD BIN | ||||||
| iGC 1.18.0 Liang-Bo Wang
| malbec2 | Linux (Ubuntu 18.04.4 LTS) / x86_64 | OK | OK | OK | |||||||
| tokay2 | Windows Server 2012 R2 Standard / x64 | OK | [ OK ] | OK | OK | |||||||
| machv2 | macOS 10.14.6 Mojave / x86_64 | OK | OK | OK | OK |
| Package: iGC |
| Version: 1.18.0 |
| Command: chmod a+r iGC -R && C:\Users\biocbuild\bbs-3.11-bioc\R\bin\R.exe CMD build --keep-empty-dirs --no-resave-data iGC |
| StartedAt: 2020-10-16 22:19:30 -0400 (Fri, 16 Oct 2020) |
| EndedAt: 2020-10-16 22:20:15 -0400 (Fri, 16 Oct 2020) |
| EllapsedTime: 44.8 seconds |
| RetCode: 0 |
| Status: OK |
| PackageFile: iGC_1.18.0.tar.gz |
| PackageFileSize: 2.952 MiB |
############################################################################## ############################################################################## ### ### Running command: ### ### chmod a+r iGC -R && C:\Users\biocbuild\bbs-3.11-bioc\R\bin\R.exe CMD build --keep-empty-dirs --no-resave-data iGC ### ############################################################################## ############################################################################## * checking for file 'iGC/DESCRIPTION' ... OK * preparing 'iGC': * checking DESCRIPTION meta-information ... OK * installing the package to build vignettes * creating vignettes ... OK * checking for LF line-endings in source and make files and shell scripts * checking for empty or unneeded directories * building 'iGC_1.18.0.tar.gz'