| Back to Multiple platform build/check report for BioC 3.11 |
|
This page was generated on 2020-10-17 11:54:57 -0400 (Sat, 17 Oct 2020).
| TO THE DEVELOPERS/MAINTAINERS OF THE hypergraph PACKAGE: Please make sure to use the following settings in order to reproduce any error or warning you see on this page. |
| Package 840/1905 | Hostname | OS / Arch | INSTALL | BUILD | CHECK | BUILD BIN | ||||||
| hypergraph 1.60.0 Bioconductor Package Maintainer
| malbec2 | Linux (Ubuntu 18.04.4 LTS) / x86_64 | OK | OK | [ OK ] | |||||||
| tokay2 | Windows Server 2012 R2 Standard / x64 | OK | OK | OK | OK | |||||||
| machv2 | macOS 10.14.6 Mojave / x86_64 | OK | OK | OK | OK |
| Package: hypergraph |
| Version: 1.60.0 |
| Command: /home/biocbuild/bbs-3.11-bioc/R/bin/R CMD check --install=check:hypergraph.install-out.txt --library=/home/biocbuild/bbs-3.11-bioc/R/library --no-vignettes --timings hypergraph_1.60.0.tar.gz |
| StartedAt: 2020-10-17 02:15:26 -0400 (Sat, 17 Oct 2020) |
| EndedAt: 2020-10-17 02:15:57 -0400 (Sat, 17 Oct 2020) |
| EllapsedTime: 31.4 seconds |
| RetCode: 0 |
| Status: OK |
| CheckDir: hypergraph.Rcheck |
| Warnings: 0 |
############################################################################## ############################################################################## ### ### Running command: ### ### /home/biocbuild/bbs-3.11-bioc/R/bin/R CMD check --install=check:hypergraph.install-out.txt --library=/home/biocbuild/bbs-3.11-bioc/R/library --no-vignettes --timings hypergraph_1.60.0.tar.gz ### ############################################################################## ############################################################################## * using log directory ‘/home/biocbuild/bbs-3.11-bioc/meat/hypergraph.Rcheck’ * using R version 4.0.3 (2020-10-10) * using platform: x86_64-pc-linux-gnu (64-bit) * using session charset: UTF-8 * using option ‘--no-vignettes’ * checking for file ‘hypergraph/DESCRIPTION’ ... OK * this is package ‘hypergraph’ version ‘1.60.0’ * checking package namespace information ... OK * checking package dependencies ... OK * checking if this is a source package ... OK * checking if there is a namespace ... OK * checking for hidden files and directories ... OK * checking for portable file names ... OK * checking for sufficient/correct file permissions ... OK * checking whether package ‘hypergraph’ can be installed ... OK * checking installed package size ... OK * checking package directory ... OK * checking DESCRIPTION meta-information ... OK * checking top-level files ... OK * checking for left-over files ... OK * checking index information ... OK * checking package subdirectories ... OK * checking R files for non-ASCII characters ... OK * checking R files for syntax errors ... OK * checking whether the package can be loaded ... OK * checking whether the package can be loaded with stated dependencies ... OK * checking whether the package can be unloaded cleanly ... OK * checking whether the namespace can be loaded with stated dependencies ... OK * checking whether the namespace can be unloaded cleanly ... OK * checking dependencies in R code ... OK * checking S3 generic/method consistency ... OK * checking replacement functions ... OK * checking foreign function calls ... OK * checking R code for possible problems ... OK * checking Rd files ... OK * checking Rd metadata ... OK * checking Rd cross-references ... OK * checking for missing documentation entries ... OK * checking for code/documentation mismatches ... OK * checking Rd \usage sections ... OK * checking Rd contents ... OK * checking for unstated dependencies in examples ... OK * checking examples ... OK * checking for unstated dependencies in ‘tests’ ... OK * checking tests ... Running ‘hypergraph_unit_tests.R’ OK * checking PDF version of manual ... OK * DONE Status: OK
hypergraph.Rcheck/00install.out
############################################################################## ############################################################################## ### ### Running command: ### ### /home/biocbuild/bbs-3.11-bioc/R/bin/R CMD INSTALL hypergraph ### ############################################################################## ############################################################################## * installing to library ‘/home/biocbuild/bbs-3.11-bioc/R/library’ * installing *source* package ‘hypergraph’ ... ** using staged installation ** R ** inst ** byte-compile and prepare package for lazy loading ** help *** installing help indices ** building package indices ** testing if installed package can be loaded from temporary location ** testing if installed package can be loaded from final location ** testing if installed package keeps a record of temporary installation path * DONE (hypergraph)
hypergraph.Rcheck/tests/hypergraph_unit_tests.Rout
R version 4.0.3 (2020-10-10) -- "Bunny-Wunnies Freak Out"
Copyright (C) 2020 The R Foundation for Statistical Computing
Platform: x86_64-pc-linux-gnu (64-bit)
R is free software and comes with ABSOLUTELY NO WARRANTY.
You are welcome to redistribute it under certain conditions.
Type 'license()' or 'licence()' for distribution details.
R is a collaborative project with many contributors.
Type 'contributors()' for more information and
'citation()' on how to cite R or R packages in publications.
Type 'demo()' for some demos, 'help()' for on-line help, or
'help.start()' for an HTML browser interface to help.
Type 'q()' to quit R.
> BiocGenerics:::testPackage("hypergraph")
Attaching package: 'BiocGenerics'
The following objects are masked from 'package:parallel':
clusterApply, clusterApplyLB, clusterCall, clusterEvalQ,
clusterExport, clusterMap, parApply, parCapply, parLapply,
parLapplyLB, parRapply, parSapply, parSapplyLB
The following objects are masked from 'package:stats':
IQR, mad, sd, var, xtabs
The following objects are masked from 'package:base':
Filter, Find, Map, Position, Reduce, anyDuplicated, append,
as.data.frame, basename, cbind, colnames, dirname, do.call,
duplicated, eval, evalq, get, grep, grepl, intersect, is.unsorted,
lapply, mapply, match, mget, order, paste, pmax, pmax.int, pmin,
pmin.int, rank, rbind, rownames, sapply, setdiff, sort, table,
tapply, union, unique, unsplit, which, which.max, which.min
RUNIT TEST PROTOCOL -- Sat Oct 17 02:15:54 2020
***********************************************
Number of test functions: 12
Number of errors: 0
Number of failures: 0
1 Test Suite :
hypergraph RUnit Tests - 12 test functions, 0 errors, 0 failures
Number of test functions: 12
Number of errors: 0
Number of failures: 0
>
> proc.time()
user system elapsed
1.092 0.072 1.163
hypergraph.Rcheck/hypergraph-Ex.timings
| name | user | system | elapsed | |
| DirectedHyperedge-class | 0.000 | 0.000 | 0.001 | |
| Hyperedge-class | 0 | 0 | 0 | |
| Hypergraph-class | 0.001 | 0.000 | 0.002 | |
| kCores | 0.007 | 0.000 | 0.008 | |
| l2hel | 0.000 | 0.000 | 0.001 | |
| vCover | 0.001 | 0.003 | 0.005 | |