| Back to Multiple platform build/check report for BioC 3.11 |
|
This page was generated on 2020-10-17 11:56:50 -0400 (Sat, 17 Oct 2020).
| TO THE DEVELOPERS/MAINTAINERS OF THE hpar PACKAGE: Please make sure to use the following settings in order to reproduce any error or warning you see on this page. |
| Package 832/1905 | Hostname | OS / Arch | INSTALL | BUILD | CHECK | BUILD BIN | ||||||
| hpar 1.30.0 Laurent Gatto
| malbec2 | Linux (Ubuntu 18.04.4 LTS) / x86_64 | OK | OK | OK | |||||||
| tokay2 | Windows Server 2012 R2 Standard / x64 | OK | OK | OK | [ OK ] | |||||||
| machv2 | macOS 10.14.6 Mojave / x86_64 | OK | OK | OK | OK |
| Package: hpar |
| Version: 1.30.0 |
| Command: rm -rf hpar.buildbin-libdir && mkdir hpar.buildbin-libdir && C:\Users\biocbuild\bbs-3.11-bioc\R\bin\R.exe CMD INSTALL --merge-multiarch --build --library=hpar.buildbin-libdir hpar_1.30.0.tar.gz |
| StartedAt: 2020-10-17 10:45:59 -0400 (Sat, 17 Oct 2020) |
| EndedAt: 2020-10-17 10:47:00 -0400 (Sat, 17 Oct 2020) |
| EllapsedTime: 60.6 seconds |
| RetCode: 0 |
| Status: OK |
| PackageFile: hpar_1.30.0.zip |
| PackageFileSize: 7.135 MiB |
##############################################################################
##############################################################################
###
### Running command:
###
### rm -rf hpar.buildbin-libdir && mkdir hpar.buildbin-libdir && C:\Users\biocbuild\bbs-3.11-bioc\R\bin\R.exe CMD INSTALL --merge-multiarch --build --library=hpar.buildbin-libdir hpar_1.30.0.tar.gz
###
##############################################################################
##############################################################################
install for i386
* installing *source* package 'hpar' ...
** using staged installation
** R
** data
** inst
** byte-compile and prepare package for lazy loading
** help
*** installing help indices
converting help for package 'hpar'
finding HTML links ... done
getHpa html
getHpaDate html
getHparOptions html
hpar html
setHparOptions html
** building package indices
** installing vignettes
** testing if installed package can be loaded from temporary location
** testing if installed package can be loaded from final location
** testing if installed package keeps a record of temporary installation path
install for x64
* installing *source* package 'hpar' ...
** testing if installed package can be loaded
* MD5 sums
packaged installation of 'hpar' as hpar_1.30.0.zip
* DONE (hpar)