| Back to Multiple platform build/check report for BioC 3.11 | 
 | 
This page was generated on 2020-10-17 11:56:49 -0400 (Sat, 17 Oct 2020).
| TO THE DEVELOPERS/MAINTAINERS OF THE hmdbQuery PACKAGE: Please make sure to use the following settings in order to reproduce any error or warning you see on this page. | 
| Package 828/1905 | Hostname | OS / Arch | INSTALL | BUILD | CHECK | BUILD BIN | ||||||
| hmdbQuery 1.8.0 VJ Carey 
 | malbec2 | Linux (Ubuntu 18.04.4 LTS) / x86_64 | OK | OK | OK |  | ||||||
| tokay2 | Windows Server 2012 R2 Standard / x64 | [ OK ] | OK | OK | OK |  | ||||||
| machv2 | macOS 10.14.6 Mojave / x86_64 | OK | OK | OK | OK |  | 
| Package: hmdbQuery | 
| Version: 1.8.0 | 
| Command: C:\cygwin\bin\curl.exe -O https://malbec2.bioconductor.org/BBS/3.11/bioc/src/contrib/hmdbQuery_1.8.0.tar.gz && rm -rf hmdbQuery.buildbin-libdir && mkdir hmdbQuery.buildbin-libdir && C:\Users\biocbuild\bbs-3.11-bioc\R\bin\R.exe CMD INSTALL --merge-multiarch --build --library=hmdbQuery.buildbin-libdir hmdbQuery_1.8.0.tar.gz && C:\Users\biocbuild\bbs-3.11-bioc\R\bin\R.exe CMD INSTALL hmdbQuery_1.8.0.zip && rm hmdbQuery_1.8.0.tar.gz hmdbQuery_1.8.0.zip | 
| StartedAt: 2020-10-16 17:01:16 -0400 (Fri, 16 Oct 2020) | 
| EndedAt: 2020-10-16 17:02:08 -0400 (Fri, 16 Oct 2020) | 
| EllapsedTime: 52.2 seconds | 
| RetCode: 0 | 
| Status: OK | 
##############################################################################
##############################################################################
###
### Running command:
###
###   C:\cygwin\bin\curl.exe -O https://malbec2.bioconductor.org/BBS/3.11/bioc/src/contrib/hmdbQuery_1.8.0.tar.gz && rm -rf hmdbQuery.buildbin-libdir && mkdir hmdbQuery.buildbin-libdir && C:\Users\biocbuild\bbs-3.11-bioc\R\bin\R.exe CMD INSTALL --merge-multiarch --build --library=hmdbQuery.buildbin-libdir hmdbQuery_1.8.0.tar.gz && C:\Users\biocbuild\bbs-3.11-bioc\R\bin\R.exe CMD INSTALL hmdbQuery_1.8.0.zip && rm hmdbQuery_1.8.0.tar.gz hmdbQuery_1.8.0.zip
###
##############################################################################
##############################################################################
  % Total    % Received % Xferd  Average Speed   Time    Time     Time  Current
                                 Dload  Upload   Total   Spent    Left  Speed
  0     0    0     0    0     0      0      0 --:--:-- --:--:-- --:--:--     0
100  513k  100  513k    0     0  8327k      0 --:--:-- --:--:-- --:--:-- 9508k
install for i386
Warning in untar2(tarfile, files, list, exdir, restore_times) :
  restoring symbolic link as a file copy
* installing *source* package 'hmdbQuery' ...
** using staged installation
** R
** data
** inst
** byte-compile and prepare package for lazy loading
** help
*** installing help indices
  converting help for package 'hmdbQuery'
    finding HTML links ... done
    HmdbEntry-class                         html  
    HmdbEntry                               html  
    biospecimens-HmdbEntry-method           html  
    diseases-HmdbEntry-method               html  
    hmdb1                                   html  
    hmdb_disease                            html  
    hmdb_gene                               html  
    hmdb_omim                               html  
    hmdb_protein                            html  
    store-HmdbEntry-method                  html  
    tissues-HmdbEntry-method                html  
** building package indices
** installing vignettes
** testing if installed package can be loaded from temporary location
** testing if installed package can be loaded from final location
** testing if installed package keeps a record of temporary installation path
install for x64
Warning in untar2(tarfile, files, list, exdir, restore_times) :
  restoring symbolic link as a file copy
* installing *source* package 'hmdbQuery' ...
** testing if installed package can be loaded
* MD5 sums
packaged installation of 'hmdbQuery' as hmdbQuery_1.8.0.zip
* DONE (hmdbQuery)
* installing to library 'C:/Users/biocbuild/bbs-3.11-bioc/R/library'
package 'hmdbQuery' successfully unpacked and MD5 sums checked