| Back to Multiple platform build/check report for BioC 3.11 |
|
This page was generated on 2020-10-17 11:56:49 -0400 (Sat, 17 Oct 2020).
| TO THE DEVELOPERS/MAINTAINERS OF THE hierinf PACKAGE: Please make sure to use the following settings in order to reproduce any error or warning you see on this page. |
| Package 818/1905 | Hostname | OS / Arch | INSTALL | BUILD | CHECK | BUILD BIN | ||||||
| hierinf 1.6.0 Claude Renaux
| malbec2 | Linux (Ubuntu 18.04.4 LTS) / x86_64 | OK | OK | OK | |||||||
| tokay2 | Windows Server 2012 R2 Standard / x64 | OK | OK | OK | [ OK ] | |||||||
| machv2 | macOS 10.14.6 Mojave / x86_64 | OK | OK | OK | OK |
| Package: hierinf |
| Version: 1.6.0 |
| Command: rm -rf hierinf.buildbin-libdir && mkdir hierinf.buildbin-libdir && C:\Users\biocbuild\bbs-3.11-bioc\R\bin\R.exe CMD INSTALL --merge-multiarch --build --library=hierinf.buildbin-libdir hierinf_1.6.0.tar.gz |
| StartedAt: 2020-10-17 10:45:11 -0400 (Sat, 17 Oct 2020) |
| EndedAt: 2020-10-17 10:45:47 -0400 (Sat, 17 Oct 2020) |
| EllapsedTime: 36.3 seconds |
| RetCode: 0 |
| Status: OK |
| PackageFile: hierinf_1.6.0.zip |
| PackageFileSize: 504.1 KiB |
##############################################################################
##############################################################################
###
### Running command:
###
### rm -rf hierinf.buildbin-libdir && mkdir hierinf.buildbin-libdir && C:\Users\biocbuild\bbs-3.11-bioc\R\bin\R.exe CMD INSTALL --merge-multiarch --build --library=hierinf.buildbin-libdir hierinf_1.6.0.tar.gz
###
##############################################################################
##############################################################################
install for i386
* installing *source* package 'hierinf' ...
** using staged installation
** R
** data
*** moving datasets to lazyload DB
** inst
** byte-compile and prepare package for lazy loading
** help
*** installing help indices
converting help for package 'hierinf'
finding HTML links ... done
cluster_position html
cluster_var html
compute_r2 html
finding level-2 HTML links ... done
hierinf html
multisplit html
print.hierT html
simGWAS html
test_hierarchy html
test_only_hierarchy html
** building package indices
** installing vignettes
** testing if installed package can be loaded from temporary location
** testing if installed package can be loaded from final location
** testing if installed package keeps a record of temporary installation path
install for x64
* installing *source* package 'hierinf' ...
** testing if installed package can be loaded
* MD5 sums
packaged installation of 'hierinf' as hierinf_1.6.0.zip
* DONE (hierinf)