| Back to Multiple platform build/check report for BioC 3.11 |
|
This page was generated on 2020-10-17 11:56:49 -0400 (Sat, 17 Oct 2020).
| TO THE DEVELOPERS/MAINTAINERS OF THE hierGWAS PACKAGE: Please make sure to use the following settings in order to reproduce any error or warning you see on this page. |
| Package 817/1905 | Hostname | OS / Arch | INSTALL | BUILD | CHECK | BUILD BIN | ||||||
| hierGWAS 1.18.0 Laura Buzdugan
| malbec2 | Linux (Ubuntu 18.04.4 LTS) / x86_64 | OK | OK | OK | |||||||
| tokay2 | Windows Server 2012 R2 Standard / x64 | [ OK ] | OK | OK | OK | |||||||
| machv2 | macOS 10.14.6 Mojave / x86_64 | OK | OK | OK | OK |
| Package: hierGWAS |
| Version: 1.18.0 |
| Command: C:\cygwin\bin\curl.exe -O https://malbec2.bioconductor.org/BBS/3.11/bioc/src/contrib/hierGWAS_1.18.0.tar.gz && rm -rf hierGWAS.buildbin-libdir && mkdir hierGWAS.buildbin-libdir && C:\Users\biocbuild\bbs-3.11-bioc\R\bin\R.exe CMD INSTALL --merge-multiarch --build --library=hierGWAS.buildbin-libdir hierGWAS_1.18.0.tar.gz && C:\Users\biocbuild\bbs-3.11-bioc\R\bin\R.exe CMD INSTALL hierGWAS_1.18.0.zip && rm hierGWAS_1.18.0.tar.gz hierGWAS_1.18.0.zip |
| StartedAt: 2020-10-16 17:06:08 -0400 (Fri, 16 Oct 2020) |
| EndedAt: 2020-10-16 17:06:52 -0400 (Fri, 16 Oct 2020) |
| EllapsedTime: 43.7 seconds |
| RetCode: 0 |
| Status: OK |
##############################################################################
##############################################################################
###
### Running command:
###
### C:\cygwin\bin\curl.exe -O https://malbec2.bioconductor.org/BBS/3.11/bioc/src/contrib/hierGWAS_1.18.0.tar.gz && rm -rf hierGWAS.buildbin-libdir && mkdir hierGWAS.buildbin-libdir && C:\Users\biocbuild\bbs-3.11-bioc\R\bin\R.exe CMD INSTALL --merge-multiarch --build --library=hierGWAS.buildbin-libdir hierGWAS_1.18.0.tar.gz && C:\Users\biocbuild\bbs-3.11-bioc\R\bin\R.exe CMD INSTALL hierGWAS_1.18.0.zip && rm hierGWAS_1.18.0.tar.gz hierGWAS_1.18.0.zip
###
##############################################################################
##############################################################################
% Total % Received % Xferd Average Speed Time Time Time Current
Dload Upload Total Spent Left Speed
0 0 0 0 0 0 0 0 --:--:-- --:--:-- --:--:-- 0
100 200k 100 200k 0 0 2329k 0 --:--:-- --:--:-- --:--:-- 2535k
install for i386
* installing *source* package 'hierGWAS' ...
** using staged installation
** R
** data
*** moving datasets to lazyload DB
** inst
** byte-compile and prepare package for lazy loading
** help
*** installing help indices
converting help for package 'hierGWAS'
finding HTML links ... done
cluster.snp html
compute.r2 html
hierGWAS html
multisplit html
finding level-2 HTML links ... done
simGWAS html
test.hierarchy html
** building package indices
** installing vignettes
** testing if installed package can be loaded from temporary location
** testing if installed package can be loaded from final location
** testing if installed package keeps a record of temporary installation path
install for x64
* installing *source* package 'hierGWAS' ...
** testing if installed package can be loaded
* MD5 sums
packaged installation of 'hierGWAS' as hierGWAS_1.18.0.zip
* DONE (hierGWAS)
* installing to library 'C:/Users/biocbuild/bbs-3.11-bioc/R/library'
package 'hierGWAS' successfully unpacked and MD5 sums checked