| Back to Multiple platform build/check report for BioC 3.11 | 
 | 
This page was generated on 2020-10-17 11:56:46 -0400 (Sat, 17 Oct 2020).
| TO THE DEVELOPERS/MAINTAINERS OF THE graphite PACKAGE: Please make sure to use the following settings in order to reproduce any error or warning you see on this page. | 
| Package 774/1905 | Hostname | OS / Arch | INSTALL | BUILD | CHECK | BUILD BIN | ||||||
| graphite 1.34.0 Gabriele Sales 
 | malbec2 | Linux (Ubuntu 18.04.4 LTS) / x86_64 | OK | OK | OK |  | ||||||
| tokay2 | Windows Server 2012 R2 Standard / x64 | [ OK ] | OK | OK | OK |  | ||||||
| machv2 | macOS 10.14.6 Mojave / x86_64 | OK | OK | OK | OK |  | 
| Package: graphite | 
| Version: 1.34.0 | 
| Command: C:\cygwin\bin\curl.exe -O https://malbec2.bioconductor.org/BBS/3.11/bioc/src/contrib/graphite_1.34.0.tar.gz && rm -rf graphite.buildbin-libdir && mkdir graphite.buildbin-libdir && C:\Users\biocbuild\bbs-3.11-bioc\R\bin\R.exe CMD INSTALL --merge-multiarch --build --library=graphite.buildbin-libdir graphite_1.34.0.tar.gz && C:\Users\biocbuild\bbs-3.11-bioc\R\bin\R.exe CMD INSTALL graphite_1.34.0.zip && rm graphite_1.34.0.tar.gz graphite_1.34.0.zip | 
| StartedAt: 2020-10-16 17:53:30 -0400 (Fri, 16 Oct 2020) | 
| EndedAt: 2020-10-16 17:55:16 -0400 (Fri, 16 Oct 2020) | 
| EllapsedTime: 106.2 seconds | 
| RetCode: 0 | 
| Status: OK | 
##############################################################################
##############################################################################
###
### Running command:
###
###   C:\cygwin\bin\curl.exe -O https://malbec2.bioconductor.org/BBS/3.11/bioc/src/contrib/graphite_1.34.0.tar.gz && rm -rf graphite.buildbin-libdir && mkdir graphite.buildbin-libdir && C:\Users\biocbuild\bbs-3.11-bioc\R\bin\R.exe CMD INSTALL --merge-multiarch --build --library=graphite.buildbin-libdir graphite_1.34.0.tar.gz && C:\Users\biocbuild\bbs-3.11-bioc\R\bin\R.exe CMD INSTALL graphite_1.34.0.zip && rm graphite_1.34.0.tar.gz graphite_1.34.0.zip
###
##############################################################################
##############################################################################
  % Total    % Received % Xferd  Average Speed   Time    Time     Time  Current
                                 Dload  Upload   Total   Spent    Left  Speed
  0     0    0     0    0     0      0      0 --:--:-- --:--:-- --:--:--     0
100  457k  100  457k    0     0  6628k      0 --:--:-- --:--:-- --:--:-- 7371k
install for i386
* installing *source* package 'graphite' ...
** using staged installation
** R
** inst
** byte-compile and prepare package for lazy loading
** help
*** installing help indices
  converting help for package 'graphite'
    finding HTML links ... done
    Pathway-class                           html  
    PathwayList-class                       html  
    Pathways-class                          html  
    as.list.PathwayList                     html  
    buildPathway                            html  
    convertIdentifiers                      html  
    cytoscapePlot                           html  
    finding level-2 HTML links ... done
    pathwayDatabases                        html  
    pathwayGraph                            html  
    pathways                                html  
    prepareSPIA                             html  
    runClipper                              html  
    runSPIA                                 html  
    runTopologyGSA                          html  
** building package indices
** installing vignettes
** testing if installed package can be loaded from temporary location
** testing if installed package can be loaded from final location
** testing if installed package keeps a record of temporary installation path
install for x64
* installing *source* package 'graphite' ...
** testing if installed package can be loaded
* MD5 sums
packaged installation of 'graphite' as graphite_1.34.0.zip
* DONE (graphite)
* installing to library 'C:/Users/biocbuild/bbs-3.11-bioc/R/library'
package 'graphite' successfully unpacked and MD5 sums checked