| Back to Multiple platform build/check report for BioC 3.11 |
|
This page was generated on 2020-10-17 11:58:36 -0400 (Sat, 17 Oct 2020).
| TO THE DEVELOPERS/MAINTAINERS OF THE glmSparseNet PACKAGE: Please make sure to use the following settings in order to reproduce any error or warning you see on this page. |
| Package 740/1905 | Hostname | OS / Arch | INSTALL | BUILD | CHECK | BUILD BIN | ||||||
| glmSparseNet 1.6.0 André Veríssimo
| malbec2 | Linux (Ubuntu 18.04.4 LTS) / x86_64 | OK | ERROR | skipped | |||||||
| tokay2 | Windows Server 2012 R2 Standard / x64 | OK | OK | OK | OK | |||||||
| machv2 | macOS 10.14.6 Mojave / x86_64 | OK | OK | [ OK ] | OK |
| Package: glmSparseNet |
| Version: 1.6.0 |
| Command: /Library/Frameworks/R.framework/Versions/Current/Resources/bin/R CMD check --install=check:glmSparseNet.install-out.txt --library=/Library/Frameworks/R.framework/Versions/Current/Resources/library --no-vignettes --timings glmSparseNet_1.6.0.tar.gz |
| StartedAt: 2020-10-17 01:40:15 -0400 (Sat, 17 Oct 2020) |
| EndedAt: 2020-10-17 01:45:18 -0400 (Sat, 17 Oct 2020) |
| EllapsedTime: 303.7 seconds |
| RetCode: 0 |
| Status: OK |
| CheckDir: glmSparseNet.Rcheck |
| Warnings: 0 |
##############################################################################
##############################################################################
###
### Running command:
###
### /Library/Frameworks/R.framework/Versions/Current/Resources/bin/R CMD check --install=check:glmSparseNet.install-out.txt --library=/Library/Frameworks/R.framework/Versions/Current/Resources/library --no-vignettes --timings glmSparseNet_1.6.0.tar.gz
###
##############################################################################
##############################################################################
* using log directory ‘/Users/biocbuild/bbs-3.11-bioc/meat/glmSparseNet.Rcheck’
* using R version 4.0.3 (2020-10-10)
* using platform: x86_64-apple-darwin17.0 (64-bit)
* using session charset: UTF-8
* using option ‘--no-vignettes’
* checking for file ‘glmSparseNet/DESCRIPTION’ ... OK
* checking extension type ... Package
* this is package ‘glmSparseNet’ version ‘1.6.0’
* package encoding: UTF-8
* checking package namespace information ... OK
* checking package dependencies ... OK
* checking if this is a source package ... OK
* checking if there is a namespace ... OK
* checking for hidden files and directories ... OK
* checking for portable file names ... OK
* checking for sufficient/correct file permissions ... OK
* checking whether package ‘glmSparseNet’ can be installed ... OK
* checking installed package size ... OK
* checking package directory ... OK
* checking ‘build’ directory ... OK
* checking DESCRIPTION meta-information ... OK
* checking top-level files ... OK
* checking for left-over files ... OK
* checking index information ... OK
* checking package subdirectories ... OK
* checking R files for non-ASCII characters ... OK
* checking R files for syntax errors ... OK
* checking whether the package can be loaded ... OK
* checking whether the package can be loaded with stated dependencies ... OK
* checking whether the package can be unloaded cleanly ... OK
* checking whether the namespace can be loaded with stated dependencies ... OK
* checking whether the namespace can be unloaded cleanly ... OK
* checking dependencies in R code ... NOTE
Namespace in Imports field not imported from: ‘rlang’
All declared Imports should be used.
Missing or unexported object: ‘STRINGdb::get_STRING_species’
* checking S3 generic/method consistency ... OK
* checking replacement functions ... OK
* checking foreign function calls ... OK
* checking R code for possible problems ... OK
* checking Rd files ... OK
* checking Rd metadata ... OK
* checking Rd cross-references ... OK
* checking for missing documentation entries ... OK
* checking for code/documentation mismatches ... OK
* checking Rd \usage sections ... OK
* checking Rd contents ... OK
* checking for unstated dependencies in examples ... OK
* checking contents of ‘data’ directory ... OK
* checking data for non-ASCII characters ... OK
* checking data for ASCII and uncompressed saves ... OK
* checking files in ‘vignettes’ ... OK
* checking examples ... OK
Examples with CPU (user + system) or elapsed time > 5s
user system elapsed
geneNames 7.414 0.119 15.342
* checking for unstated dependencies in ‘tests’ ... OK
* checking tests ...
Running ‘testthat.R’
OK
* checking for unstated dependencies in vignettes ... OK
* checking package vignettes in ‘inst/doc’ ... OK
* checking running R code from vignettes ... SKIPPED
* checking re-building of vignette outputs ... SKIPPED
* checking PDF version of manual ... OK
* DONE
Status: 1 NOTE
See
‘/Users/biocbuild/bbs-3.11-bioc/meat/glmSparseNet.Rcheck/00check.log’
for details.
glmSparseNet.Rcheck/00install.out
############################################################################## ############################################################################## ### ### Running command: ### ### /Library/Frameworks/R.framework/Versions/Current/Resources/bin/R CMD INSTALL glmSparseNet ### ############################################################################## ############################################################################## * installing to library ‘/Library/Frameworks/R.framework/Versions/4.0/Resources/library’ * installing *source* package ‘glmSparseNet’ ... ** using staged installation ** R ** data *** moving datasets to lazyload DB ** inst ** byte-compile and prepare package for lazy loading ** help *** installing help indices ** building package indices ** installing vignettes ** testing if installed package can be loaded from temporary location ** testing if installed package can be loaded from final location ** testing if installed package keeps a record of temporary installation path * DONE (glmSparseNet)
glmSparseNet.Rcheck/tests/testthat.Rout
R version 4.0.3 (2020-10-10) -- "Bunny-Wunnies Freak Out"
Copyright (C) 2020 The R Foundation for Statistical Computing
Platform: x86_64-apple-darwin17.0 (64-bit)
R is free software and comes with ABSOLUTELY NO WARRANTY.
You are welcome to redistribute it under certain conditions.
Type 'license()' or 'licence()' for distribution details.
R is a collaborative project with many contributors.
Type 'contributors()' for more information and
'citation()' on how to cite R or R packages in publications.
Type 'demo()' for some demos, 'help()' for on-line help, or
'help.start()' for an HTML browser interface to help.
Type 'q()' to quit R.
> library(testthat)
> library(glmSparseNet)
Loading required package: Matrix
Loading required package: MultiAssayExperiment
Loading required package: SummarizedExperiment
Loading required package: GenomicRanges
Loading required package: stats4
Loading required package: BiocGenerics
Loading required package: parallel
Attaching package: 'BiocGenerics'
The following objects are masked from 'package:parallel':
clusterApply, clusterApplyLB, clusterCall, clusterEvalQ,
clusterExport, clusterMap, parApply, parCapply, parLapply,
parLapplyLB, parRapply, parSapply, parSapplyLB
The following object is masked from 'package:Matrix':
which
The following objects are masked from 'package:stats':
IQR, mad, sd, var, xtabs
The following objects are masked from 'package:base':
Filter, Find, Map, Position, Reduce, anyDuplicated, append,
as.data.frame, basename, cbind, colnames, dirname, do.call,
duplicated, eval, evalq, get, grep, grepl, intersect, is.unsorted,
lapply, mapply, match, mget, order, paste, pmax, pmax.int, pmin,
pmin.int, rank, rbind, rownames, sapply, setdiff, sort, table,
tapply, union, unique, unsplit, which, which.max, which.min
Loading required package: S4Vectors
Attaching package: 'S4Vectors'
The following object is masked from 'package:Matrix':
expand
The following object is masked from 'package:base':
expand.grid
Loading required package: IRanges
Loading required package: GenomeInfoDb
Loading required package: Biobase
Welcome to Bioconductor
Vignettes contain introductory material; view with
'browseVignettes()'. To cite Bioconductor, see
'citation("Biobase")', and for packages 'citation("pkgname")'.
Loading required package: DelayedArray
Loading required package: matrixStats
Attaching package: 'matrixStats'
The following objects are masked from 'package:Biobase':
anyMissing, rowMedians
Attaching package: 'DelayedArray'
The following objects are masked from 'package:matrixStats':
colMaxs, colMins, colRanges, rowMaxs, rowMins, rowRanges
The following objects are masked from 'package:base':
aperm, apply, rowsum
Loading required package: glmnet
Loaded glmnet 4.0-2
>
> test_check("glmSparseNet")
Loading from cache (not calculating): /tmp/Rtmp8LyVwJ/814a/cache-biomart-H_814affbc9d3ea2eab3ccea0a551ccb2290163bbcf23ee395ed1502576db44e09.RData
══ testthat results ═══════════════════════════════════════════════════════════
[ OK: 49 | SKIPPED: 0 | WARNINGS: 0 | FAILED: 0 ]
>
> proc.time()
user system elapsed
36.330 8.426 46.261
glmSparseNet.Rcheck/glmSparseNet-Ex.timings
| name | user | system | elapsed | |
| buildLambda | 0.006 | 0.006 | 0.012 | |
| buildStringNetwork | 0 | 0 | 0 | |
| cv.glmDegree | 0.309 | 0.016 | 0.326 | |
| cv.glmHub | 0.077 | 0.002 | 0.079 | |
| cv.glmOrphan | 0.077 | 0.002 | 0.079 | |
| cv.glmSparseNet | 3.832 | 0.105 | 3.940 | |
| degreeCor | 0.030 | 0.003 | 0.032 | |
| degreeCov | 0.009 | 0.001 | 0.010 | |
| degreeSparsebn | 1.652 | 0.015 | 1.669 | |
| dot-calcPenalty | 0.998 | 0.033 | 1.032 | |
| ensemblGeneNames | 0.001 | 0.000 | 0.001 | |
| geneNames | 7.414 | 0.119 | 15.342 | |
| glmDegree | 0.016 | 0.003 | 0.019 | |
| glmHub | 0.011 | 0.003 | 0.013 | |
| glmOrphan | 0.009 | 0.003 | 0.012 | |
| glmSparseNet | 1.793 | 0.027 | 1.822 | |
| hallmarks | 0.000 | 0.001 | 0.000 | |
| heuristicScale | 0 | 0 | 0 | |
| hubHeuristic | 0.001 | 0.000 | 0.000 | |
| networkCorParallel | 0.034 | 0.003 | 0.037 | |
| networkCovParallel | 0.013 | 0.001 | 0.014 | |
| networkOptions | 0.000 | 0.001 | 0.000 | |
| orphanHeuristic | 0.001 | 0.000 | 0.000 | |
| protein2EnsemblGeneNames | 0.485 | 0.008 | 0.906 | |
| separate2GroupsCox | 3.582 | 0.061 | 3.658 | |
| string.network.700.cache | 1.323 | 0.607 | 1.933 | |
| stringDBhomoSapiens | 0.000 | 0.000 | 0.001 | |