| Back to Multiple platform build/check report for BioC 3.11 |
|
This page was generated on 2020-10-17 11:56:41 -0400 (Sat, 17 Oct 2020).
| TO THE DEVELOPERS/MAINTAINERS OF THE ggbio PACKAGE: Please make sure to use the following settings in order to reproduce any error or warning you see on this page. |
| Package 728/1905 | Hostname | OS / Arch | INSTALL | BUILD | CHECK | BUILD BIN | ||||||
| ggbio 1.36.0 Michael Lawrence
| malbec2 | Linux (Ubuntu 18.04.4 LTS) / x86_64 | OK | OK | WARNINGS | |||||||
| tokay2 | Windows Server 2012 R2 Standard / x64 | OK | OK | WARNINGS | [ OK ] | |||||||
| machv2 | macOS 10.14.6 Mojave / x86_64 | OK | OK | WARNINGS | OK |
| Package: ggbio |
| Version: 1.36.0 |
| Command: rm -rf ggbio.buildbin-libdir && mkdir ggbio.buildbin-libdir && C:\Users\biocbuild\bbs-3.11-bioc\R\bin\R.exe CMD INSTALL --merge-multiarch --build --library=ggbio.buildbin-libdir ggbio_1.36.0.tar.gz |
| StartedAt: 2020-10-17 10:39:18 -0400 (Sat, 17 Oct 2020) |
| EndedAt: 2020-10-17 10:41:02 -0400 (Sat, 17 Oct 2020) |
| EllapsedTime: 104.0 seconds |
| RetCode: 0 |
| Status: OK |
| PackageFile: ggbio_1.36.0.zip |
| PackageFileSize: 3.334 MiB |
##############################################################################
##############################################################################
###
### Running command:
###
### rm -rf ggbio.buildbin-libdir && mkdir ggbio.buildbin-libdir && C:\Users\biocbuild\bbs-3.11-bioc\R\bin\R.exe CMD INSTALL --merge-multiarch --build --library=ggbio.buildbin-libdir ggbio_1.36.0.tar.gz
###
##############################################################################
##############################################################################
install for i386
* installing *source* package 'ggbio' ...
** using staged installation
** R
** inst
** byte-compile and prepare package for lazy loading
Creating a new generic function for 'rescale' in package 'ggbio'
Creating a new generic function for 'xlim' in package 'ggbio'
Creating a new generic function for 'geom_rect' in package 'ggbio'
Creating a new generic function for 'geom_segment' in package 'ggbio'
Creating a new generic function for 'geom_bar' in package 'ggbio'
Creating a new generic function for 'stat_identity' in package 'ggbio'
Creating a new generic function for 'stat_bin' in package 'ggbio'
** help
*** installing help indices
converting help for package 'ggbio'
finding HTML links ... done
Grob-class html
Plot-class html
Tracked-class html
arrangeGrobByParsingLegend html
autoplot-method html
finding level-2 HTML links ... done
geom_alignment-method html
geom_arch-method html
geom_arrow-method html
geom_arrowrect-method html
geom_bar-method html
geom_chevron-method html
geom_rect-method html
geom_segment-method html
ggbio-class html
ggplot-method html
ggsave html
layout_circle-method html
layout_karyogram-method html
nav html
plotFragLength html
plotGrandLinear html
plotRangesLinkedToData html
plotSingleChrom html
plotSpliceSum html
plotStackedOverview html
rescale-method html
scale_fill_fold_change html
scale_fill_giemsa html
scale_x_sequnit html
stat_aggregate-method html
Rd warning: C:/Users/biocbuild/bbs-3.11-bioc/tmpdir/Rtmpy270Fb/R.INSTALLbc86f815126/ggbio/man/stat_aggregate-method.Rd:48: file link 'findOverlaps' in package 'IRanges' does not exist and so has been treated as a topic
stat_bin-method html
stat_coverage-method html
stat_gene-method html
stat_identity-method html
stat_mismatch-method html
stat_reduce-method html
Rd warning: C:/Users/biocbuild/bbs-3.11-bioc/tmpdir/Rtmpy270Fb/R.INSTALLbc86f815126/ggbio/man/stat_reduce-method.Rd:45: file link 'reduce' in package 'IRanges' does not exist and so has been treated as a topic
Rd warning: C:/Users/biocbuild/bbs-3.11-bioc/tmpdir/Rtmpy270Fb/R.INSTALLbc86f815126/ggbio/man/stat_reduce-method.Rd:48: file link 'reduce' in package 'IRanges' does not exist and so has been treated as a topic
Rd warning: C:/Users/biocbuild/bbs-3.11-bioc/tmpdir/Rtmpy270Fb/R.INSTALLbc86f815126/ggbio/man/stat_reduce-method.Rd:51: file link 'reduce' in package 'IRanges' does not exist and so has been treated as a topic
Rd warning: C:/Users/biocbuild/bbs-3.11-bioc/tmpdir/Rtmpy270Fb/R.INSTALLbc86f815126/ggbio/man/stat_reduce-method.Rd:54: file link 'reduce' in package 'IRanges' does not exist and so has been treated as a topic
Rd warning: C:/Users/biocbuild/bbs-3.11-bioc/tmpdir/Rtmpy270Fb/R.INSTALLbc86f815126/ggbio/man/stat_reduce-method.Rd:64: file link 'reduce' in package 'IRanges' does not exist and so has been treated as a topic
stat_slice-method html
Rd warning: C:/Users/biocbuild/bbs-3.11-bioc/tmpdir/Rtmpy270Fb/R.INSTALLbc86f815126/ggbio/man/stat_slice-method.Rd:66: file link 'slice' in package 'IRanges' does not exist and so has been treated as a topic
Rd warning: C:/Users/biocbuild/bbs-3.11-bioc/tmpdir/Rtmpy270Fb/R.INSTALLbc86f815126/ggbio/man/stat_slice-method.Rd:69: file link 'slice' in package 'IRanges' does not exist and so has been treated as a topic
Rd warning: C:/Users/biocbuild/bbs-3.11-bioc/tmpdir/Rtmpy270Fb/R.INSTALLbc86f815126/ggbio/man/stat_slice-method.Rd:72: file link 'slice' in package 'IRanges' does not exist and so has been treated as a topic
Rd warning: C:/Users/biocbuild/bbs-3.11-bioc/tmpdir/Rtmpy270Fb/R.INSTALLbc86f815126/ggbio/man/stat_slice-method.Rd:75: file link 'slice' in package 'IRanges' does not exist and so has been treated as a topic
Rd warning: C:/Users/biocbuild/bbs-3.11-bioc/tmpdir/Rtmpy270Fb/R.INSTALLbc86f815126/ggbio/man/stat_slice-method.Rd:78: file link 'slice' in package 'IRanges' does not exist and so has been treated as a topic
Rd warning: C:/Users/biocbuild/bbs-3.11-bioc/tmpdir/Rtmpy270Fb/R.INSTALLbc86f815126/ggbio/man/stat_slice-method.Rd:85: file link 'slice' in package 'IRanges' does not exist and so has been treated as a topic
stat_stepping-method html
stat_table-method html
theme html
tracks html
** building package indices
** installing vignettes
** testing if installed package can be loaded from temporary location
** testing if installed package can be loaded from final location
** testing if installed package keeps a record of temporary installation path
install for x64
* installing *source* package 'ggbio' ...
** testing if installed package can be loaded
* MD5 sums
packaged installation of 'ggbio' as ggbio_1.36.0.zip
* DONE (ggbio)