| Back to Multiple platform build/check report for BioC 3.11 |
|
This page was generated on 2020-10-17 11:54:51 -0400 (Sat, 17 Oct 2020).
| TO THE DEVELOPERS/MAINTAINERS OF THE genotypeeval PACKAGE: Please make sure to use the following settings in order to reproduce any error or warning you see on this page. |
| Package 717/1905 | Hostname | OS / Arch | INSTALL | BUILD | CHECK | BUILD BIN | ||||||
| genotypeeval 1.20.0 Jennifer Tom
| malbec2 | Linux (Ubuntu 18.04.4 LTS) / x86_64 | OK | OK | [ OK ] | |||||||
| tokay2 | Windows Server 2012 R2 Standard / x64 | OK | OK | ERROR | OK | |||||||
| machv2 | macOS 10.14.6 Mojave / x86_64 | OK | OK | OK | OK |
| Package: genotypeeval |
| Version: 1.20.0 |
| Command: /home/biocbuild/bbs-3.11-bioc/R/bin/R CMD check --install=check:genotypeeval.install-out.txt --library=/home/biocbuild/bbs-3.11-bioc/R/library --no-vignettes --timings genotypeeval_1.20.0.tar.gz |
| StartedAt: 2020-10-17 01:44:48 -0400 (Sat, 17 Oct 2020) |
| EndedAt: 2020-10-17 01:52:48 -0400 (Sat, 17 Oct 2020) |
| EllapsedTime: 480.4 seconds |
| RetCode: 0 |
| Status: OK |
| CheckDir: genotypeeval.Rcheck |
| Warnings: 0 |
############################################################################## ############################################################################## ### ### Running command: ### ### /home/biocbuild/bbs-3.11-bioc/R/bin/R CMD check --install=check:genotypeeval.install-out.txt --library=/home/biocbuild/bbs-3.11-bioc/R/library --no-vignettes --timings genotypeeval_1.20.0.tar.gz ### ############################################################################## ############################################################################## * using log directory ‘/home/biocbuild/bbs-3.11-bioc/meat/genotypeeval.Rcheck’ * using R version 4.0.3 (2020-10-10) * using platform: x86_64-pc-linux-gnu (64-bit) * using session charset: UTF-8 * using option ‘--no-vignettes’ * checking for file ‘genotypeeval/DESCRIPTION’ ... OK * this is package ‘genotypeeval’ version ‘1.20.0’ * checking package namespace information ... OK * checking package dependencies ... OK * checking if this is a source package ... OK * checking if there is a namespace ... OK * checking for hidden files and directories ... OK * checking for portable file names ... OK * checking for sufficient/correct file permissions ... OK * checking whether package ‘genotypeeval’ can be installed ... OK * checking installed package size ... OK * checking package directory ... OK * checking DESCRIPTION meta-information ... OK * checking top-level files ... OK * checking for left-over files ... OK * checking index information ... OK * checking package subdirectories ... OK * checking R files for non-ASCII characters ... OK * checking R files for syntax errors ... OK * checking whether the package can be loaded ... OK * checking whether the package can be loaded with stated dependencies ... OK * checking whether the package can be unloaded cleanly ... OK * checking whether the namespace can be loaded with stated dependencies ... OK * checking whether the namespace can be unloaded cleanly ... OK * checking dependencies in R code ... NOTE Missing or unexported object: ‘GenomicRanges::subset’ * checking S3 generic/method consistency ... OK * checking replacement functions ... OK * checking foreign function calls ... OK * checking R code for possible problems ... OK * checking Rd files ... OK * checking Rd metadata ... OK * checking Rd cross-references ... OK * checking for missing documentation entries ... OK * checking for code/documentation mismatches ... OK * checking Rd \usage sections ... OK * checking Rd contents ... OK * checking for unstated dependencies in examples ... OK * checking installed files from ‘inst/doc’ ... OK * checking files in ‘vignettes’ ... OK * checking examples ... OK * checking for unstated dependencies in ‘tests’ ... OK * checking tests ... Running ‘testthat.R’ OK * checking PDF version of manual ... OK * DONE Status: 1 NOTE See ‘/home/biocbuild/bbs-3.11-bioc/meat/genotypeeval.Rcheck/00check.log’ for details.
genotypeeval.Rcheck/00install.out
############################################################################## ############################################################################## ### ### Running command: ### ### /home/biocbuild/bbs-3.11-bioc/R/bin/R CMD INSTALL genotypeeval ### ############################################################################## ############################################################################## * installing to library ‘/home/biocbuild/bbs-3.11-bioc/R/library’ * installing *source* package ‘genotypeeval’ ... ** using staged installation ** R ** inst ** byte-compile and prepare package for lazy loading ** help *** installing help indices ** building package indices ** installing vignettes ** testing if installed package can be loaded from temporary location ** testing if installed package can be loaded from final location ** testing if installed package keeps a record of temporary installation path * DONE (genotypeeval)
genotypeeval.Rcheck/tests/testthat.Rout
R version 4.0.3 (2020-10-10) -- "Bunny-Wunnies Freak Out"
Copyright (C) 2020 The R Foundation for Statistical Computing
Platform: x86_64-pc-linux-gnu (64-bit)
R is free software and comes with ABSOLUTELY NO WARRANTY.
You are welcome to redistribute it under certain conditions.
Type 'license()' or 'licence()' for distribution details.
R is a collaborative project with many contributors.
Type 'contributors()' for more information and
'citation()' on how to cite R or R packages in publications.
Type 'demo()' for some demos, 'help()' for on-line help, or
'help.start()' for an HTML browser interface to help.
Type 'q()' to quit R.
> library(testthat)
> library(genotypeeval)
Loading required package: VariantAnnotation
Loading required package: BiocGenerics
Loading required package: parallel
Attaching package: 'BiocGenerics'
The following objects are masked from 'package:parallel':
clusterApply, clusterApplyLB, clusterCall, clusterEvalQ,
clusterExport, clusterMap, parApply, parCapply, parLapply,
parLapplyLB, parRapply, parSapply, parSapplyLB
The following objects are masked from 'package:stats':
IQR, mad, sd, var, xtabs
The following objects are masked from 'package:base':
Filter, Find, Map, Position, Reduce, anyDuplicated, append,
as.data.frame, basename, cbind, colnames, dirname, do.call,
duplicated, eval, evalq, get, grep, grepl, intersect, is.unsorted,
lapply, mapply, match, mget, order, paste, pmax, pmax.int, pmin,
pmin.int, rank, rbind, rownames, sapply, setdiff, sort, table,
tapply, union, unique, unsplit, which, which.max, which.min
Loading required package: GenomeInfoDb
Loading required package: S4Vectors
Loading required package: stats4
Attaching package: 'S4Vectors'
The following object is masked from 'package:base':
expand.grid
Loading required package: IRanges
Loading required package: GenomicRanges
Loading required package: SummarizedExperiment
Loading required package: Biobase
Welcome to Bioconductor
Vignettes contain introductory material; view with
'browseVignettes()'. To cite Bioconductor, see
'citation("Biobase")', and for packages 'citation("pkgname")'.
Loading required package: DelayedArray
Loading required package: matrixStats
Attaching package: 'matrixStats'
The following objects are masked from 'package:Biobase':
anyMissing, rowMedians
Attaching package: 'DelayedArray'
The following objects are masked from 'package:matrixStats':
colMaxs, colMins, colRanges, rowMaxs, rowMins, rowRanges
The following objects are masked from 'package:base':
aperm, apply, rowsum
Loading required package: Rsamtools
Loading required package: Biostrings
Loading required package: XVector
Attaching package: 'Biostrings'
The following object is masked from 'package:base':
strsplit
Attaching package: 'VariantAnnotation'
The following object is masked from 'package:base':
tabulate
>
> test_check("genotypeeval")
Reading VCF ...
[W::bcf_hdr_register_hrec] The type "NULL" is not supported, assuming "String"
[W::bcf_hdr_check_sanity] GL should be declared as Number=G
[W::bcf_hdr_register_hrec] The type "NULL" is not supported, assuming "String"
[W::bcf_hdr_register_hrec] The type "NULL" is not supported, assuming "String"
[W::bcf_hdr_register_hrec] The type "NULL" is not supported, assuming "String"
[W::bcf_hdr_register_hrec] The type "NULL" is not supported, assuming "String"
[W::bcf_hdr_register_hrec] The type "NULL" is not supported, assuming "String"
══ testthat results ═══════════════════════════════════════════════════════════
[ OK: 12 | SKIPPED: 0 | WARNINGS: 0 | FAILED: 0 ]
>
> proc.time()
user system elapsed
127.138 2.452 132.334
genotypeeval.Rcheck/genotypeeval-Ex.timings
| name | user | system | elapsed | |
| GoldDataFromGRanges | 0.088 | 0.001 | 0.088 | |
| GoldDataParam | 0.001 | 0.000 | 0.000 | |
| ReadGoldData | 2.044 | 0.065 | 2.131 | |
| ReadVCFData | 2.909 | 0.072 | 2.995 | |
| ReadVCFDataChunk | 4.523 | 0.024 | 4.547 | |
| VCFEvaluate | 3.212 | 0.004 | 3.216 | |
| VCFQAParam | 0.001 | 0.000 | 0.000 | |
| didSamplePass | 4.694 | 0.016 | 4.710 | |
| didSamplePassOverall | 3.024 | 0.000 | 3.024 | |
| getName | 3.073 | 0.004 | 3.077 | |
| getPlots | 4.511 | 0.004 | 4.515 | |
| getResults | 2.856 | 0.000 | 2.856 | |
| getVR | 2.270 | 0.008 | 2.278 | |