| Back to Multiple platform build/check report for BioC 3.11 |
|
This page was generated on 2020-10-17 11:54:50 -0400 (Sat, 17 Oct 2020).
| TO THE DEVELOPERS/MAINTAINERS OF THE geNetClassifier PACKAGE: Please make sure to use the following settings in order to reproduce any error or warning you see on this page. |
| Package 694/1905 | Hostname | OS / Arch | INSTALL | BUILD | CHECK | BUILD BIN | ||||||
| geNetClassifier 1.28.0 Sara Aibar
| malbec2 | Linux (Ubuntu 18.04.4 LTS) / x86_64 | OK | OK | [ OK ] | |||||||
| tokay2 | Windows Server 2012 R2 Standard / x64 | OK | OK | OK | OK | |||||||
| machv2 | macOS 10.14.6 Mojave / x86_64 | OK | OK | OK | OK |
| Package: geNetClassifier |
| Version: 1.28.0 |
| Command: /home/biocbuild/bbs-3.11-bioc/R/bin/R CMD check --install=check:geNetClassifier.install-out.txt --library=/home/biocbuild/bbs-3.11-bioc/R/library --no-vignettes --timings geNetClassifier_1.28.0.tar.gz |
| StartedAt: 2020-10-17 01:38:13 -0400 (Sat, 17 Oct 2020) |
| EndedAt: 2020-10-17 01:39:23 -0400 (Sat, 17 Oct 2020) |
| EllapsedTime: 69.5 seconds |
| RetCode: 0 |
| Status: OK |
| CheckDir: geNetClassifier.Rcheck |
| Warnings: 0 |
############################################################################## ############################################################################## ### ### Running command: ### ### /home/biocbuild/bbs-3.11-bioc/R/bin/R CMD check --install=check:geNetClassifier.install-out.txt --library=/home/biocbuild/bbs-3.11-bioc/R/library --no-vignettes --timings geNetClassifier_1.28.0.tar.gz ### ############################################################################## ############################################################################## * using log directory ‘/home/biocbuild/bbs-3.11-bioc/meat/geNetClassifier.Rcheck’ * using R version 4.0.3 (2020-10-10) * using platform: x86_64-pc-linux-gnu (64-bit) * using session charset: UTF-8 * using option ‘--no-vignettes’ * checking for file ‘geNetClassifier/DESCRIPTION’ ... OK * checking extension type ... Package * this is package ‘geNetClassifier’ version ‘1.28.0’ * checking package namespace information ... OK * checking package dependencies ... OK * checking if this is a source package ... OK * checking if there is a namespace ... OK * checking for hidden files and directories ... OK * checking for portable file names ... OK * checking for sufficient/correct file permissions ... OK * checking whether package ‘geNetClassifier’ can be installed ... OK * checking installed package size ... OK * checking package directory ... OK * checking ‘build’ directory ... OK * checking DESCRIPTION meta-information ... OK * checking top-level files ... OK * checking for left-over files ... OK * checking index information ... OK * checking package subdirectories ... OK * checking R files for non-ASCII characters ... OK * checking R files for syntax errors ... OK * checking whether the package can be loaded ... OK * checking whether the package can be loaded with stated dependencies ... OK * checking whether the package can be unloaded cleanly ... OK * checking whether the namespace can be loaded with stated dependencies ... OK * checking whether the namespace can be unloaded cleanly ... OK * checking dependencies in R code ... OK * checking S3 generic/method consistency ... OK * checking replacement functions ... OK * checking foreign function calls ... OK * checking R code for possible problems ... OK * checking Rd files ... OK * checking Rd metadata ... OK * checking Rd cross-references ... OK * checking for missing documentation entries ... OK * checking for code/documentation mismatches ... OK * checking Rd \usage sections ... OK * checking Rd contents ... OK * checking for unstated dependencies in examples ... OK * checking contents of ‘data’ directory ... OK * checking data for non-ASCII characters ... OK * checking data for ASCII and uncompressed saves ... OK * checking files in ‘vignettes’ ... OK * checking examples ... OK * checking for unstated dependencies in ‘tests’ ... OK * checking tests ... Running ‘runTests.R’ OK * checking for unstated dependencies in vignettes ... OK * checking package vignettes in ‘inst/doc’ ... OK * checking running R code from vignettes ... SKIPPED * checking re-building of vignette outputs ... SKIPPED * checking PDF version of manual ... OK * DONE Status: OK
geNetClassifier.Rcheck/00install.out
############################################################################## ############################################################################## ### ### Running command: ### ### /home/biocbuild/bbs-3.11-bioc/R/bin/R CMD INSTALL geNetClassifier ### ############################################################################## ############################################################################## * installing to library ‘/home/biocbuild/bbs-3.11-bioc/R/library’ * installing *source* package ‘geNetClassifier’ ... ** using staged installation ** R ** data ** inst ** byte-compile and prepare package for lazy loading ** help *** installing help indices ** building package indices ** installing vignettes ** testing if installed package can be loaded from temporary location ** testing if installed package can be loaded from final location ** testing if installed package keeps a record of temporary installation path * DONE (geNetClassifier)
geNetClassifier.Rcheck/tests/runTests.Rout
R version 4.0.3 (2020-10-10) -- "Bunny-Wunnies Freak Out"
Copyright (C) 2020 The R Foundation for Statistical Computing
Platform: x86_64-pc-linux-gnu (64-bit)
R is free software and comes with ABSOLUTELY NO WARRANTY.
You are welcome to redistribute it under certain conditions.
Type 'license()' or 'licence()' for distribution details.
R is a collaborative project with many contributors.
Type 'contributors()' for more information and
'citation()' on how to cite R or R packages in publications.
Type 'demo()' for some demos, 'help()' for on-line help, or
'help.start()' for an HTML browser interface to help.
Type 'q()' to quit R.
> BiocGenerics:::testPackage("geNetClassifier")
Attaching package: 'BiocGenerics'
The following objects are masked from 'package:parallel':
clusterApply, clusterApplyLB, clusterCall, clusterEvalQ,
clusterExport, clusterMap, parApply, parCapply, parLapply,
parLapplyLB, parRapply, parSapply, parSapplyLB
The following objects are masked from 'package:stats':
IQR, mad, sd, var, xtabs
The following objects are masked from 'package:base':
Filter, Find, Map, Position, Reduce, anyDuplicated, append,
as.data.frame, basename, cbind, colnames, dirname, do.call,
duplicated, eval, evalq, get, grep, grepl, intersect, is.unsorted,
lapply, mapply, match, mget, order, paste, pmax, pmax.int, pmin,
pmin.int, rank, rbind, rownames, sapply, setdiff, sort, table,
tapply, union, unique, unsplit, which, which.max, which.min
Welcome to Bioconductor
Vignettes contain introductory material; view with
'browseVignettes()'. To cite Bioconductor, see
'citation("Biobase")', and for packages 'citation("pkgname")'.
01:39:19 - Filtering data and calculating the genes ranking...
Warning in plotExpressionProfiles(eset = myEset, genes = rownames(myEset), :
The argument 'sampleLabels' had to be converted into a factor.
Warning in plotExpressionProfiles(eset = myEset, genes = rownames(myEset), :
The data labels vector is not named, it will be assumed the labels are in order: the first label applies to the first sample...
RUNIT TEST PROTOCOL -- Sat Oct 17 01:39:19 2020
***********************************************
Number of test functions: 3
Number of errors: 0
Number of failures: 0
1 Test Suite :
geNetClassifier RUnit Tests - 3 test functions, 0 errors, 0 failures
Number of test functions: 3
Number of errors: 0
Number of failures: 0
Warning messages:
1: In geNetClassifier(matrix(sample(50000, 5 * 2), 5, 2), c(rep("one", :
The argument 'classification sampleLabels' had to be converted into a factor.
2: In geNetClassifier(matrix(sample(50000, 5 * 3), 5, 3), c(rep("one", :
The argument 'classification sampleLabels' had to be converted into a factor.
3: In geNetClassifier(matrix(sample(50000, 5 * 3), 5, 3), c(rep("one", :
The data labels vector is not named, it is assumed the labels are in order: the first label applies to the first sample...
4: In geNetClassifier(matrix(sample(50000, 5 * 3), 5, 3), c(rep("one", :
It is recommended to have the *same* number of samples in each class in order to obtain balanced external validation stats.
>
> proc.time()
user system elapsed
1.010 0.057 1.053
geNetClassifier.Rcheck/geNetClassifier-Ex.timings
| name | user | system | elapsed | |
| GeNetClassifierReturn-class | 0.743 | 0.051 | 1.187 | |
| GeneralizationError-class | 0.384 | 0.008 | 0.392 | |
| GenesNetwork-class | 1.881 | 0.076 | 2.092 | |
| GenesRanking-class | 0.551 | 0.016 | 0.565 | |
| calculateGenesRanking | 0.495 | 0.004 | 0.498 | |
| externalValidation.probMatrix | 0.828 | 0.017 | 0.842 | |
| externalValidation.stats | 0.560 | 0.016 | 0.574 | |
| gClasses-methods | 0.375 | 0.008 | 0.383 | |
| geNetClassifier | 0.214 | 0.000 | 0.215 | |
| geneSymbols | 0.096 | 0.000 | 0.095 | |
| genesDetails-methods | 0.305 | 0.004 | 0.308 | |
| getEdges-methods | 0.295 | 0.000 | 0.296 | |
| getNodes-methods | 0.275 | 0.000 | 0.276 | |
| getNumEdges-methods | 0.273 | 0.004 | 0.276 | |
| getNumNodes-methods | 0.27 | 0.00 | 0.27 | |
| getRanking-methods | 0.401 | 0.008 | 0.409 | |
| getSubNetwork-methods | 0.316 | 0.004 | 0.321 | |
| getTopRanking-methods | 0.267 | 0.004 | 0.271 | |
| leukemiasClassifier | 0.288 | 0.008 | 0.295 | |
| network2txt | 0.427 | 0.004 | 0.430 | |
| numGenes-methods | 0.271 | 0.000 | 0.271 | |
| numSignificantGenes-methods | 0.27 | 0.00 | 0.27 | |
| overview-methods | 0.336 | 0.012 | 0.348 | |
| plot.GeNetClassifierReturn | 3.959 | 0.105 | 4.074 | |
| plot.GenesRanking | 0.378 | 0.004 | 0.381 | |
| plotAssignments | 0.740 | 0.020 | 0.759 | |
| plotDiscriminantPower | 0.815 | 0.028 | 0.836 | |
| plotExpressionProfiles | 0.788 | 0.044 | 0.827 | |
| plotNetwork | 1.689 | 0.089 | 1.792 | |
| queryGeNetClassifier | 0.840 | 0.028 | 0.866 | |
| querySummary | 0.692 | 0.008 | 0.699 | |