| Back to Multiple platform build/check report for BioC 3.11 | 
  | 
This page was generated on 2020-10-17 11:56:37 -0400 (Sat, 17 Oct 2020).
| TO THE DEVELOPERS/MAINTAINERS OF THE gcapc PACKAGE: Please make sure to use the following settings in order to reproduce any error or warning you see on this page. | 
| Package 657/1905 | Hostname | OS / Arch | INSTALL | BUILD | CHECK | BUILD BIN | ||||||
| gcapc 1.12.0 Mingxiang Teng 
  | malbec2 | Linux (Ubuntu 18.04.4 LTS) / x86_64 | OK | OK | OK | |||||||
| tokay2 | Windows Server 2012 R2 Standard / x64 | OK | OK | WARNINGS | [ OK ] | |||||||
| machv2 | macOS 10.14.6 Mojave / x86_64 | OK | OK | OK | OK | 
| Package: gcapc | 
| Version: 1.12.0 | 
| Command: rm -rf gcapc.buildbin-libdir && mkdir gcapc.buildbin-libdir && C:\Users\biocbuild\bbs-3.11-bioc\R\bin\R.exe CMD INSTALL --merge-multiarch --build --library=gcapc.buildbin-libdir gcapc_1.12.0.tar.gz | 
| StartedAt: 2020-10-17 10:34:20 -0400 (Sat, 17 Oct 2020) | 
| EndedAt: 2020-10-17 10:35:24 -0400 (Sat, 17 Oct 2020) | 
| EllapsedTime: 63.5 seconds | 
| RetCode: 0 | 
| Status: OK | 
| PackageFile: gcapc_1.12.0.zip | 
| PackageFileSize: 3.693 MiB | 
##############################################################################
##############################################################################
###
### Running command:
###
###   rm -rf gcapc.buildbin-libdir && mkdir gcapc.buildbin-libdir && C:\Users\biocbuild\bbs-3.11-bioc\R\bin\R.exe CMD INSTALL --merge-multiarch --build --library=gcapc.buildbin-libdir gcapc_1.12.0.tar.gz
###
##############################################################################
##############################################################################
install for i386
* installing *source* package 'gcapc' ...
** using staged installation
** R
** inst
** byte-compile and prepare package for lazy loading
** help
*** installing help indices
  converting help for package 'gcapc'
    finding HTML links ... done
    bindWidth                               html  
    gcEffects                               html  
Rd warning: C:/Users/biocbuild/bbs-3.11-bioc/tmpdir/RtmpwtN7QT/R.INSTALL2d34ed43aa0/gcapc/man/gcEffects.Rd:92: file link 'BSgenome' in package 'BSgenome' does not exist and so has been treated as a topic
Rd warning: C:/Users/biocbuild/bbs-3.11-bioc/tmpdir/RtmpwtN7QT/R.INSTALL2d34ed43aa0/gcapc/man/gcEffects.Rd:95: file link 'getBSgenome' in package 'BSgenome' does not exist and so has been treated as a topic
Rd warning: C:/Users/biocbuild/bbs-3.11-bioc/tmpdir/RtmpwtN7QT/R.INSTALL2d34ed43aa0/gcapc/man/gcEffects.Rd:97: file link 'getBSgenome' in package 'BSgenome' does not exist and so has been treated as a topic
    gcapcPeaks                              html  
Rd warning: C:/Users/biocbuild/bbs-3.11-bioc/tmpdir/RtmpwtN7QT/R.INSTALL2d34ed43aa0/gcapc/man/gcapcPeaks.Rd:47: file link 'BSgenome' in package 'BSgenome' does not exist and so has been treated as a topic
Rd warning: C:/Users/biocbuild/bbs-3.11-bioc/tmpdir/RtmpwtN7QT/R.INSTALL2d34ed43aa0/gcapc/man/gcapcPeaks.Rd:50: file link 'getBSgenome' in package 'BSgenome' does not exist and so has been treated as a topic
Rd warning: C:/Users/biocbuild/bbs-3.11-bioc/tmpdir/RtmpwtN7QT/R.INSTALL2d34ed43aa0/gcapc/man/gcapcPeaks.Rd:52: file link 'getBSgenome' in package 'BSgenome' does not exist and so has been treated as a topic
    peaksCAT                                html  
    read5endCoverage                        html  
    refinePeaks                             html  
Rd warning: C:/Users/biocbuild/bbs-3.11-bioc/tmpdir/RtmpwtN7QT/R.INSTALL2d34ed43aa0/gcapc/man/refinePeaks.Rd:42: file link 'BSgenome' in package 'BSgenome' does not exist and so has been treated as a topic
Rd warning: C:/Users/biocbuild/bbs-3.11-bioc/tmpdir/RtmpwtN7QT/R.INSTALL2d34ed43aa0/gcapc/man/refinePeaks.Rd:45: file link 'getBSgenome' in package 'BSgenome' does not exist and so has been treated as a topic
Rd warning: C:/Users/biocbuild/bbs-3.11-bioc/tmpdir/RtmpwtN7QT/R.INSTALL2d34ed43aa0/gcapc/man/refinePeaks.Rd:47: file link 'getBSgenome' in package 'BSgenome' does not exist and so has been treated as a topic
    refineSites                             html  
Rd warning: C:/Users/biocbuild/bbs-3.11-bioc/tmpdir/RtmpwtN7QT/R.INSTALL2d34ed43aa0/gcapc/man/refineSites.Rd:93: file link 'BSgenome' in package 'BSgenome' does not exist and so has been treated as a topic
Rd warning: C:/Users/biocbuild/bbs-3.11-bioc/tmpdir/RtmpwtN7QT/R.INSTALL2d34ed43aa0/gcapc/man/refineSites.Rd:96: file link 'getBSgenome' in package 'BSgenome' does not exist and so has been treated as a topic
Rd warning: C:/Users/biocbuild/bbs-3.11-bioc/tmpdir/RtmpwtN7QT/R.INSTALL2d34ed43aa0/gcapc/man/refineSites.Rd:98: file link 'getBSgenome' in package 'BSgenome' does not exist and so has been treated as a topic
** building package indices
** installing vignettes
** testing if installed package can be loaded from temporary location
** testing if installed package can be loaded from final location
** testing if installed package keeps a record of temporary installation path
install for x64
* installing *source* package 'gcapc' ...
** testing if installed package can be loaded
* MD5 sums
packaged installation of 'gcapc' as gcapc_1.12.0.zip
* DONE (gcapc)