| Back to Multiple platform build/check report for BioC 3.11 |
|
This page was generated on 2020-10-17 11:58:31 -0400 (Sat, 17 Oct 2020).
| TO THE DEVELOPERS/MAINTAINERS OF THE gCMAPWeb PACKAGE: Please make sure to use the following settings in order to reproduce any error or warning you see on this page. |
| Package 660/1905 | Hostname | OS / Arch | INSTALL | BUILD | CHECK | BUILD BIN | ||||||
Thomas Sandmann
| malbec2 | Linux (Ubuntu 18.04.4 LTS) / x86_64 | ERROR | ERROR | skipped | |||||||
| tokay2 | Windows Server 2012 R2 Standard / x64 | ...NOT SUPPORTED... | ||||||||||
| machv2 | macOS 10.14.6 Mojave / x86_64 | ERROR | [ ERROR ] | skipped | skipped | |||||||
| Package: gCMAPWeb |
| Version: 1.28.0 |
| Command: /Library/Frameworks/R.framework/Versions/Current/Resources/bin/R CMD build --keep-empty-dirs --no-resave-data gCMAPWeb |
| StartedAt: 2020-10-16 19:04:41 -0400 (Fri, 16 Oct 2020) |
| EndedAt: 2020-10-16 19:04:42 -0400 (Fri, 16 Oct 2020) |
| EllapsedTime: 1.2 seconds |
| RetCode: 1 |
| Status: ERROR |
| PackageFile: None |
| PackageFileSize: NA |
##############################################################################
##############################################################################
###
### Running command:
###
### /Library/Frameworks/R.framework/Versions/Current/Resources/bin/R CMD build --keep-empty-dirs --no-resave-data gCMAPWeb
###
##############################################################################
##############################################################################
* checking for file ‘gCMAPWeb/DESCRIPTION’ ... OK
* preparing ‘gCMAPWeb’:
* checking DESCRIPTION meta-information ... OK
* installing the package to build vignettes
-----------------------------------
* installing *source* package ‘gCMAPWeb’ ...
** using staged installation
** R
Error in .install_package_code_files(".", instdir) :
files in '/private/tmp/RtmpNdZsGU/Rbuild3063545d7981/gCMAPWeb/R' missing from 'Collate' field:
zzz.R
ERROR: unable to collate and parse R files for package ‘gCMAPWeb’
* removing ‘/private/tmp/RtmpNdZsGU/Rinst306344d42f6c/gCMAPWeb’
-----------------------------------
ERROR: package installation failed