| Back to Multiple platform build/check report for BioC 3.11 |
|
This page was generated on 2020-10-17 11:56:37 -0400 (Sat, 17 Oct 2020).
| TO THE DEVELOPERS/MAINTAINERS OF THE funtooNorm PACKAGE: Please make sure to use the following settings in order to reproduce any error or warning you see on this page. |
| Package 645/1905 | Hostname | OS / Arch | INSTALL | BUILD | CHECK | BUILD BIN | ||||||
| funtooNorm 1.12.0 Kathleen Klein
| malbec2 | Linux (Ubuntu 18.04.4 LTS) / x86_64 | OK | OK | WARNINGS | |||||||
| tokay2 | Windows Server 2012 R2 Standard / x64 | OK | OK | WARNINGS | [ OK ] | |||||||
| machv2 | macOS 10.14.6 Mojave / x86_64 | OK | OK | WARNINGS | OK |
| Package: funtooNorm |
| Version: 1.12.0 |
| Command: rm -rf funtooNorm.buildbin-libdir && mkdir funtooNorm.buildbin-libdir && C:\Users\biocbuild\bbs-3.11-bioc\R\bin\R.exe CMD INSTALL --merge-multiarch --build --library=funtooNorm.buildbin-libdir funtooNorm_1.12.0.tar.gz |
| StartedAt: 2020-10-17 10:33:31 -0400 (Sat, 17 Oct 2020) |
| EndedAt: 2020-10-17 10:34:55 -0400 (Sat, 17 Oct 2020) |
| EllapsedTime: 84.0 seconds |
| RetCode: 0 |
| Status: OK |
| PackageFile: funtooNorm_1.12.0.zip |
| PackageFileSize: 2.642 MiB |
##############################################################################
##############################################################################
###
### Running command:
###
### rm -rf funtooNorm.buildbin-libdir && mkdir funtooNorm.buildbin-libdir && C:\Users\biocbuild\bbs-3.11-bioc\R\bin\R.exe CMD INSTALL --merge-multiarch --build --library=funtooNorm.buildbin-libdir funtooNorm_1.12.0.tar.gz
###
##############################################################################
##############################################################################
install for i386
* installing *source* package 'funtooNorm' ...
** using staged installation
** R
** inst
** byte-compile and prepare package for lazy loading
** help
*** installing help indices
converting help for package 'funtooNorm'
finding HTML links ... done
SampleSet-class html
agreement html
fromGenStudFiles html
fromRGChannelSet html
funtooNorm-package html
funtooNorm html
getGRanges html
getNormBeta html
getNormM html
getRawBeta html
getSnpM html
plotValidationGraph html
show-SampleSet-method html
** building package indices
** installing vignettes
** testing if installed package can be loaded from temporary location
** testing if installed package can be loaded from final location
** testing if installed package keeps a record of temporary installation path
install for x64
* installing *source* package 'funtooNorm' ...
** testing if installed package can be loaded
* MD5 sums
packaged installation of 'funtooNorm' as funtooNorm_1.12.0.zip
* DONE (funtooNorm)