| Back to Multiple platform build/check report for BioC 3.11 |
|
This page was generated on 2020-10-17 11:56:37 -0400 (Sat, 17 Oct 2020).
| TO THE DEVELOPERS/MAINTAINERS OF THE frmaTools PACKAGE: Please make sure to use the following settings in order to reproduce any error or warning you see on this page. |
| Package 642/1905 | Hostname | OS / Arch | INSTALL | BUILD | CHECK | BUILD BIN | ||||||
| frmaTools 1.40.0 Matthew N. McCall
| malbec2 | Linux (Ubuntu 18.04.4 LTS) / x86_64 | OK | OK | OK | |||||||
| tokay2 | Windows Server 2012 R2 Standard / x64 | OK | OK | OK | [ OK ] | |||||||
| machv2 | macOS 10.14.6 Mojave / x86_64 | OK | OK | OK | OK |
| Package: frmaTools |
| Version: 1.40.0 |
| Command: rm -rf frmaTools.buildbin-libdir && mkdir frmaTools.buildbin-libdir && C:\Users\biocbuild\bbs-3.11-bioc\R\bin\R.exe CMD INSTALL --merge-multiarch --build --library=frmaTools.buildbin-libdir frmaTools_1.40.0.tar.gz |
| StartedAt: 2020-10-17 10:33:13 -0400 (Sat, 17 Oct 2020) |
| EndedAt: 2020-10-17 10:34:03 -0400 (Sat, 17 Oct 2020) |
| EllapsedTime: 49.8 seconds |
| RetCode: 0 |
| Status: OK |
| PackageFile: frmaTools_1.40.0.zip |
| PackageFileSize: 136.4 KiB |
##############################################################################
##############################################################################
###
### Running command:
###
### rm -rf frmaTools.buildbin-libdir && mkdir frmaTools.buildbin-libdir && C:\Users\biocbuild\bbs-3.11-bioc\R\bin\R.exe CMD INSTALL --merge-multiarch --build --library=frmaTools.buildbin-libdir frmaTools_1.40.0.tar.gz
###
##############################################################################
##############################################################################
install for i386
* installing *source* package 'frmaTools' ...
** using staged installation
** R
** inst
** byte-compile and prepare package for lazy loading
** help
*** installing help indices
converting help for package 'frmaTools'
finding HTML links ... done
convertPlatform html
makeVectorPackage html
** building package indices
** installing vignettes
** testing if installed package can be loaded from temporary location
** testing if installed package can be loaded from final location
** testing if installed package keeps a record of temporary installation path
install for x64
* installing *source* package 'frmaTools' ...
** testing if installed package can be loaded
* MD5 sums
packaged installation of 'frmaTools' as frmaTools_1.40.0.zip
* DONE (frmaTools)