| Back to Multiple platform build/check report for BioC 3.11 |
|
This page was generated on 2020-10-17 11:58:30 -0400 (Sat, 17 Oct 2020).
| TO THE DEVELOPERS/MAINTAINERS OF THE flowType PACKAGE: Please make sure to use the following settings in order to reproduce any error or warning you see on this page. |
| Package 629/1905 | Hostname | OS / Arch | INSTALL | BUILD | CHECK | BUILD BIN | ||||||
| flowType 2.26.0 Nima Aghaeepour
| malbec2 | Linux (Ubuntu 18.04.4 LTS) / x86_64 | OK | OK | ERROR | |||||||
| tokay2 | Windows Server 2012 R2 Standard / x64 | OK | OK | ERROR | OK | |||||||
| machv2 | macOS 10.14.6 Mojave / x86_64 | [ OK ] | OK | ERROR | OK |
| Package: flowType |
| Version: 2.26.0 |
| Command: /Library/Frameworks/R.framework/Versions/Current/Resources/bin/R CMD INSTALL flowType |
| StartedAt: 2020-10-16 16:50:37 -0400 (Fri, 16 Oct 2020) |
| EndedAt: 2020-10-16 16:51:18 -0400 (Fri, 16 Oct 2020) |
| EllapsedTime: 41.6 seconds |
| RetCode: 0 |
| Status: OK |
##############################################################################
##############################################################################
###
### Running command:
###
### /Library/Frameworks/R.framework/Versions/Current/Resources/bin/R CMD INSTALL flowType
###
##############################################################################
##############################################################################
* installing to library ‘/Library/Frameworks/R.framework/Versions/4.0/Resources/library’
* installing *source* package ‘flowType’ ...
** using staged installation
** libs
clang++ -mmacosx-version-min=10.13 -std=gnu++11 -I"/Library/Frameworks/R.framework/Resources/include" -DNDEBUG -I'/Library/Frameworks/R.framework/Versions/4.0/Resources/library/Rcpp/include' -I'/Library/Frameworks/R.framework/Versions/4.0/Resources/library/BH/include' -I/usr/local/include -fPIC -Wall -g -O2 -c countsAndMeans.cpp -o countsAndMeans.o
countsAndMeans.cpp:73:7: warning: 'register' storage class specifier is deprecated and incompatible with C++17 [-Wdeprecated-register]
for (register int i = 0; i < marker_count; i++)
^~~~~~~~~
countsAndMeans.cpp:86:7: warning: 'register' storage class specifier is deprecated and incompatible with C++17 [-Wdeprecated-register]
for (register int i = 0; i < data_count; i++)
^~~~~~~~~
2 warnings generated.
clang++ -mmacosx-version-min=10.13 -std=gnu++11 -I"/Library/Frameworks/R.framework/Resources/include" -DNDEBUG -I'/Library/Frameworks/R.framework/Versions/4.0/Resources/library/Rcpp/include' -I'/Library/Frameworks/R.framework/Versions/4.0/Resources/library/BH/include' -I/usr/local/include -fPIC -Wall -g -O2 -c flowType.cpp -o flowType.o
clang++ -mmacosx-version-min=10.13 -std=gnu++11 -I"/Library/Frameworks/R.framework/Resources/include" -DNDEBUG -I'/Library/Frameworks/R.framework/Versions/4.0/Resources/library/Rcpp/include' -I'/Library/Frameworks/R.framework/Versions/4.0/Resources/library/BH/include' -I/usr/local/include -fPIC -Wall -g -O2 -c numberGenerator.cpp -o numberGenerator.o
clang++ -mmacosx-version-min=10.13 -std=gnu++11 -dynamiclib -Wl,-headerpad_max_install_names -undefined dynamic_lookup -single_module -multiply_defined suppress -L/Library/Frameworks/R.framework/Resources/lib -L/usr/local/lib -o flowType.so countsAndMeans.o flowType.o numberGenerator.o -F/Library/Frameworks/R.framework/.. -framework R -Wl,-framework -Wl,CoreFoundation
installing to /Library/Frameworks/R.framework/Versions/4.0/Resources/library/00LOCK-flowType/00new/flowType/libs
** R
** data
** inst
** byte-compile and prepare package for lazy loading
** help
*** installing help indices
** building package indices
** installing vignettes
** testing if installed package can be loaded from temporary location
** checking absolute paths in shared objects and dynamic libraries
** testing if installed package can be loaded from final location
** testing if installed package keeps a record of temporary installation path
* DONE (flowType)