| Back to Multiple platform build/check report for BioC 3.11 | 
 | 
This page was generated on 2020-10-17 11:56:35 -0400 (Sat, 17 Oct 2020).
| TO THE DEVELOPERS/MAINTAINERS OF THE flowPloidy PACKAGE: Please make sure to use the following settings in order to reproduce any error or warning you see on this page. | 
| Package 620/1905 | Hostname | OS / Arch | INSTALL | BUILD | CHECK | BUILD BIN | ||||||
| flowPloidy 1.14.0 Tyler Smith 
 | malbec2 | Linux (Ubuntu 18.04.4 LTS) / x86_64 | OK | OK | OK |  | ||||||
| tokay2 | Windows Server 2012 R2 Standard / x64 | OK | OK | OK | [ OK ] |  | ||||||
| machv2 | macOS 10.14.6 Mojave / x86_64 | OK | OK | OK | OK |  | 
| Package: flowPloidy | 
| Version: 1.14.0 | 
| Command: rm -rf flowPloidy.buildbin-libdir && mkdir flowPloidy.buildbin-libdir && C:\Users\biocbuild\bbs-3.11-bioc\R\bin\R.exe CMD INSTALL --merge-multiarch --build --library=flowPloidy.buildbin-libdir flowPloidy_1.14.0.tar.gz | 
| StartedAt: 2020-10-17 10:31:40 -0400 (Sat, 17 Oct 2020) | 
| EndedAt: 2020-10-17 10:32:37 -0400 (Sat, 17 Oct 2020) | 
| EllapsedTime: 56.3 seconds | 
| RetCode: 0 | 
| Status: OK | 
| PackageFile: flowPloidy_1.14.0.zip | 
| PackageFileSize: 1.62 MiB | 
##############################################################################
##############################################################################
###
### Running command:
###
###   rm -rf flowPloidy.buildbin-libdir && mkdir flowPloidy.buildbin-libdir && C:\Users\biocbuild\bbs-3.11-bioc\R\bin\R.exe CMD INSTALL --merge-multiarch --build --library=flowPloidy.buildbin-libdir flowPloidy_1.14.0.tar.gz
###
##############################################################################
##############################################################################
install for i386
* installing *source* package 'flowPloidy' ...
** using staged installation
** R
** inst
** byte-compile and prepare package for lazy loading
** help
*** installing help indices
  converting help for package 'flowPloidy'
    finding HTML links ... done
    DebrisModels                            html  
    FlowHist                                html  
    finding level-2 HTML links ... done
    FlowStandards                           html  
    ModelComponent                          html  
    browseFlowHist                          html  
    fhAccessors                             html  
    fhAnalyze                               html  
    fhDoCV                                  html  
    fhDoCounts                              html  
    fhDoNLS                                 html  
    fhDoRCS                                 html  
    fhModels                                html  
    fhStart                                 html  
    findPeaks                               html  
    flowPloidy                              html  
    gauss                                   html  
    pickInit                                html  
    plot.FlowHist                           html  
    plotFH                                  html  
    resetFlowHist                           html  
    setBins                                 html  
    setGate                                 html  
    tabulateFlowHist                        html  
    updateFlowHist                          html  
    viewFlowChannels                        html  
** building package indices
** installing vignettes
** testing if installed package can be loaded from temporary location
** testing if installed package can be loaded from final location
** testing if installed package keeps a record of temporary installation path
install for x64
* installing *source* package 'flowPloidy' ...
** testing if installed package can be loaded
* MD5 sums
packaged installation of 'flowPloidy' as flowPloidy_1.14.0.zip
* DONE (flowPloidy)