| Back to Multiple platform build/check report for BioC 3.11 |
|
This page was generated on 2019-12-02 13:04:25 -0500 (Mon, 02 Dec 2019).
| Package 582/1808 | Hostname | OS / Arch | INSTALL | BUILD | CHECK | BUILD BIN | ||||||
| flowFit 1.25.0 Davide Rambaldi
| malbec2 | Linux (Ubuntu 18.04.3 LTS) / x86_64 | ERROR | ERROR | skipped | |||||||
| tokay2 | Windows Server 2012 R2 Standard / x64 | OK | OK | WARNINGS | [ OK ] | |||||||
| celaya2 | OS X 10.11.6 El Capitan / x86_64 | ERROR | ERROR | skipped | skipped |
| Package: flowFit |
| Version: 1.25.0 |
| Command: rm -rf flowFit.buildbin-libdir && mkdir flowFit.buildbin-libdir && C:\Users\biocbuild\bbs-3.11-bioc\R\bin\R.exe CMD INSTALL --merge-multiarch --build --library=flowFit.buildbin-libdir flowFit_1.25.0.tar.gz |
| StartedAt: 2019-12-02 09:05:40 -0500 (Mon, 02 Dec 2019) |
| EndedAt: 2019-12-02 09:06:31 -0500 (Mon, 02 Dec 2019) |
| EllapsedTime: 51.8 seconds |
| RetCode: 0 |
| Status: OK |
| PackageFile: flowFit_1.25.0.zip |
| PackageFileSize: 793.9 KiB |
##############################################################################
##############################################################################
###
### Running command:
###
### rm -rf flowFit.buildbin-libdir && mkdir flowFit.buildbin-libdir && C:\Users\biocbuild\bbs-3.11-bioc\R\bin\R.exe CMD INSTALL --merge-multiarch --build --library=flowFit.buildbin-libdir flowFit_1.25.0.tar.gz
###
##############################################################################
##############################################################################
install for i386
* installing *source* package 'flowFit' ...
** using staged installation
** R
** demo
** inst
** byte-compile and prepare package for lazy loading
** help
*** installing help indices
converting help for package 'flowFit'
finding HTML links ... done
flowFit-package html
finding level-2 HTML links ... done
generationsDistance html
getGenerations html
logTicks html
parentFitting html
parentFittingData-class html
plot-methods html
proliferationFitting html
proliferationFittingData-class html
proliferationGrid html
proliferationIndex html
** building package indices
** installing vignettes
** testing if installed package can be loaded from temporary location
** testing if installed package can be loaded from final location
** testing if installed package keeps a record of temporary installation path
install for x64
* installing *source* package 'flowFit' ...
** testing if installed package can be loaded
* MD5 sums
packaged installation of 'flowFit' as flowFit_1.25.0.zip
* DONE (flowFit)