| Back to Multiple platform build/check report for BioC 3.11 |
|
This page was generated on 2020-10-17 11:56:33 -0400 (Sat, 17 Oct 2020).
| TO THE DEVELOPERS/MAINTAINERS OF THE fcoex PACKAGE: Please make sure to use the following settings in order to reproduce any error or warning you see on this page. |
| Package 589/1905 | Hostname | OS / Arch | INSTALL | BUILD | CHECK | BUILD BIN | ||||||
| fcoex 1.2.0 Tiago Lubiana
| malbec2 | Linux (Ubuntu 18.04.4 LTS) / x86_64 | OK | OK | WARNINGS | |||||||
| tokay2 | Windows Server 2012 R2 Standard / x64 | OK | OK | WARNINGS | [ OK ] | |||||||
| machv2 | macOS 10.14.6 Mojave / x86_64 | OK | OK | WARNINGS | OK |
| Package: fcoex |
| Version: 1.2.0 |
| Command: rm -rf fcoex.buildbin-libdir && mkdir fcoex.buildbin-libdir && C:\Users\biocbuild\bbs-3.11-bioc\R\bin\R.exe CMD INSTALL --merge-multiarch --build --library=fcoex.buildbin-libdir fcoex_1.2.0.tar.gz |
| StartedAt: 2020-10-17 10:29:24 -0400 (Sat, 17 Oct 2020) |
| EndedAt: 2020-10-17 10:30:31 -0400 (Sat, 17 Oct 2020) |
| EllapsedTime: 67.5 seconds |
| RetCode: 0 |
| Status: OK |
| PackageFile: fcoex_1.2.0.zip |
| PackageFileSize: 2.258 MiB |
##############################################################################
##############################################################################
###
### Running command:
###
### rm -rf fcoex.buildbin-libdir && mkdir fcoex.buildbin-libdir && C:\Users\biocbuild\bbs-3.11-bioc\R\bin\R.exe CMD INSTALL --merge-multiarch --build --library=fcoex.buildbin-libdir fcoex_1.2.0.tar.gz
###
##############################################################################
##############################################################################
install for i386
* installing *source* package 'fcoex' ...
** using staged installation
** R
** data
*** moving datasets to lazyload DB
** inst
** byte-compile and prepare package for lazy loading
** help
*** installing help indices
converting help for package 'fcoex'
finding HTML links ... done
discretize html
dot-get_correlates html
fc html
fcoex-class html
find_cbf_modules html
get_nets html
idents html
mini_pbmc3k html
mod_colors html
mod_gene_num html
mod_names html
mod_ora html
module_genes html
new_fcoex html
nmodules html
ora_data html
plot_one_interaction html
plot_ora html
plot_ora_single html
recluster html
save_plots html
show-fcoex-method html
show_net html
show_ora html
** building package indices
** installing vignettes
** testing if installed package can be loaded from temporary location
** testing if installed package can be loaded from final location
** testing if installed package keeps a record of temporary installation path
install for x64
* installing *source* package 'fcoex' ...
** testing if installed package can be loaded
* MD5 sums
packaged installation of 'fcoex' as fcoex_1.2.0.zip
* DONE (fcoex)