| Back to Multiple platform build/check report for BioC 3.11 | 
  | 
This page was generated on 2020-10-17 11:56:33 -0400 (Sat, 17 Oct 2020).
| TO THE DEVELOPERS/MAINTAINERS OF THE fcScan PACKAGE: Please make sure to use the following settings in order to reproduce any error or warning you see on this page. | 
| Package 590/1905 | Hostname | OS / Arch | INSTALL | BUILD | CHECK | BUILD BIN | ||||||
| fcScan 1.2.0 Pierre Khoueiry 
  | malbec2 | Linux (Ubuntu 18.04.4 LTS) / x86_64 | OK | OK | OK | |||||||
| tokay2 | Windows Server 2012 R2 Standard / x64 | [ OK ] | OK | OK | OK | |||||||
| machv2 | macOS 10.14.6 Mojave / x86_64 | OK | OK | OK | OK | 
| Package: fcScan | 
| Version: 1.2.0 | 
| Command: C:\cygwin\bin\curl.exe -O https://malbec2.bioconductor.org/BBS/3.11/bioc/src/contrib/fcScan_1.2.0.tar.gz && rm -rf fcScan.buildbin-libdir && mkdir fcScan.buildbin-libdir && C:\Users\biocbuild\bbs-3.11-bioc\R\bin\R.exe CMD INSTALL --merge-multiarch --build --library=fcScan.buildbin-libdir fcScan_1.2.0.tar.gz && C:\Users\biocbuild\bbs-3.11-bioc\R\bin\R.exe CMD INSTALL fcScan_1.2.0.zip && rm fcScan_1.2.0.tar.gz fcScan_1.2.0.zip | 
| StartedAt: 2020-10-16 19:20:27 -0400 (Fri, 16 Oct 2020) | 
| EndedAt: 2020-10-16 19:21:39 -0400 (Fri, 16 Oct 2020) | 
| EllapsedTime: 72.1 seconds | 
| RetCode: 0 | 
| Status: OK | 
##############################################################################
##############################################################################
###
### Running command:
###
###   C:\cygwin\bin\curl.exe -O https://malbec2.bioconductor.org/BBS/3.11/bioc/src/contrib/fcScan_1.2.0.tar.gz && rm -rf fcScan.buildbin-libdir && mkdir fcScan.buildbin-libdir && C:\Users\biocbuild\bbs-3.11-bioc\R\bin\R.exe CMD INSTALL --merge-multiarch --build --library=fcScan.buildbin-libdir fcScan_1.2.0.tar.gz && C:\Users\biocbuild\bbs-3.11-bioc\R\bin\R.exe CMD INSTALL fcScan_1.2.0.zip && rm fcScan_1.2.0.tar.gz fcScan_1.2.0.zip
###
##############################################################################
##############################################################################
  % Total    % Received % Xferd  Average Speed   Time    Time     Time  Current
                                 Dload  Upload   Total   Spent    Left  Speed
  0     0    0     0    0     0      0      0 --:--:-- --:--:-- --:--:--     0
100 12129  100 12129    0     0   184k      0 --:--:-- --:--:-- --:--:--  204k
install for i386
* installing *source* package 'fcScan' ...
** using staged installation
** R
** inst
** byte-compile and prepare package for lazy loading
** help
*** installing help indices
  converting help for package 'fcScan'
    finding HTML links ... done
    getCluster                              html  
** building package indices
** installing vignettes
** testing if installed package can be loaded from temporary location
** testing if installed package can be loaded from final location
** testing if installed package keeps a record of temporary installation path
install for x64
* installing *source* package 'fcScan' ...
** testing if installed package can be loaded
* MD5 sums
packaged installation of 'fcScan' as fcScan_1.2.0.zip
* DONE (fcScan)
* installing to library 'C:/Users/biocbuild/bbs-3.11-bioc/R/library'
package 'fcScan' successfully unpacked and MD5 sums checked