| Back to Multiple platform build/check report for BioC 3.11 |
|
This page was generated on 2020-10-17 11:56:33 -0400 (Sat, 17 Oct 2020).
| TO THE DEVELOPERS/MAINTAINERS OF THE explorase PACKAGE: Please make sure to use the following settings in order to reproduce any error or warning you see on this page. |
| Package 575/1905 | Hostname | OS / Arch | INSTALL | BUILD | CHECK | BUILD BIN | ||||||
| explorase 1.52.0 Michael Lawrence
| malbec2 | Linux (Ubuntu 18.04.4 LTS) / x86_64 | ERROR | ERROR | skipped | |||||||
| tokay2 | Windows Server 2012 R2 Standard / x64 | ERROR | [ ERROR ] | skipped | skipped | |||||||
| machv2 | macOS 10.14.6 Mojave / x86_64 | ...NOT SUPPORTED... | ||||||||||
| Package: explorase |
| Version: 1.52.0 |
| Command: chmod a+r explorase -R && C:\Users\biocbuild\bbs-3.11-bioc\R\bin\R.exe --arch i386 CMD build --keep-empty-dirs --no-resave-data explorase |
| StartedAt: 2020-10-16 21:33:44 -0400 (Fri, 16 Oct 2020) |
| EndedAt: 2020-10-16 21:34:42 -0400 (Fri, 16 Oct 2020) |
| EllapsedTime: 57.5 seconds |
| RetCode: 1 |
| Status: ERROR |
| PackageFile: None |
| PackageFileSize: NA |
##############################################################################
##############################################################################
###
### Running command:
###
### chmod a+r explorase -R && C:\Users\biocbuild\bbs-3.11-bioc\R\bin\R.exe --arch i386 CMD build --keep-empty-dirs --no-resave-data explorase
###
##############################################################################
##############################################################################
* checking for file 'explorase/DESCRIPTION' ... OK
* preparing 'explorase':
* checking DESCRIPTION meta-information ... OK
* installing the package to build vignettes
-----------------------------------
ERROR: dependency 'rggobi' is not available for package 'explorase'
* removing 'C:/Users/biocbuild/bbs-3.11-bioc/tmpdir/Rtmpcxj9sZ/Rinst235058045c4c/explorase'
-----------------------------------
ERROR: package installation failed