| Back to Multiple platform build/check report for BioC 3.11 |
|
This page was generated on 2020-10-17 11:58:27 -0400 (Sat, 17 Oct 2020).
| TO THE DEVELOPERS/MAINTAINERS OF THE exomePeak2 PACKAGE: Please make sure to use the following settings in order to reproduce any error or warning you see on this page. |
| Package 572/1905 | Hostname | OS / Arch | INSTALL | BUILD | CHECK | BUILD BIN | ||||||
| exomePeak2 1.0.0 Zhen Wei
| malbec2 | Linux (Ubuntu 18.04.4 LTS) / x86_64 | OK | OK | OK | |||||||
| tokay2 | Windows Server 2012 R2 Standard / x64 | OK | OK | OK | OK | |||||||
| machv2 | macOS 10.14.6 Mojave / x86_64 | OK | OK | [ OK ] | OK |
| Package: exomePeak2 |
| Version: 1.0.0 |
| Command: /Library/Frameworks/R.framework/Versions/Current/Resources/bin/R CMD check --install=check:exomePeak2.install-out.txt --library=/Library/Frameworks/R.framework/Versions/Current/Resources/library --no-vignettes --timings exomePeak2_1.0.0.tar.gz |
| StartedAt: 2020-10-17 01:03:05 -0400 (Sat, 17 Oct 2020) |
| EndedAt: 2020-10-17 01:13:35 -0400 (Sat, 17 Oct 2020) |
| EllapsedTime: 629.7 seconds |
| RetCode: 0 |
| Status: OK |
| CheckDir: exomePeak2.Rcheck |
| Warnings: 0 |
##############################################################################
##############################################################################
###
### Running command:
###
### /Library/Frameworks/R.framework/Versions/Current/Resources/bin/R CMD check --install=check:exomePeak2.install-out.txt --library=/Library/Frameworks/R.framework/Versions/Current/Resources/library --no-vignettes --timings exomePeak2_1.0.0.tar.gz
###
##############################################################################
##############################################################################
* using log directory ‘/Users/biocbuild/bbs-3.11-bioc/meat/exomePeak2.Rcheck’
* using R version 4.0.3 (2020-10-10)
* using platform: x86_64-apple-darwin17.0 (64-bit)
* using session charset: UTF-8
* using option ‘--no-vignettes’
* checking for file ‘exomePeak2/DESCRIPTION’ ... OK
* checking extension type ... Package
* this is package ‘exomePeak2’ version ‘1.0.0’
* package encoding: UTF-8
* checking package namespace information ... OK
* checking package dependencies ... OK
* checking if this is a source package ... OK
* checking if there is a namespace ... OK
* checking for hidden files and directories ... OK
* checking for portable file names ... OK
* checking for sufficient/correct file permissions ... OK
* checking whether package ‘exomePeak2’ can be installed ... OK
* checking installed package size ... OK
* checking package directory ... OK
* checking ‘build’ directory ... OK
* checking DESCRIPTION meta-information ... OK
* checking top-level files ... OK
* checking for left-over files ... OK
* checking index information ... OK
* checking package subdirectories ... OK
* checking R files for non-ASCII characters ... OK
* checking R files for syntax errors ... OK
* checking whether the package can be loaded ... OK
* checking whether the package can be loaded with stated dependencies ... OK
* checking whether the package can be unloaded cleanly ... OK
* checking whether the namespace can be loaded with stated dependencies ... OK
* checking whether the namespace can be unloaded cleanly ... OK
* checking dependencies in R code ... OK
* checking S3 generic/method consistency ... OK
* checking replacement functions ... OK
* checking foreign function calls ... OK
* checking R code for possible problems ... NOTE
Results,SummarizedExomePeak: no visible global function definition for
‘glm_M’
exomePeakCalling,MeripBamFileList: no visible global function
definition for ‘metadata’
exomePeakCalling,MeripBamFileList: no visible global function
definition for ‘%over%’
plotLfcGC,SummarizedExomePeak: no visible binding for global variable
‘GC_idx’
plotLfcGC,SummarizedExomePeak: no visible binding for global variable
‘Log2FC’
plotLfcGC,SummarizedExomePeak: no visible binding for global variable
‘Label’
plotReadsGC,SummarizedExomePeak: no visible binding for global variable
‘GC_cont’
plotReadsGC,SummarizedExomePeak: no visible binding for global variable
‘value’
plotSizeFactors,SummarizedExomePeak: no visible binding for global
variable ‘samples’
plotSizeFactors,SummarizedExomePeak: no visible binding for global
variable ‘size_factors’
plotSizeFactors,SummarizedExomePeak: no visible binding for global
variable ‘Estimation_Methods’
Undefined global functions or variables:
%over% Estimation_Methods GC_cont GC_idx Label Log2FC glm_M metadata
samples size_factors value
* checking Rd files ... OK
* checking Rd metadata ... OK
* checking Rd cross-references ... OK
* checking for missing documentation entries ... OK
* checking for code/documentation mismatches ... OK
* checking Rd \usage sections ... OK
* checking Rd contents ... OK
* checking for unstated dependencies in examples ... OK
* checking files in ‘vignettes’ ... OK
* checking examples ... OK
Examples with CPU (user + system) or elapsed time > 5s
user system elapsed
exomePeak2 88.819 0.535 89.535
exomePeakCalling-methods 49.176 0.270 49.523
SummarizedExomePeak-class 28.606 0.674 29.385
glmM-methods 6.131 0.018 6.152
glmDM-methods 5.802 0.009 5.815
* checking for unstated dependencies in vignettes ... OK
* checking package vignettes in ‘inst/doc’ ... OK
* checking running R code from vignettes ... SKIPPED
* checking re-building of vignette outputs ... SKIPPED
* checking PDF version of manual ... OK
* DONE
Status: 1 NOTE
See
‘/Users/biocbuild/bbs-3.11-bioc/meat/exomePeak2.Rcheck/00check.log’
for details.
exomePeak2.Rcheck/00install.out
############################################################################## ############################################################################## ### ### Running command: ### ### /Library/Frameworks/R.framework/Versions/Current/Resources/bin/R CMD INSTALL exomePeak2 ### ############################################################################## ############################################################################## * installing to library ‘/Library/Frameworks/R.framework/Versions/4.0/Resources/library’ * installing *source* package ‘exomePeak2’ ... ** using staged installation ** R ** inst ** byte-compile and prepare package for lazy loading ** help *** installing help indices ** building package indices ** installing vignettes ** testing if installed package can be loaded from temporary location ** testing if installed package can be loaded from final location ** testing if installed package keeps a record of temporary installation path * DONE (exomePeak2)
exomePeak2.Rcheck/exomePeak2-Ex.timings
| name | user | system | elapsed | |
| GCsizeFactors-methods | 0.075 | 0.001 | 0.102 | |
| LibraryType-methods | 0.370 | 0.009 | 0.379 | |
| MeripBamFileList-class | 0.424 | 0.014 | 0.438 | |
| Parameter-methods | 0.205 | 0.023 | 0.229 | |
| Results-methods | 1.183 | 0.059 | 1.305 | |
| SummarizedExomePeak-class | 28.606 | 0.674 | 29.385 | |
| estimateSeqDepth-methods | 0.120 | 0.001 | 0.122 | |
| exomePeak2 | 88.819 | 0.535 | 89.535 | |
| exomePeak2Results-methods | 0.017 | 0.002 | 0.020 | |
| exomePeakCalling-methods | 49.176 | 0.270 | 49.523 | |
| exportResults-methods | 1.196 | 0.007 | 1.244 | |
| glmDM-methods | 5.802 | 0.009 | 5.815 | |
| glmM-methods | 6.131 | 0.018 | 6.152 | |
| normalizeGC-methods | 0.160 | 0.002 | 0.164 | |
| plotExonLength-methods | 1.528 | 0.008 | 1.537 | |
| plotLfcGC-methods | 0.232 | 0.002 | 0.234 | |
| plotReadsGC-methods | 1.633 | 0.012 | 1.647 | |
| plotSizeFactors-methods | 0.465 | 0.003 | 0.468 | |
| scanMeripBAM | 0.367 | 0.005 | 0.373 | |