| Back to Multiple platform build/check report for BioC 3.11 |
|
This page was generated on 2020-10-17 11:58:27 -0400 (Sat, 17 Oct 2020).
| TO THE DEVELOPERS/MAINTAINERS OF THE epivizrStandalone PACKAGE: Please make sure to use the following settings in order to reproduce any error or warning you see on this page. |
| Package 560/1905 | Hostname | OS / Arch | INSTALL | BUILD | CHECK | BUILD BIN | ||||||
| epivizrStandalone 1.16.0 Hector Corrada Bravo
| malbec2 | Linux (Ubuntu 18.04.4 LTS) / x86_64 | OK | OK | OK | |||||||
| tokay2 | Windows Server 2012 R2 Standard / x64 | OK | OK | WARNINGS | OK | |||||||
| machv2 | macOS 10.14.6 Mojave / x86_64 | OK | [ OK ] | OK | OK |
| Package: epivizrStandalone |
| Version: 1.16.0 |
| Command: /Library/Frameworks/R.framework/Versions/Current/Resources/bin/R CMD build --keep-empty-dirs --no-resave-data epivizrStandalone |
| StartedAt: 2020-10-16 18:54:05 -0400 (Fri, 16 Oct 2020) |
| EndedAt: 2020-10-16 18:54:57 -0400 (Fri, 16 Oct 2020) |
| EllapsedTime: 52.1 seconds |
| RetCode: 0 |
| Status: OK |
| PackageFile: epivizrStandalone_1.16.0.tar.gz |
| PackageFileSize: 221.7 KiB |
############################################################################## ############################################################################## ### ### Running command: ### ### /Library/Frameworks/R.framework/Versions/Current/Resources/bin/R CMD build --keep-empty-dirs --no-resave-data epivizrStandalone ### ############################################################################## ############################################################################## * checking for file ‘epivizrStandalone/DESCRIPTION’ ... OK * preparing ‘epivizrStandalone’: * checking DESCRIPTION meta-information ... OK * installing the package to build vignettes * creating vignettes ... OK * checking for LF line-endings in source and make files and shell scripts * checking for empty or unneeded directories * building ‘epivizrStandalone_1.16.0.tar.gz’