| Back to Multiple platform build/check report for BioC 3.11 |
|
This page was generated on 2020-10-17 11:56:31 -0400 (Sat, 17 Oct 2020).
| TO THE DEVELOPERS/MAINTAINERS OF THE enrichplot PACKAGE: Please make sure to use the following settings in order to reproduce any error or warning you see on this page. |
| Package 546/1905 | Hostname | OS / Arch | INSTALL | BUILD | CHECK | BUILD BIN | ||||||
| enrichplot 1.8.1 Guangchuang Yu
| malbec2 | Linux (Ubuntu 18.04.4 LTS) / x86_64 | OK | OK | OK | |||||||
| tokay2 | Windows Server 2012 R2 Standard / x64 | OK | OK | WARNINGS | [ OK ] | |||||||
| machv2 | macOS 10.14.6 Mojave / x86_64 | OK | OK | OK | OK |
| Package: enrichplot |
| Version: 1.8.1 |
| Command: rm -rf enrichplot.buildbin-libdir && mkdir enrichplot.buildbin-libdir && C:\Users\biocbuild\bbs-3.11-bioc\R\bin\R.exe CMD INSTALL --merge-multiarch --build --library=enrichplot.buildbin-libdir enrichplot_1.8.1.tar.gz |
| StartedAt: 2020-10-17 10:25:56 -0400 (Sat, 17 Oct 2020) |
| EndedAt: 2020-10-17 10:26:31 -0400 (Sat, 17 Oct 2020) |
| EllapsedTime: 35.3 seconds |
| RetCode: 0 |
| Status: OK |
| PackageFile: enrichplot_1.8.1.zip |
| PackageFileSize: 207.1 KiB |
##############################################################################
##############################################################################
###
### Running command:
###
### rm -rf enrichplot.buildbin-libdir && mkdir enrichplot.buildbin-libdir && C:\Users\biocbuild\bbs-3.11-bioc\R\bin\R.exe CMD INSTALL --merge-multiarch --build --library=enrichplot.buildbin-libdir enrichplot_1.8.1.tar.gz
###
##############################################################################
##############################################################################
install for i386
* installing *source* package 'enrichplot' ...
** using staged installation
** R
** inst
** byte-compile and prepare package for lazy loading
** help
*** installing help indices
converting help for package 'enrichplot'
finding HTML links ... done
barplot.enrichResult html
cnetplot html
color_palette html
dotplot-methods html
dotplot html
emapplot html
fortify html
ggtable html
goplot html
gsInfo html
gseadist html
gseaplot html
gseaplot2 html
gsearank html
heatplot html
list2graph html
plotting.clusterProfile html
pmcplot html
reexports html
Rd warning: C:/Users/biocbuild/bbs-3.11-bioc/tmpdir/RtmpCS1LIf/R.INSTALL2b3022decfa/enrichplot/man/reexports.Rd:17: file link 'ggtitle' in package 'ggplot2' does not exist and so has been treated as a topic
ridgeplot html
upsetplot-methods html
** building package indices
** installing vignettes
** testing if installed package can be loaded from temporary location
** testing if installed package can be loaded from final location
** testing if installed package keeps a record of temporary installation path
install for x64
* installing *source* package 'enrichplot' ...
** testing if installed package can be loaded
* MD5 sums
packaged installation of 'enrichplot' as enrichplot_1.8.1.zip
* DONE (enrichplot)