| Back to Multiple platform build/check report for BioC 3.11 |
|
This page was generated on 2020-10-17 11:58:26 -0400 (Sat, 17 Oct 2020).
| TO THE DEVELOPERS/MAINTAINERS OF THE enrichTF PACKAGE: Please make sure to use the following settings in order to reproduce any error or warning you see on this page. |
| Package 547/1905 | Hostname | OS / Arch | INSTALL | BUILD | CHECK | BUILD BIN | ||||||
| enrichTF 1.4.0 Zheng Wei
| malbec2 | Linux (Ubuntu 18.04.4 LTS) / x86_64 | OK | OK | OK | |||||||
| tokay2 | Windows Server 2012 R2 Standard / x64 | OK | OK | OK | OK | |||||||
| machv2 | macOS 10.14.6 Mojave / x86_64 | OK | OK | [ OK ] | OK |
| Package: enrichTF |
| Version: 1.4.0 |
| Command: /Library/Frameworks/R.framework/Versions/Current/Resources/bin/R CMD check --install=check:enrichTF.install-out.txt --library=/Library/Frameworks/R.framework/Versions/Current/Resources/library --no-vignettes --timings enrichTF_1.4.0.tar.gz |
| StartedAt: 2020-10-17 00:52:26 -0400 (Sat, 17 Oct 2020) |
| EndedAt: 2020-10-17 01:01:12 -0400 (Sat, 17 Oct 2020) |
| EllapsedTime: 526.3 seconds |
| RetCode: 0 |
| Status: OK |
| CheckDir: enrichTF.Rcheck |
| Warnings: 0 |
##############################################################################
##############################################################################
###
### Running command:
###
### /Library/Frameworks/R.framework/Versions/Current/Resources/bin/R CMD check --install=check:enrichTF.install-out.txt --library=/Library/Frameworks/R.framework/Versions/Current/Resources/library --no-vignettes --timings enrichTF_1.4.0.tar.gz
###
##############################################################################
##############################################################################
* using log directory ‘/Users/biocbuild/bbs-3.11-bioc/meat/enrichTF.Rcheck’
* using R version 4.0.3 (2020-10-10)
* using platform: x86_64-apple-darwin17.0 (64-bit)
* using session charset: UTF-8
* using option ‘--no-vignettes’
* checking for file ‘enrichTF/DESCRIPTION’ ... OK
* checking extension type ... Package
* this is package ‘enrichTF’ version ‘1.4.0’
* package encoding: UTF-8
* checking package namespace information ... OK
* checking package dependencies ... OK
* checking if this is a source package ... OK
* checking if there is a namespace ... OK
* checking for hidden files and directories ... OK
* checking for portable file names ... OK
* checking for sufficient/correct file permissions ... OK
* checking whether package ‘enrichTF’ can be installed ... OK
* checking installed package size ... OK
* checking package directory ... OK
* checking ‘build’ directory ... OK
* checking DESCRIPTION meta-information ... OK
* checking top-level files ... OK
* checking for left-over files ... OK
* checking index information ... OK
* checking package subdirectories ... OK
* checking R files for non-ASCII characters ... OK
* checking R files for syntax errors ... OK
* checking whether the package can be loaded ... OK
* checking whether the package can be loaded with stated dependencies ... OK
* checking whether the package can be unloaded cleanly ... OK
* checking whether the namespace can be loaded with stated dependencies ... NOTE
Warning in options(stringsAsFactors = TRUE) :
'options(stringsAsFactors = TRUE)' is deprecated and will be disabled
A namespace must be able to be loaded with just the base namespace
loaded: otherwise if the namespace gets loaded by a saved object, the
session will be unable to start.
Probably some imports need to be declared in the NAMESPACE file.
* checking whether the namespace can be unloaded cleanly ... OK
* checking dependencies in R code ... OK
* checking S3 generic/method consistency ... OK
* checking replacement functions ... OK
* checking foreign function calls ... OK
* checking R code for possible problems ... NOTE
processing,TissueOpennessConserve: no visible binding for global
variable ‘X2’
Undefined global functions or variables:
X2
* checking Rd files ... OK
* checking Rd metadata ... OK
* checking Rd cross-references ... OK
* checking for missing documentation entries ... OK
* checking for code/documentation mismatches ... OK
* checking Rd \usage sections ... OK
* checking Rd contents ... OK
* checking for unstated dependencies in examples ... OK
* checking files in ‘vignettes’ ... OK
* checking examples ... OK
Examples with CPU (user + system) or elapsed time > 5s
user system elapsed
TissueOpennessSpecificity 31.172 0.111 31.337
GeneOntology 23.450 1.888 25.425
MotifsInRegions 6.826 4.380 7.145
GenBackground 5.283 0.636 6.388
Pipelines 2.096 0.115 25.084
* checking for unstated dependencies in ‘tests’ ... OK
* checking tests ...
Running ‘testthat.R’
OK
* checking for unstated dependencies in vignettes ... OK
* checking package vignettes in ‘inst/doc’ ... OK
* checking running R code from vignettes ... SKIPPED
* checking re-building of vignette outputs ... SKIPPED
* checking PDF version of manual ... OK
* DONE
Status: 2 NOTEs
See
‘/Users/biocbuild/bbs-3.11-bioc/meat/enrichTF.Rcheck/00check.log’
for details.
enrichTF.Rcheck/00install.out
############################################################################## ############################################################################## ### ### Running command: ### ### /Library/Frameworks/R.framework/Versions/Current/Resources/bin/R CMD INSTALL enrichTF ### ############################################################################## ############################################################################## * installing to library ‘/Library/Frameworks/R.framework/Versions/4.0/Resources/library’ * installing *source* package ‘enrichTF’ ... ** using staged installation ** R ** inst ** byte-compile and prepare package for lazy loading ** help *** installing help indices ** building package indices ** installing vignettes ** testing if installed package can be loaded from temporary location Warning in options(stringsAsFactors = TRUE) : 'options(stringsAsFactors = TRUE)' is deprecated and will be disabled ** testing if installed package can be loaded from final location Warning in options(stringsAsFactors = TRUE) : 'options(stringsAsFactors = TRUE)' is deprecated and will be disabled ** testing if installed package keeps a record of temporary installation path * DONE (enrichTF)
enrichTF.Rcheck/tests/testthat.Rout
R version 4.0.3 (2020-10-10) -- "Bunny-Wunnies Freak Out"
Copyright (C) 2020 The R Foundation for Statistical Computing
Platform: x86_64-apple-darwin17.0 (64-bit)
R is free software and comes with ABSOLUTELY NO WARRANTY.
You are welcome to redistribute it under certain conditions.
Type 'license()' or 'licence()' for distribution details.
R is a collaborative project with many contributors.
Type 'contributors()' for more information and
'citation()' on how to cite R or R packages in publications.
Type 'demo()' for some demos, 'help()' for on-line help, or
'help.start()' for an HTML browser interface to help.
Type 'q()' to quit R.
> library(testthat)
> library(enrichTF)
Loading required package: pipeFrame
Warning message:
In options(stringsAsFactors = TRUE) :
'options(stringsAsFactors = TRUE)' is deprecated and will be disabled
>
> test_check("enrichTF")
[1] "2020-10-17 01:01:00 EDT"
[1] "2020-10-17 01:01:00 EDT"
[1] "2020-10-17 01:01:00 EDT"
[1] "2020-10-17 01:01:00 EDT"
[1] "2020-10-17 01:01:00 EDT"
[1] "2020-10-17 01:01:00 EDT"
[1] "2020-10-17 01:01:02 EDT"
[1] "2020-10-17 01:01:02 EDT"
[1] "2020-10-17 01:01:02 EDT"
[1] "2020-10-17 01:01:02 EDT"
[1] "2020-10-17 01:01:02 EDT"
[1] "2020-10-17 01:01:02 EDT"
[1] "2020-10-17 01:01:04 EDT"
[1] "2020-10-17 01:01:04 EDT"
[1] "2020-10-17 01:01:04 EDT"
[1] "2020-10-17 01:01:04 EDT"
[1] "2020-10-17 01:01:04 EDT"
[1] "2020-10-17 01:01:04 EDT"
══ testthat results ═══════════════════════════════════════════════════════════
[ OK: 9 | SKIPPED: 0 | WARNINGS: 0 | FAILED: 0 ]
>
> proc.time()
user system elapsed
30.504 2.459 32.685
enrichTF.Rcheck/enrichTF-Ex.timings
| name | user | system | elapsed | |
| GenBackground | 5.283 | 0.636 | 6.388 | |
| GeneOntology | 23.450 | 1.888 | 25.425 | |
| MotifsInRegions | 6.826 | 4.380 | 7.145 | |
| Pipelines | 2.096 | 0.115 | 25.084 | |
| RegionConnectTargetGene | 0.771 | 0.084 | 0.860 | |
| TFsEnrichInRegions | 0.923 | 0.115 | 1.042 | |
| TissueOpennessConserve | 0.185 | 0.012 | 0.198 | |
| TissueOpennessSpecificity | 31.172 | 0.111 | 31.337 | |
| UnzipAndMergeBed | 0.121 | 0.012 | 0.134 | |