| Back to Multiple platform build/check report for BioC 3.11 |
|
This page was generated on 2020-10-12 12:31:56 -0400 (Mon, 12 Oct 2020).
| TO THE DEVELOPERS/MAINTAINERS OF THE drawProteins PACKAGE: Please make sure to use the following settings in order to reproduce any error or warning you see on this page. |
| Package 503/1905 | Hostname | OS / Arch | INSTALL | BUILD | CHECK | BUILD BIN | ||||||
| drawProteins 1.8.0 Paul Brennan
| malbec2 | Linux (Ubuntu 18.04.4 LTS) / x86_64 | OK | OK | OK | |||||||
| tokay2 | Windows Server 2012 R2 Standard / x64 | OK | OK | OK | OK | |||||||
| machv2 | macOS 10.14.6 Mojave / x86_64 | OK | OK | [ OK ] | OK |
| Package: drawProteins |
| Version: 1.8.0 |
| Command: /Library/Frameworks/R.framework/Versions/Current/Resources/bin/R CMD check --install=check:drawProteins.install-out.txt --library=/Library/Frameworks/R.framework/Versions/Current/Resources/library --no-vignettes --timings drawProteins_1.8.0.tar.gz |
| StartedAt: 2020-10-12 03:43:54 -0400 (Mon, 12 Oct 2020) |
| EndedAt: 2020-10-12 03:45:09 -0400 (Mon, 12 Oct 2020) |
| EllapsedTime: 75.0 seconds |
| RetCode: 0 |
| Status: OK |
| CheckDir: drawProteins.Rcheck |
| Warnings: 0 |
############################################################################## ############################################################################## ### ### Running command: ### ### /Library/Frameworks/R.framework/Versions/Current/Resources/bin/R CMD check --install=check:drawProteins.install-out.txt --library=/Library/Frameworks/R.framework/Versions/Current/Resources/library --no-vignettes --timings drawProteins_1.8.0.tar.gz ### ############################################################################## ############################################################################## * using log directory ‘/Users/biocbuild/bbs-3.11-bioc/meat/drawProteins.Rcheck’ * using R version 4.0.2 (2020-06-22) * using platform: x86_64-apple-darwin17.0 (64-bit) * using session charset: UTF-8 * using option ‘--no-vignettes’ * checking for file ‘drawProteins/DESCRIPTION’ ... OK * this is package ‘drawProteins’ version ‘1.8.0’ * package encoding: UTF-8 * checking package namespace information ... OK * checking package dependencies ... OK * checking if this is a source package ... OK * checking if there is a namespace ... OK * checking for hidden files and directories ... OK * checking for portable file names ... OK * checking for sufficient/correct file permissions ... OK * checking whether package ‘drawProteins’ can be installed ... OK * checking installed package size ... OK * checking package directory ... OK * checking ‘build’ directory ... OK * checking DESCRIPTION meta-information ... OK * checking top-level files ... OK * checking for left-over files ... OK * checking index information ... OK * checking package subdirectories ... OK * checking R files for non-ASCII characters ... OK * checking R files for syntax errors ... OK * checking whether the package can be loaded ... OK * checking whether the package can be loaded with stated dependencies ... OK * checking whether the package can be unloaded cleanly ... OK * checking whether the namespace can be loaded with stated dependencies ... OK * checking whether the namespace can be unloaded cleanly ... OK * checking dependencies in R code ... NOTE Namespace in Imports field not imported from: ‘stringr’ All declared Imports should be used. * checking S3 generic/method consistency ... OK * checking replacement functions ... OK * checking foreign function calls ... OK * checking R code for possible problems ... OK * checking Rd files ... OK * checking Rd metadata ... OK * checking Rd cross-references ... OK * checking for missing documentation entries ... OK * checking for code/documentation mismatches ... OK * checking Rd \usage sections ... OK * checking Rd contents ... OK * checking for unstated dependencies in examples ... OK * checking contents of ‘data’ directory ... OK * checking data for non-ASCII characters ... OK * checking data for ASCII and uncompressed saves ... OK * checking files in ‘vignettes’ ... OK * checking examples ... OK * checking for unstated dependencies in ‘tests’ ... OK * checking tests ... Running ‘testthat.R’ OK * checking for unstated dependencies in vignettes ... OK * checking package vignettes in ‘inst/doc’ ... OK * checking running R code from vignettes ... SKIPPED * checking re-building of vignette outputs ... SKIPPED * checking PDF version of manual ... OK * DONE Status: 1 NOTE See ‘/Users/biocbuild/bbs-3.11-bioc/meat/drawProteins.Rcheck/00check.log’ for details.
drawProteins.Rcheck/00install.out
############################################################################## ############################################################################## ### ### Running command: ### ### /Library/Frameworks/R.framework/Versions/Current/Resources/bin/R CMD INSTALL drawProteins ### ############################################################################## ############################################################################## * installing to library ‘/Library/Frameworks/R.framework/Versions/4.0/Resources/library’ * installing *source* package ‘drawProteins’ ... ** using staged installation ** R ** data ** inst ** byte-compile and prepare package for lazy loading ** help *** installing help indices ** building package indices ** installing vignettes ** testing if installed package can be loaded from temporary location ** testing if installed package can be loaded from final location ** testing if installed package keeps a record of temporary installation path * DONE (drawProteins)
drawProteins.Rcheck/tests/testthat.Rout
R version 4.0.2 (2020-06-22) -- "Taking Off Again"
Copyright (C) 2020 The R Foundation for Statistical Computing
Platform: x86_64-apple-darwin17.0 (64-bit)
R is free software and comes with ABSOLUTELY NO WARRANTY.
You are welcome to redistribute it under certain conditions.
Type 'license()' or 'licence()' for distribution details.
R is a collaborative project with many contributors.
Type 'contributors()' for more information and
'citation()' on how to cite R or R packages in publications.
Type 'demo()' for some demos, 'help()' for on-line help, or
'help.start()' for an HTML browser interface to help.
Type 'q()' to quit R.
> library(testthat)
> library(drawProteins)
>
> test_check("drawProteins")
[1] "Download has worked"
[1] "An error has occured. Code: 400"
══ testthat results ═══════════════════════════════════════════════════════════
[ OK: 183 | SKIPPED: 0 | WARNINGS: 0 | FAILED: 0 ]
>
> proc.time()
user system elapsed
3.589 0.230 4.545
drawProteins.Rcheck/drawProteins-Ex.timings
| name | user | system | elapsed | |
| draw_canvas | 0.584 | 0.041 | 0.628 | |
| draw_chains | 0.923 | 0.014 | 0.973 | |
| draw_domains | 0.399 | 0.004 | 0.403 | |
| draw_folding | 0.757 | 0.007 | 0.766 | |
| draw_motif | 0.347 | 0.003 | 0.350 | |
| draw_phospho | 0.229 | 0.003 | 0.233 | |
| draw_recept_dom | 0.356 | 0.003 | 0.359 | |
| draw_regions | 0.406 | 0.005 | 0.413 | |
| draw_repeat | 0.263 | 0.003 | 0.268 | |
| extract_feat_acc | 0.021 | 0.002 | 0.023 | |
| extract_names | 0.008 | 0.001 | 0.010 | |
| extract_transcripts | 0.023 | 0.001 | 0.024 | |
| feature_to_dataframe | 0.044 | 0.004 | 0.048 | |
| get_features | 0.177 | 0.014 | 0.787 | |
| parse_gff | 0.378 | 0.025 | 0.740 | |
| phospho_site_info | 0.005 | 0.002 | 0.008 | |