| Back to Multiple platform build/check report for BioC 3.11 |
|
This page was generated on 2020-10-17 11:56:28 -0400 (Sat, 17 Oct 2020).
| TO THE DEVELOPERS/MAINTAINERS OF THE dittoSeq PACKAGE: Please make sure to use the following settings in order to reproduce any error or warning you see on this page. |
| Package 483/1905 | Hostname | OS / Arch | INSTALL | BUILD | CHECK | BUILD BIN | ||||||
| dittoSeq 1.0.2 Daniel Bunis
| malbec2 | Linux (Ubuntu 18.04.4 LTS) / x86_64 | OK | OK | OK | |||||||
| tokay2 | Windows Server 2012 R2 Standard / x64 | OK | OK | OK | [ OK ] | |||||||
| machv2 | macOS 10.14.6 Mojave / x86_64 | OK | OK | OK | OK |
| Package: dittoSeq |
| Version: 1.0.2 |
| Command: rm -rf dittoSeq.buildbin-libdir && mkdir dittoSeq.buildbin-libdir && C:\Users\biocbuild\bbs-3.11-bioc\R\bin\R.exe CMD INSTALL --merge-multiarch --build --library=dittoSeq.buildbin-libdir dittoSeq_1.0.2.tar.gz |
| StartedAt: 2020-10-17 10:20:56 -0400 (Sat, 17 Oct 2020) |
| EndedAt: 2020-10-17 10:21:45 -0400 (Sat, 17 Oct 2020) |
| EllapsedTime: 49.0 seconds |
| RetCode: 0 |
| Status: OK |
| PackageFile: dittoSeq_1.0.2.zip |
| PackageFileSize: 1.928 MiB |
##############################################################################
##############################################################################
###
### Running command:
###
### rm -rf dittoSeq.buildbin-libdir && mkdir dittoSeq.buildbin-libdir && C:\Users\biocbuild\bbs-3.11-bioc\R\bin\R.exe CMD INSTALL --merge-multiarch --build --library=dittoSeq.buildbin-libdir dittoSeq_1.0.2.tar.gz
###
##############################################################################
##############################################################################
install for i386
* installing *source* package 'dittoSeq' ...
** using staged installation
** R
** data
*** moving datasets to lazyload DB
** inst
** byte-compile and prepare package for lazy loading
** help
*** installing help indices
converting help for package 'dittoSeq'
finding HTML links ... done
Darken html
DittoSeq html
Lighten html
Simulate html
addDimReduction html
finding level-2 HTML links ... done
addPrcomp html
demux.SNP.summary html
demux.calls.summary html
demuxlet.example html
dittoBarPlot html
dittoColors html
dittoDimPlot html
dittoHeatmap html
dittoPlot html
dittoPlotVarsAcrossGroups html
dittoScatterPlot html
gene html
getGenes html
getMetas html
getReductions html
importDemux html
importDittoBulk html
isBulk html
isGene html
isMeta html
meta html
metaLevels html
multi_dittoDimPlot html
multi_dittoDimPlotVaryCells html
multi_dittoPlot html
setBulk html
** building package indices
** installing vignettes
** testing if installed package can be loaded from temporary location
** testing if installed package can be loaded from final location
** testing if installed package keeps a record of temporary installation path
install for x64
* installing *source* package 'dittoSeq' ...
** testing if installed package can be loaded
* MD5 sums
packaged installation of 'dittoSeq' as dittoSeq_1.0.2.zip
* DONE (dittoSeq)