| Back to Multiple platform build/check report for BioC 3.11 |
|
This page was generated on 2020-10-17 11:54:40 -0400 (Sat, 17 Oct 2020).
| TO THE DEVELOPERS/MAINTAINERS OF THE diffHic PACKAGE: Please make sure to use the following settings in order to reproduce any error or warning you see on this page. |
| Package 473/1905 | Hostname | OS / Arch | INSTALL | BUILD | CHECK | BUILD BIN | ||||||
| diffHic 1.20.0 Aaron Lun
| malbec2 | Linux (Ubuntu 18.04.4 LTS) / x86_64 | [ OK ] | OK | OK | |||||||
| tokay2 | Windows Server 2012 R2 Standard / x64 | OK | OK | WARNINGS | OK | |||||||
| machv2 | macOS 10.14.6 Mojave / x86_64 | OK | OK | OK | OK |
| Package: diffHic |
| Version: 1.20.0 |
| Command: /home/biocbuild/bbs-3.11-bioc/R/bin/R CMD INSTALL diffHic |
| StartedAt: 2020-10-16 17:21:50 -0400 (Fri, 16 Oct 2020) |
| EndedAt: 2020-10-16 17:23:54 -0400 (Fri, 16 Oct 2020) |
| EllapsedTime: 123.5 seconds |
| RetCode: 0 |
| Status: OK |
##############################################################################
##############################################################################
###
### Running command:
###
### /home/biocbuild/bbs-3.11-bioc/R/bin/R CMD INSTALL diffHic
###
##############################################################################
##############################################################################
* installing to library ‘/home/biocbuild/bbs-3.11-bioc/R/library’
* installing *source* package ‘diffHic’ ...
** using staged installation
** libs
g++ -std=gnu++11 -I"/home/biocbuild/bbs-3.11-bioc/R/include" -DNDEBUG -D_FILE_OFFSET_BITS=64 -I'/home/biocbuild/bbs-3.11-bioc/R/library/Rhtslib/include' -I'/home/biocbuild/bbs-3.11-bioc/R/library/zlibbioc/include' -I'/home/biocbuild/bbs-3.11-bioc/R/library/Rcpp/include' -I/usr/local/include -fpic -g -O2 -Wall -c binner.cpp -o binner.o
g++ -std=gnu++11 -I"/home/biocbuild/bbs-3.11-bioc/R/include" -DNDEBUG -D_FILE_OFFSET_BITS=64 -I'/home/biocbuild/bbs-3.11-bioc/R/library/Rhtslib/include' -I'/home/biocbuild/bbs-3.11-bioc/R/library/zlibbioc/include' -I'/home/biocbuild/bbs-3.11-bioc/R/library/Rcpp/include' -I/usr/local/include -fpic -g -O2 -Wall -c check_input.cpp -o check_input.o
g++ -std=gnu++11 -I"/home/biocbuild/bbs-3.11-bioc/R/include" -DNDEBUG -D_FILE_OFFSET_BITS=64 -I'/home/biocbuild/bbs-3.11-bioc/R/library/Rhtslib/include' -I'/home/biocbuild/bbs-3.11-bioc/R/library/zlibbioc/include' -I'/home/biocbuild/bbs-3.11-bioc/R/library/Rcpp/include' -I/usr/local/include -fpic -g -O2 -Wall -c cluster_2d.cpp -o cluster_2d.o
g++ -std=gnu++11 -I"/home/biocbuild/bbs-3.11-bioc/R/include" -DNDEBUG -D_FILE_OFFSET_BITS=64 -I'/home/biocbuild/bbs-3.11-bioc/R/library/Rhtslib/include' -I'/home/biocbuild/bbs-3.11-bioc/R/library/zlibbioc/include' -I'/home/biocbuild/bbs-3.11-bioc/R/library/Rcpp/include' -I/usr/local/include -fpic -g -O2 -Wall -c count_background.cpp -o count_background.o
g++ -std=gnu++11 -I"/home/biocbuild/bbs-3.11-bioc/R/include" -DNDEBUG -D_FILE_OFFSET_BITS=64 -I'/home/biocbuild/bbs-3.11-bioc/R/library/Rhtslib/include' -I'/home/biocbuild/bbs-3.11-bioc/R/library/zlibbioc/include' -I'/home/biocbuild/bbs-3.11-bioc/R/library/Rcpp/include' -I/usr/local/include -fpic -g -O2 -Wall -c count_connect.cpp -o count_connect.o
count_connect.cpp: In function ‘SEXPREC* count_connect(SEXP, SEXP)’:
count_connect.cpp:57:30: warning: comparison between signed and unsigned integer expressions [-Wsign-compare]
for (size_t odex=0; odex < ncombos; ++odex) {
~~~~~^~~~~~~~~
g++ -std=gnu++11 -I"/home/biocbuild/bbs-3.11-bioc/R/include" -DNDEBUG -D_FILE_OFFSET_BITS=64 -I'/home/biocbuild/bbs-3.11-bioc/R/library/Rhtslib/include' -I'/home/biocbuild/bbs-3.11-bioc/R/library/zlibbioc/include' -I'/home/biocbuild/bbs-3.11-bioc/R/library/Rcpp/include' -I/usr/local/include -fpic -g -O2 -Wall -c count_patch.cpp -o count_patch.o
count_patch.cpp: In function ‘SEXPREC* count_patch(SEXP, SEXP, SEXP, SEXP, SEXP)’:
count_patch.cpp:45:33: warning: comparison between signed and unsigned integer expressions [-Wsign-compare]
for (size_t vecdex=0; vecdex<ncombos; ++vecdex) {
~~~~~~^~~~~~~~
g++ -std=gnu++11 -I"/home/biocbuild/bbs-3.11-bioc/R/include" -DNDEBUG -D_FILE_OFFSET_BITS=64 -I'/home/biocbuild/bbs-3.11-bioc/R/library/Rhtslib/include' -I'/home/biocbuild/bbs-3.11-bioc/R/library/zlibbioc/include' -I'/home/biocbuild/bbs-3.11-bioc/R/library/Rcpp/include' -I/usr/local/include -fpic -g -O2 -Wall -c directionality.cpp -o directionality.o
g++ -std=gnu++11 -I"/home/biocbuild/bbs-3.11-bioc/R/include" -DNDEBUG -D_FILE_OFFSET_BITS=64 -I'/home/biocbuild/bbs-3.11-bioc/R/library/Rhtslib/include' -I'/home/biocbuild/bbs-3.11-bioc/R/library/zlibbioc/include' -I'/home/biocbuild/bbs-3.11-bioc/R/library/Rcpp/include' -I/usr/local/include -fpic -g -O2 -Wall -c init.cpp -o init.o
g++ -std=gnu++11 -I"/home/biocbuild/bbs-3.11-bioc/R/include" -DNDEBUG -D_FILE_OFFSET_BITS=64 -I'/home/biocbuild/bbs-3.11-bioc/R/library/Rhtslib/include' -I'/home/biocbuild/bbs-3.11-bioc/R/library/zlibbioc/include' -I'/home/biocbuild/bbs-3.11-bioc/R/library/Rcpp/include' -I/usr/local/include -fpic -g -O2 -Wall -c iterative_correction.cpp -o iterative_correction.o
g++ -std=gnu++11 -I"/home/biocbuild/bbs-3.11-bioc/R/include" -DNDEBUG -D_FILE_OFFSET_BITS=64 -I'/home/biocbuild/bbs-3.11-bioc/R/library/Rhtslib/include' -I'/home/biocbuild/bbs-3.11-bioc/R/library/zlibbioc/include' -I'/home/biocbuild/bbs-3.11-bioc/R/library/Rcpp/include' -I/usr/local/include -fpic -g -O2 -Wall -c neighbors.cpp -o neighbors.o
g++ -std=gnu++11 -I"/home/biocbuild/bbs-3.11-bioc/R/include" -DNDEBUG -D_FILE_OFFSET_BITS=64 -I'/home/biocbuild/bbs-3.11-bioc/R/library/Rhtslib/include' -I'/home/biocbuild/bbs-3.11-bioc/R/library/zlibbioc/include' -I'/home/biocbuild/bbs-3.11-bioc/R/library/Rcpp/include' -I/usr/local/include -fpic -g -O2 -Wall -c pair_stats.cpp -o pair_stats.o
g++ -std=gnu++11 -I"/home/biocbuild/bbs-3.11-bioc/R/include" -DNDEBUG -D_FILE_OFFSET_BITS=64 -I'/home/biocbuild/bbs-3.11-bioc/R/library/Rhtslib/include' -I'/home/biocbuild/bbs-3.11-bioc/R/library/zlibbioc/include' -I'/home/biocbuild/bbs-3.11-bioc/R/library/Rcpp/include' -I/usr/local/include -fpic -g -O2 -Wall -c quadrant_bg.cpp -o quadrant_bg.o
g++ -std=gnu++11 -I"/home/biocbuild/bbs-3.11-bioc/R/include" -DNDEBUG -D_FILE_OFFSET_BITS=64 -I'/home/biocbuild/bbs-3.11-bioc/R/library/Rhtslib/include' -I'/home/biocbuild/bbs-3.11-bioc/R/library/zlibbioc/include' -I'/home/biocbuild/bbs-3.11-bioc/R/library/Rcpp/include' -I/usr/local/include -fpic -g -O2 -Wall -c report_hic_pairs.cpp -o report_hic_pairs.o
g++ -std=gnu++11 -I"/home/biocbuild/bbs-3.11-bioc/R/include" -DNDEBUG -D_FILE_OFFSET_BITS=64 -I'/home/biocbuild/bbs-3.11-bioc/R/library/Rhtslib/include' -I'/home/biocbuild/bbs-3.11-bioc/R/library/zlibbioc/include' -I'/home/biocbuild/bbs-3.11-bioc/R/library/Rcpp/include' -I/usr/local/include -fpic -g -O2 -Wall -c trended_filter.cpp -o trended_filter.o
g++ -std=gnu++11 -I"/home/biocbuild/bbs-3.11-bioc/R/include" -DNDEBUG -D_FILE_OFFSET_BITS=64 -I'/home/biocbuild/bbs-3.11-bioc/R/library/Rhtslib/include' -I'/home/biocbuild/bbs-3.11-bioc/R/library/zlibbioc/include' -I'/home/biocbuild/bbs-3.11-bioc/R/library/Rcpp/include' -I/usr/local/include -fpic -g -O2 -Wall -c utils.cpp -o utils.o
g++ -std=gnu++11 -shared -L/home/biocbuild/bbs-3.11-bioc/R/lib -L/usr/local/lib -o diffHic.so binner.o check_input.o cluster_2d.o count_background.o count_connect.o count_patch.o directionality.o init.o iterative_correction.o neighbors.o pair_stats.o quadrant_bg.o report_hic_pairs.o trended_filter.o utils.o /home/biocbuild/bbs-3.11-bioc/R/library/Rhtslib/usrlib/libhts.a -lcurl -L/home/biocbuild/bbs-3.11-bioc/R/lib -lR
installing to /home/biocbuild/bbs-3.11-bioc/R/library/00LOCK-diffHic/00new/diffHic/libs
** R
** inst
** byte-compile and prepare package for lazy loading
** help
*** installing help indices
** building package indices
** installing vignettes
‘diffHic.Rnw’
** testing if installed package can be loaded from temporary location
** checking absolute paths in shared objects and dynamic libraries
** testing if installed package can be loaded from final location
** testing if installed package keeps a record of temporary installation path
* DONE (diffHic)