This page was generated on 2020-10-17 11:56:27 -0400 (Sat, 17 Oct 2020).
| dexus 1.28.0 Guenter Klambauer
 
 
| Snapshot Date: 2020-10-16 14:40:19 -0400 (Fri, 16 Oct 2020) |  | URL: https://git.bioconductor.org/packages/dexus |  | Branch: RELEASE_3_11 |  | Last Commit: 72ae234 |  | Last Changed Date: 2020-04-27 14:33:34 -0400 (Mon, 27 Apr 2020) |  | malbec2 | Linux (Ubuntu 18.04.4 LTS) / x86_64 | OK | OK | OK |  |  | 
| tokay2 | Windows Server 2012 R2 Standard / x64 | [ OK ] | OK | OK | OK |  | 
| machv2 | macOS 10.14.6 Mojave / x86_64 | OK | OK | OK | OK |  | 
##############################################################################
##############################################################################
###
### Running command:
###
###   C:\cygwin\bin\curl.exe -O https://malbec2.bioconductor.org/BBS/3.11/bioc/src/contrib/dexus_1.28.0.tar.gz && rm -rf dexus.buildbin-libdir && mkdir dexus.buildbin-libdir && C:\Users\biocbuild\bbs-3.11-bioc\R\bin\R.exe CMD INSTALL --merge-multiarch --build --library=dexus.buildbin-libdir dexus_1.28.0.tar.gz && C:\Users\biocbuild\bbs-3.11-bioc\R\bin\R.exe CMD INSTALL dexus_1.28.0.zip && rm dexus_1.28.0.tar.gz dexus_1.28.0.zip
###
##############################################################################
##############################################################################
  % Total    % Received % Xferd  Average Speed   Time    Time     Time  Current
                                 Dload  Upload   Total   Spent    Left  Speed
  0     0    0     0    0     0      0      0 --:--:-- --:--:-- --:--:--     0
100 3050k  100 3050k    0     0  25.0M      0 --:--:-- --:--:-- --:--:-- 26.5M
install for i386
* installing *source* package 'dexus' ...
** using staged installation
** libs
"C:/rtools40/mingw32/bin/"g++ -std=gnu++11  -I"C:/Users/BIOCBU~1/BBS-3~1.11-/R/include" -DNDEBUG     -I"C:/extsoft/include"     -O2 -Wall  -mfpmath=sse -msse2 -mstackrealign -c dexus.cpp -o dexus.o
dexus.cpp: In function 'SEXPREC* dexus_impl(SEXP, SEXP, SEXP, SEXP, SEXP, SEXP, SEXP, SEXP, SEXP, SEXP, int*, SEXP, SEXP, SEXP)':
dexus.cpp:193:15: warning: unused variable 'DEFAULT_R' [-Wunused-variable]
  const double DEFAULT_R = 20; // R value used when re-setting clusters
               ^~~~~~~~~
dexus.cpp: In function 'SEXPREC* dexss_impl(SEXP, SEXP, SEXP, SEXP, SEXP, SEXP, SEXP, SEXP, SEXP, SEXP, int*, SEXP, SEXP, SEXP)':
dexus.cpp:575:15: warning: unused variable 'DEFAULT_R' [-Wunused-variable]
  const double DEFAULT_R = 20; // R value used when re-setting clusters
               ^~~~~~~~~
C:/rtools40/mingw32/bin/g++ -std=gnu++11 -shared -s -static-libgcc -o dexus.dll tmp.def dexus.o -LC:/extsoft/lib/i386 -LC:/extsoft/lib -LC:/Users/BIOCBU~1/BBS-3~1.11-/R/bin/i386 -lR
installing to C:/Users/biocbuild/bbs-3.11-bioc/meat/dexus.buildbin-libdir/00LOCK-dexus/00new/dexus/libs/i386
** R
** data
** inst
** byte-compile and prepare package for lazy loading
** help
*** installing help indices
  converting help for package 'dexus'
    finding HTML links ... done
    DEXUSResult-class                       html  
    DEXUSResult-subset                      html  
    INI                                     html  
    INIThreshold-set                        html  
    accessors                               html  
    countsBottomly                          html  
    countsGilad                             html  
    countsLi                                html  
    countsMontgomery                        html  
    countsPickrell                          html  
    dexss                                   html  
    dexus                                   html  
    dexus.parallel                          html  
    getSizeNB                               html  
    normalizeData                           html  
    plot                                    html  
    sort                                    html  
** building package indices
** installing vignettes
** testing if installed package can be loaded from temporary location
** testing if installed package can be loaded from final location
** testing if installed package keeps a record of temporary installation path
install for x64
* installing *source* package 'dexus' ...
** libs
"C:/rtools40/mingw64/bin/"g++ -std=gnu++11  -I"C:/Users/BIOCBU~1/BBS-3~1.11-/R/include" -DNDEBUG     -I"C:/extsoft/include"     -O2 -Wall  -mfpmath=sse -msse2 -mstackrealign -c dexus.cpp -o dexus.o
dexus.cpp: In function 'SEXPREC* dexus_impl(SEXP, SEXP, SEXP, SEXP, SEXP, SEXP, SEXP, SEXP, SEXP, SEXP, int*, SEXP, SEXP, SEXP)':
dexus.cpp:193:15: warning: unused variable 'DEFAULT_R' [-Wunused-variable]
  const double DEFAULT_R = 20; // R value used when re-setting clusters
               ^~~~~~~~~
dexus.cpp: In function 'SEXPREC* dexss_impl(SEXP, SEXP, SEXP, SEXP, SEXP, SEXP, SEXP, SEXP, SEXP, SEXP, int*, SEXP, SEXP, SEXP)':
dexus.cpp:575:15: warning: unused variable 'DEFAULT_R' [-Wunused-variable]
  const double DEFAULT_R = 20; // R value used when re-setting clusters
               ^~~~~~~~~
C:/rtools40/mingw64/bin/g++ -std=gnu++11 -shared -s -static-libgcc -o dexus.dll tmp.def dexus.o -LC:/extsoft/lib/x64 -LC:/extsoft/lib -LC:/Users/BIOCBU~1/BBS-3~1.11-/R/bin/x64 -lR
installing to C:/Users/biocbuild/bbs-3.11-bioc/meat/dexus.buildbin-libdir/dexus/libs/x64
** testing if installed package can be loaded
* MD5 sums
packaged installation of 'dexus' as dexus_1.28.0.zip
* DONE (dexus)
* installing to library 'C:/Users/biocbuild/bbs-3.11-bioc/R/library'
package 'dexus' successfully unpacked and MD5 sums checked