| Back to Multiple platform build/check report for BioC 3.11 |
|
This page was generated on 2020-10-17 11:56:25 -0400 (Sat, 17 Oct 2020).
| TO THE DEVELOPERS/MAINTAINERS OF THE ddCt PACKAGE: Please make sure to use the following settings in order to reproduce any error or warning you see on this page. |
| Package 427/1905 | Hostname | OS / Arch | INSTALL | BUILD | CHECK | BUILD BIN | ||||||
| ddCt 1.44.0 Jitao David Zhang
| malbec2 | Linux (Ubuntu 18.04.4 LTS) / x86_64 | OK | OK | OK | |||||||
| tokay2 | Windows Server 2012 R2 Standard / x64 | OK | OK | OK | [ OK ] | |||||||
| machv2 | macOS 10.14.6 Mojave / x86_64 | OK | OK | OK | OK |
| Package: ddCt |
| Version: 1.44.0 |
| Command: rm -rf ddCt.buildbin-libdir && mkdir ddCt.buildbin-libdir && C:\Users\biocbuild\bbs-3.11-bioc\R\bin\R.exe CMD INSTALL --merge-multiarch --build --library=ddCt.buildbin-libdir ddCt_1.44.0.tar.gz |
| StartedAt: 2020-10-17 10:16:24 -0400 (Sat, 17 Oct 2020) |
| EndedAt: 2020-10-17 10:16:55 -0400 (Sat, 17 Oct 2020) |
| EllapsedTime: 30.6 seconds |
| RetCode: 0 |
| Status: OK |
| PackageFile: ddCt_1.44.0.zip |
| PackageFileSize: 1.166 MiB |
##############################################################################
##############################################################################
###
### Running command:
###
### rm -rf ddCt.buildbin-libdir && mkdir ddCt.buildbin-libdir && C:\Users\biocbuild\bbs-3.11-bioc\R\bin\R.exe CMD INSTALL --merge-multiarch --build --library=ddCt.buildbin-libdir ddCt_1.44.0.tar.gz
###
##############################################################################
##############################################################################
install for i386
* installing *source* package 'ddCt' ...
** using staged installation
** R
** inst
** byte-compile and prepare package for lazy loading
** help
*** installing help indices
converting help for package 'ddCt'
finding HTML links ... done
InputFrame html
InputReader-class html
QuantStudioFrame html
SDMFrame-class html
SDMFrame html
barploterrbar html
ddCtAbsolute html
finding level-2 HTML links ... done
ddCtExpression-class html
ddCtExpression-methods html
elistWrite-methods html
errBarchart-methods html
errBarchartParameter-class html
getDir html
removeNTC-methods html
replaceVectorByEquality html
write.htmltable html
writeSimpleTabCsv html
** building package indices
** installing vignettes
** testing if installed package can be loaded from temporary location
** testing if installed package can be loaded from final location
** testing if installed package keeps a record of temporary installation path
install for x64
* installing *source* package 'ddCt' ...
** testing if installed package can be loaded
* MD5 sums
packaged installation of 'ddCt' as ddCt_1.44.0.zip
* DONE (ddCt)